BEGIN:VCALENDAR
VERSION:2.0
PRODID:-//Nativity Lutheran Church - ECPv6.15.20//NONSGML v1.0//EN
CALSCALE:GREGORIAN
METHOD:PUBLISH
X-ORIGINAL-URL:https://www.nlcww.org
X-WR-CALDESC:Events for Nativity Lutheran Church
REFRESH-INTERVAL;VALUE=DURATION:PT1H
X-Robots-Tag:noindex
X-PUBLISHED-TTL:PT1H
BEGIN:VTIMEZONE
TZID:America/Los_Angeles
BEGIN:DAYLIGHT
TZOFFSETFROM:-0800
TZOFFSETTO:-0700
TZNAME:PDT
DTSTART:20160313T100000
END:DAYLIGHT
BEGIN:STANDARD
TZOFFSETFROM:-0700
TZOFFSETTO:-0800
TZNAME:PST
DTSTART:20161106T090000
END:STANDARD
BEGIN:DAYLIGHT
TZOFFSETFROM:-0800
TZOFFSETTO:-0700
TZNAME:PDT
DTSTART:20170312T100000
END:DAYLIGHT
BEGIN:STANDARD
TZOFFSETFROM:-0700
TZOFFSETTO:-0800
TZNAME:PST
DTSTART:20171105T090000
END:STANDARD
BEGIN:DAYLIGHT
TZOFFSETFROM:-0800
TZOFFSETTO:-0700
TZNAME:PDT
DTSTART:20180311T100000
END:DAYLIGHT
BEGIN:STANDARD
TZOFFSETFROM:-0700
TZOFFSETTO:-0800
TZNAME:PST
DTSTART:20181104T090000
END:STANDARD
BEGIN:DAYLIGHT
TZOFFSETFROM:-0800
TZOFFSETTO:-0700
TZNAME:PDT
DTSTART:20190310T100000
END:DAYLIGHT
BEGIN:STANDARD
TZOFFSETFROM:-0700
TZOFFSETTO:-0800
TZNAME:PST
DTSTART:20191103T090000
END:STANDARD
END:VTIMEZONE
BEGIN:VEVENT
DTSTART;TZID=America/Los_Angeles:20171219T180000
DTEND;TZID=America/Los_Angeles:20171219T193000
DTSTAMP:20260421T220432
CREATED:20171212T122759Z
LAST-MODIFIED:20171212T122759Z
UID:6833-1513706400-1513711800@www.nlcww.org
SUMMARY:Brownies
DESCRIPTION:
URL:https://www.nlcww.org/event/brownies-3/
LOCATION:Al Lien Hall
END:VEVENT
BEGIN:VEVENT
DTSTART;TZID=America/Los_Angeles:20171219T183000
DTEND;TZID=America/Los_Angeles:20171219T193000
DTSTAMP:20260421T220432
CREATED:20171130T115339Z
LAST-MODIFIED:20171130T115339Z
UID:6713-1513708200-1513711800@www.nlcww.org
SUMMARY:Nativity Ringers - NO Bells
DESCRIPTION:There will be no practice tonight.
URL:https://www.nlcww.org/event/nativity-ringers-no-bells/
END:VEVENT
BEGIN:VEVENT
DTSTART;TZID=America/Los_Angeles:20171219T183000
DTEND;TZID=America/Los_Angeles:20171219T193000
DTSTAMP:20260421T220432
CREATED:20171212T122830Z
LAST-MODIFIED:20171212T122830Z
UID:6835-1513708200-1513711800@www.nlcww.org
SUMMARY:Daisies
DESCRIPTION:
URL:https://www.nlcww.org/event/daisies-11/
END:VEVENT
BEGIN:VEVENT
DTSTART;TZID=America/Los_Angeles:20171220T100000
DTEND;TZID=America/Los_Angeles:20171220T120000
DTSTAMP:20260421T220432
CREATED:20171126T203018Z
LAST-MODIFIED:20171126T203018Z
UID:6607-1513764000-1513771200@www.nlcww.org
SUMMARY:Decorate the Church
DESCRIPTION:Join us as we prepare the sanctuary for the celebration of Jesus’ birth.
URL:https://www.nlcww.org/event/decorate-the-church/
LOCATION:Sanctuary
END:VEVENT
BEGIN:VEVENT
DTSTART;TZID=America/Los_Angeles:20171220T150000
DTEND;TZID=America/Los_Angeles:20171220T163000
DTSTAMP:20260421T220432
CREATED:20171206T124758Z
LAST-MODIFIED:20171206T124758Z
UID:6766-1513782000-1513787400@www.nlcww.org
SUMMARY:Communication Team
DESCRIPTION:
URL:https://www.nlcww.org/event/communication-team-6/
LOCATION:Library
END:VEVENT
BEGIN:VEVENT
DTSTART;TZID=America/Los_Angeles:20171220T180000
DTEND;TZID=America/Los_Angeles:20171220T193000
DTSTAMP:20260421T220432
CREATED:20171212T122906Z
LAST-MODIFIED:20171212T122906Z
UID:6837-1513792800-1513798200@www.nlcww.org
SUMMARY:Cub Scouts
DESCRIPTION:
URL:https://www.nlcww.org/event/cub-scouts-14/
END:VEVENT
BEGIN:VEVENT
DTSTART;TZID=America/Los_Angeles:20171220T180000
DTEND;TZID=America/Los_Angeles:20171220T200000
DTSTAMP:20260421T220432
CREATED:20171107T122228Z
LAST-MODIFIED:20171107T122228Z
UID:6376-1513792800-1513800000@www.nlcww.org
SUMMARY:Longest Night Worship
DESCRIPTION:On Wednesday\, December 20\, we invite all those who recognize that Christmas brings more than joy but also anxiety\, hopelessness\, doubt\, emptiness\, loneliness to gather to recognize one of the Longest nights of the year—when there is far more darkness than daylight.  We remember the darkness in our lives—the losses\, the hurts\, the unmet needs—and we celebrate the Hope that the Birth of Christ brings and find healing within it.  We celebrate the Hope of Christ’s presence in our lives.  We celebrate the Hope that comes into our darkness in the form of a newborn baby.\nThis service includes times of lament\, times of silence\, times to reflect\, and times of healing. \nRefreshments will follow the service. This service is a gift to the community. There is no charge. \n  \n 
URL:https://www.nlcww.org/event/longest-night-worship/
LOCATION:Sanctuary
END:VEVENT
BEGIN:VEVENT
DTSTART;TZID=America/Los_Angeles:20171221T090000
DTEND;TZID=America/Los_Angeles:20171221T110000
DTSTAMP:20260421T220432
CREATED:20171212T121700Z
LAST-MODIFIED:20171212T121700Z
UID:6815-1513846800-1513854000@www.nlcww.org
SUMMARY:TOPS
DESCRIPTION:
URL:https://www.nlcww.org/event/tops-27/
LOCATION:Winemiller Hall\, 6363 Commercial Way\, Weeki Wachee\, FL\, 34613
END:VEVENT
BEGIN:VEVENT
DTSTART;TZID=America/Los_Angeles:20171222T073000
DTEND;TZID=America/Los_Angeles:20171222T090000
DTSTAMP:20260421T220433
CREATED:20171108T165210Z
LAST-MODIFIED:20171108T165210Z
UID:6428-1513927800-1513933200@www.nlcww.org
SUMMARY:Folders
DESCRIPTION:
URL:https://www.nlcww.org/event/folders-18/
LOCATION:Library
END:VEVENT
BEGIN:VEVENT
DTSTART;TZID=America/Los_Angeles:20171222T090000
DTEND;TZID=America/Los_Angeles:20171222T110000
DTSTAMP:20260421T220433
CREATED:20171212T121734Z
LAST-MODIFIED:20171212T121734Z
UID:6817-1513933200-1513940400@www.nlcww.org
SUMMARY:TOPS
DESCRIPTION:
URL:https://www.nlcww.org/event/tops-28/
LOCATION:Winemiller Hall\, 6363 Commercial Way\, Weeki Wachee\, FL\, 34613
END:VEVENT
BEGIN:VEVENT
DTSTART;TZID=America/Los_Angeles:20171222T090000
DTEND;TZID=America/Los_Angeles:20171222T110000
DTSTAMP:20260421T220433
CREATED:20171212T122938Z
LAST-MODIFIED:20171212T122938Z
UID:6839-1513933200-1513940400@www.nlcww.org
SUMMARY:Crafty Ladies
DESCRIPTION:
URL:https://www.nlcww.org/event/crafty-ladies-15/
LOCATION:Al Lien Hall
END:VEVENT
BEGIN:VEVENT
DTSTART;TZID=America/Los_Angeles:20171222T183000
DTEND;TZID=America/Los_Angeles:20171222T193000
DTSTAMP:20260421T220433
CREATED:20171212T123019Z
LAST-MODIFIED:20171212T123019Z
UID:6841-1513967400-1513971000@www.nlcww.org
SUMMARY:Daisies
DESCRIPTION:
URL:https://www.nlcww.org/event/daisies-12/
END:VEVENT
BEGIN:VEVENT
DTSTART;TZID=America/Los_Angeles:20171222T183000
DTEND;TZID=America/Los_Angeles:20171222T193000
DTSTAMP:20260421T220433
CREATED:20171212T123050Z
LAST-MODIFIED:20171212T123050Z
UID:6843-1513967400-1513971000@www.nlcww.org
SUMMARY:Brownies
DESCRIPTION:
URL:https://www.nlcww.org/event/brownies-4/
END:VEVENT
BEGIN:VEVENT
DTSTART;VALUE=DATE:20171225
DTEND;VALUE=DATE:20171226
DTSTAMP:20260421T220433
CREATED:20171212T122349Z
LAST-MODIFIED:20171212T122349Z
UID:6825-1514160000-1514246399@www.nlcww.org
SUMMARY:Office Closed
DESCRIPTION:
URL:https://www.nlcww.org/event/office-closed-2/
END:VEVENT
BEGIN:VEVENT
DTSTART;VALUE=DATE:20171226
DTEND;VALUE=DATE:20171227
DTSTAMP:20260421T220433
CREATED:20171212T122414Z
LAST-MODIFIED:20171212T122414Z
UID:6827-1514246400-1514332799@www.nlcww.org
SUMMARY:Office Closed
DESCRIPTION:
URL:https://www.nlcww.org/event/office-closed-3/
END:VEVENT
BEGIN:VEVENT
DTSTART;TZID=America/Los_Angeles:20171226T183000
DTEND;TZID=America/Los_Angeles:20171226T193000
DTSTAMP:20260421T220433
CREATED:20171130T115417Z
LAST-MODIFIED:20171130T115417Z
UID:6715-1514313000-1514316600@www.nlcww.org
SUMMARY:Nativity Ringers - NO Bells
DESCRIPTION:There will be no practice tonight.
URL:https://www.nlcww.org/event/nativity-ringers-no-bells-2/
END:VEVENT
BEGIN:VEVENT
DTSTART;TZID=America/Los_Angeles:20171228T090000
DTEND;TZID=America/Los_Angeles:20171228T110000
DTSTAMP:20260421T220433
CREATED:20171212T121812Z
LAST-MODIFIED:20171212T121812Z
UID:6819-1514451600-1514458800@www.nlcww.org
SUMMARY:TOPS
DESCRIPTION:
URL:https://www.nlcww.org/event/tops-29/
LOCATION:Winemiller Hall\, 6363 Commercial Way\, Weeki Wachee\, FL\, 34613
END:VEVENT
BEGIN:VEVENT
DTSTART;TZID=America/Los_Angeles:20171229T073000
DTEND;TZID=America/Los_Angeles:20171229T090000
DTSTAMP:20260421T220433
CREATED:20171108T165319Z
LAST-MODIFIED:20171108T165319Z
UID:6430-1514532600-1514538000@www.nlcww.org
SUMMARY:Folders
DESCRIPTION:
URL:https://www.nlcww.org/event/folders-19/
END:VEVENT
BEGIN:VEVENT
DTSTART;TZID=America/Los_Angeles:20171229T090000
DTEND;TZID=America/Los_Angeles:20171229T110000
DTSTAMP:20260421T220433
CREATED:20171212T121844Z
LAST-MODIFIED:20171212T121844Z
UID:6821-1514538000-1514545200@www.nlcww.org
SUMMARY:TOPS
DESCRIPTION:
URL:https://www.nlcww.org/event/tops-30/
LOCATION:Winemiller Hall\, 6363 Commercial Way\, Weeki Wachee\, FL\, 34613
END:VEVENT
BEGIN:VEVENT
DTSTART;TZID=America/Los_Angeles:20171229T090000
DTEND;TZID=America/Los_Angeles:20171229T110000
DTSTAMP:20260421T220433
CREATED:20171212T123118Z
LAST-MODIFIED:20171212T123118Z
UID:6845-1514538000-1514545200@www.nlcww.org
SUMMARY:Crafty Ladies
DESCRIPTION:
URL:https://www.nlcww.org/event/crafty-ladies-16/
LOCATION:Al Lien Hall
END:VEVENT
BEGIN:VEVENT
DTSTART;TZID=America/Los_Angeles:20180102T183000
DTEND;TZID=America/Los_Angeles:20180102T193000
DTSTAMP:20260421T220433
CREATED:20171130T115455Z
LAST-MODIFIED:20171204T115534Z
UID:6717-1514917800-1514921400@www.nlcww.org
SUMMARY:Nativity Ringers-NO BELLS
DESCRIPTION:Due to Epiphany being on January 6th\, our bell tables will not be set back up in time to practice on January 2. \nWe will resume Tuesday night practices on January 9th.
URL:https://www.nlcww.org/event/nativity-ringers-12/
LOCATION:Sanctuary
ORGANIZER;CN="Jane Henkel":MAILTO:jane.henkel@nlcww.org
END:VEVENT
BEGIN:VEVENT
DTSTART;TZID=America/Los_Angeles:20180109T100000
DTEND;TZID=America/Los_Angeles:20180109T103000
DTSTAMP:20260421T220433
CREATED:20171218T181823Z
LAST-MODIFIED:20171218T181823Z
UID:6874-1515492000-1515493800@www.nlcww.org
SUMMARY:Bible Study - 7 Habits of Jesus
DESCRIPTION:The eighteen-month long daytime group of the book study of 7 & Habits of Jesus will begin January 9\, 2018 at 10 am. This group currently has 8 members but is open to anyone who wishes to join. Each month\, the group will read a chapter from the book and get together to discuss. In addition\, one-on-one study buddies and monthly social outings will be finalized at the first meeting. \nQuestions: email Pastor Mattei.
URL:https://www.nlcww.org/event/bible-study-7-habits-of-jesus/
LOCATION:Library
END:VEVENT
BEGIN:VEVENT
DTSTART;TZID=America/Los_Angeles:20180109T103000
DTEND;TZID=America/Los_Angeles:20180109T113000
DTSTAMP:20260421T220433
CREATED:20171126T203809Z
LAST-MODIFIED:20171126T203809Z
UID:6615-1515493800-1515497400@www.nlcww.org
SUMMARY:Fellowship
DESCRIPTION:
URL:https://www.nlcww.org/event/fellowship-3/
END:VEVENT
BEGIN:VEVENT
DTSTART;TZID=America/Los_Angeles:20180109T150000
DTEND;TZID=America/Los_Angeles:20180109T160000
DTSTAMP:20260421T220433
CREATED:20171216T151703Z
LAST-MODIFIED:20171216T151703Z
UID:6869-1515510000-1515513600@www.nlcww.org
SUMMARY:Finance
DESCRIPTION:
URL:https://www.nlcww.org/event/finance-5/
LOCATION:Library
END:VEVENT
BEGIN:VEVENT
DTSTART;TZID=America/Los_Angeles:20180109T160000
DTEND;TZID=America/Los_Angeles:20180109T170000
DTSTAMP:20260421T220433
CREATED:20171216T151735Z
LAST-MODIFIED:20171216T151735Z
UID:6871-1515513600-1515517200@www.nlcww.org
SUMMARY:Executive
DESCRIPTION:
URL:https://www.nlcww.org/event/executive-2/
LOCATION:Library
END:VEVENT
BEGIN:VEVENT
DTSTART;TZID=America/Los_Angeles:20180109T183000
DTEND;TZID=America/Los_Angeles:20180109T193000
DTSTAMP:20260421T220433
CREATED:20171204T115608Z
LAST-MODIFIED:20171204T115608Z
UID:6726-1515522600-1515526200@www.nlcww.org
SUMMARY:Nativity Ringers
DESCRIPTION:
URL:https://www.nlcww.org/event/nativity-ringers-13/
LOCATION:Sanctuary
ORGANIZER;CN="Jane Henkel":MAILTO:jane.henkel@nlcww.org
END:VEVENT
BEGIN:VEVENT
DTSTART;TZID=America/Los_Angeles:20180111T123000
DTEND;TZID=America/Los_Angeles:20180111T140000
DTSTAMP:20260421T220433
CREATED:20171218T182149Z
LAST-MODIFIED:20171218T182149Z
UID:6876-1515673800-1515679200@www.nlcww.org
SUMMARY:Mary Joy Circle
DESCRIPTION:We will meet on Thursday\, January 11\, 2018 at 12:30.  Refreshments will be served by Louise Weyen and Diane Zabel.  Bible Study will be from “Gather Magazine.”  Facilitator will be Rosie Rosten.  Join us for the beginning of a new Bible Study and the beginning of a New Year 2018.\n \nBox Tops-For years Nativity Women have been collecting box tops.  We want to encourage everyone to save these box tops.  They are given to Homosassa Elementary School where Donna Olsen teaches music.  Boxes are provided in the narthex for your collection.
URL:https://www.nlcww.org/event/mary-joy-circle-5/
END:VEVENT
BEGIN:VEVENT
DTSTART;TZID=America/Los_Angeles:20180113T100000
DTEND;TZID=America/Los_Angeles:20180113T120000
DTSTAMP:20260421T220433
CREATED:20171204T124334Z
LAST-MODIFIED:20171204T124334Z
UID:6742-1515837600-1515844800@www.nlcww.org
SUMMARY:Pastor Wee Memorial Service
DESCRIPTION:Memorial service will be at 11am with visitation one hour prior.\n \nPastor Kris requested that memorial donations be made to People Helping People at www.phpinhc.org/donate (PO Box 6182\, Spring Hill\, FL 34611) or Memorial Lutheran Church of Afton\, MN (15730 Afton Blvd\, Afton\, MN 55001). 
URL:https://www.nlcww.org/event/pastor-wee-memorial-service/
LOCATION:Sanctuary
END:VEVENT
BEGIN:VEVENT
DTSTART;TZID=America/Los_Angeles:20180114T094500
DTEND;TZID=America/Los_Angeles:20180114T104500
DTSTAMP:20260421T220433
CREATED:20171115T121559Z
LAST-MODIFIED:20171206T164248Z
UID:6503-1515923100-1515926700@www.nlcww.org
SUMMARY:Congregation Meeting 2018
DESCRIPTION:Presentation of annual report.
URL:https://www.nlcww.org/event/congregation-meeting-2018/
LOCATION:Winemiller Hall\, 6363 Commercial Way\, Weeki Wachee\, FL\, 34613
END:VEVENT
BEGIN:VEVENT
DTSTART;TZID=America/Los_Angeles:20180115T190000
DTEND;TZID=America/Los_Angeles:20180115T203000
DTSTAMP:20260421T220433
CREATED:20171216T151631Z
LAST-MODIFIED:20171216T151631Z
UID:6867-1516042800-1516048200@www.nlcww.org
SUMMARY:Council Meeting
DESCRIPTION:
URL:https://www.nlcww.org/event/council-meeting-4/
LOCATION:Library
END:VEVENT
END:VCALENDAR