BEGIN:VCALENDAR
VERSION:2.0
PRODID:-//Nativity Lutheran Church - ECPv6.15.20//NONSGML v1.0//EN
CALSCALE:GREGORIAN
METHOD:PUBLISH
X-WR-CALNAME:Nativity Lutheran Church
X-ORIGINAL-URL:https://www.nlcww.org
X-WR-CALDESC:Events for Nativity Lutheran Church
REFRESH-INTERVAL;VALUE=DURATION:PT1H
X-Robots-Tag:noindex
X-PUBLISHED-TTL:PT1H
BEGIN:VTIMEZONE
TZID:America/Los_Angeles
BEGIN:DAYLIGHT
TZOFFSETFROM:-0800
TZOFFSETTO:-0700
TZNAME:PDT
DTSTART:20160313T100000
END:DAYLIGHT
BEGIN:STANDARD
TZOFFSETFROM:-0700
TZOFFSETTO:-0800
TZNAME:PST
DTSTART:20161106T090000
END:STANDARD
BEGIN:DAYLIGHT
TZOFFSETFROM:-0800
TZOFFSETTO:-0700
TZNAME:PDT
DTSTART:20170312T100000
END:DAYLIGHT
BEGIN:STANDARD
TZOFFSETFROM:-0700
TZOFFSETTO:-0800
TZNAME:PST
DTSTART:20171105T090000
END:STANDARD
BEGIN:DAYLIGHT
TZOFFSETFROM:-0800
TZOFFSETTO:-0700
TZNAME:PDT
DTSTART:20180311T100000
END:DAYLIGHT
BEGIN:STANDARD
TZOFFSETFROM:-0700
TZOFFSETTO:-0800
TZNAME:PST
DTSTART:20181104T090000
END:STANDARD
END:VTIMEZONE
BEGIN:VEVENT
DTSTART;TZID=America/Los_Angeles:20171209T113000
DTEND;TZID=America/Los_Angeles:20171209T143000
DTSTAMP:20260421T195515
CREATED:20170921T180841Z
LAST-MODIFIED:20171101T121650Z
UID:5976-1512819000-1512829800@www.nlcww.org
SUMMARY:Show Palace Matinee
DESCRIPTION:This is SOLD OUT.\n \n \nMusic brings the Rudolph family together in the Show Palace’s A Doo Wop Christmas. This new production is sure to warm your heart with an original story set to the tune of doo wop holiday favorites and Christmas classics. Join the Rudolphs as they sing Christmas carols around the fireplace\, share a chaotic family dinner\, time hop back to when the sounds of doo wop rang out on the radio\, and make it back just in time for midnight mass. Grab your favorite Christmas sweater\, pack your family into the minivan\, and get into the bop shoo bop holiday spirit at the Show Palace this winter.
URL:https://www.nlcww.org/event/show-palace-matinee/
LOCATION:Show Palace\, 16128 US Hwy 19\, Hudson\, FL\, 34667\, United States
END:VEVENT
BEGIN:VEVENT
DTSTART;TZID=America/Los_Angeles:20171209T130000
DTEND;TZID=America/Los_Angeles:20171209T150000
DTSTAMP:20260421T195515
CREATED:20171115T170350Z
LAST-MODIFIED:20171115T170350Z
UID:6536-1512824400-1512831600@www.nlcww.org
SUMMARY:Angel Tree Party
DESCRIPTION:
URL:https://www.nlcww.org/event/angel-tree-party/
LOCATION:Al Lien Hall
END:VEVENT
BEGIN:VEVENT
DTSTART;TZID=America/Los_Angeles:20171209T173000
DTEND;TZID=America/Los_Angeles:20171209T210000
DTSTAMP:20260421T195515
CREATED:20171129T170813Z
LAST-MODIFIED:20171129T170813Z
UID:6690-1512840600-1512853200@www.nlcww.org
SUMMARY:AA
DESCRIPTION:
URL:https://www.nlcww.org/event/aa-4/
LOCATION:Winemiller Hall\, 6363 Commercial Way\, Weeki Wachee\, FL\, 34613
END:VEVENT
BEGIN:VEVENT
DTSTART;TZID=America/Los_Angeles:20171210T083000
DTEND;TZID=America/Los_Angeles:20171210T093000
DTSTAMP:20260421T195515
CREATED:20171106T190820Z
LAST-MODIFIED:20171106T190820Z
UID:6357-1512894600-1512898200@www.nlcww.org
SUMMARY:Worship
DESCRIPTION:
URL:https://www.nlcww.org/event/worship-22/
LOCATION:Sanctuary
END:VEVENT
BEGIN:VEVENT
DTSTART;TZID=America/Los_Angeles:20171210T094500
DTEND;TZID=America/Los_Angeles:20171210T104500
DTSTAMP:20260421T195515
CREATED:20171115T120752Z
LAST-MODIFIED:20171115T120752Z
UID:6493-1512899100-1512902700@www.nlcww.org
SUMMARY:Congregational Meeting
DESCRIPTION:Please join us between services to vote on the 2018 budget and vote for Council Members.
URL:https://www.nlcww.org/event/congregational-meeting/
LOCATION:Winemiller Hall\, 6363 Commercial Way\, Weeki Wachee\, FL\, 34613
END:VEVENT
BEGIN:VEVENT
DTSTART;TZID=America/Los_Angeles:20171210T110000
DTEND;TZID=America/Los_Angeles:20171210T121500
DTSTAMP:20260421T195515
CREATED:20171106T190921Z
LAST-MODIFIED:20171106T190921Z
UID:6359-1512903600-1512908100@www.nlcww.org
SUMMARY:Worship
DESCRIPTION:
URL:https://www.nlcww.org/event/worship-23/
LOCATION:Sanctuary
END:VEVENT
BEGIN:VEVENT
DTSTART;TZID=America/Los_Angeles:20171212T160000
DTEND;TZID=America/Los_Angeles:20171212T170000
DTSTAMP:20260421T195515
CREATED:20171212T120437Z
LAST-MODIFIED:20171212T120437Z
UID:6797-1513094400-1513098000@www.nlcww.org
SUMMARY:Finance
DESCRIPTION:
URL:https://www.nlcww.org/event/finance-4/
LOCATION:Library
END:VEVENT
BEGIN:VEVENT
DTSTART;TZID=America/Los_Angeles:20171212T170000
DTEND;TZID=America/Los_Angeles:20171212T180000
DTSTAMP:20260421T195515
CREATED:20171212T120540Z
LAST-MODIFIED:20171212T120540Z
UID:6799-1513098000-1513101600@www.nlcww.org
SUMMARY:Executive Committee
DESCRIPTION:
URL:https://www.nlcww.org/event/executive-committee-2/
LOCATION:Library
END:VEVENT
BEGIN:VEVENT
DTSTART;TZID=America/Los_Angeles:20171212T180000
DTEND;TZID=America/Los_Angeles:20171212T193000
DTSTAMP:20260421T195515
CREATED:20171212T120608Z
LAST-MODIFIED:20171212T120608Z
UID:6801-1513101600-1513107000@www.nlcww.org
SUMMARY:Girl Scouts
DESCRIPTION:
URL:https://www.nlcww.org/event/girl-scouts-13/
LOCATION:Al Lien Hall
END:VEVENT
BEGIN:VEVENT
DTSTART;TZID=America/Los_Angeles:20171212T183000
DTEND;TZID=America/Los_Angeles:20171212T193000
DTSTAMP:20260421T195515
CREATED:20171106T184139Z
LAST-MODIFIED:20171130T115251Z
UID:6313-1513103400-1513107000@www.nlcww.org
SUMMARY:Nativity Ringers - NO Bells
DESCRIPTION:There will be no practice today.
URL:https://www.nlcww.org/event/nativity-ringers-11/
LOCATION:Sanctuary
ORGANIZER;CN="Jane Henkel":MAILTO:jane.henkel@nlcww.org
END:VEVENT
BEGIN:VEVENT
DTSTART;TZID=America/Los_Angeles:20171212T183000
DTEND;TZID=America/Los_Angeles:20171212T193000
DTSTAMP:20260421T195515
CREATED:20171212T120635Z
LAST-MODIFIED:20171212T120635Z
UID:6803-1513103400-1513107000@www.nlcww.org
SUMMARY:Daisies
DESCRIPTION:
URL:https://www.nlcww.org/event/daisies-9/
END:VEVENT
BEGIN:VEVENT
DTSTART;TZID=America/Los_Angeles:20171213T100000
DTEND;TZID=America/Los_Angeles:20171213T140000
DTSTAMP:20260421T195515
CREATED:20171204T124845Z
LAST-MODIFIED:20171212T120149Z
UID:6744-1513159200-1513173600@www.nlcww.org
SUMMARY:Memorial Service for Tom Kestleloot
DESCRIPTION:There will be a memorial service at 10am at Nativity.  The family will travel to Bushnell and a luncheon will be held at 1pm at Nativity in Al Lien Hall.
URL:https://www.nlcww.org/event/memorial-service-for-tom-kestleloot/
LOCATION:Sanctuary
END:VEVENT
BEGIN:VEVENT
DTSTART;TZID=America/Los_Angeles:20171213T123000
DTEND;TZID=America/Los_Angeles:20171213T150000
DTSTAMP:20260421T195515
CREATED:20171114T112314Z
LAST-MODIFIED:20171114T112314Z
UID:6489-1513168200-1513177200@www.nlcww.org
SUMMARY:Cards R Us
DESCRIPTION:Cards R Us will meet on December 13\, 12:30-3:00pm\, to make greeting cards out of your donated\, used cards.\n We are recycling for a cause\, as 100 percent of the profit is given to Pastor’s Discretionary Fund to help people in need.   A huge “thank you” to those of you who are donating $ for our finished cards\, those of you who make the cards\, and those who donate their used greeting cards.  
URL:https://www.nlcww.org/event/cards-r-us-10/
LOCATION:Winemiller Hall\, 6363 Commercial Way\, Weeki Wachee\, FL\, 34613
END:VEVENT
BEGIN:VEVENT
DTSTART;TZID=America/Los_Angeles:20171213T163000
DTEND;TZID=America/Los_Angeles:20171213T173000
DTSTAMP:20260421T195515
CREATED:20171115T170439Z
LAST-MODIFIED:20171115T170439Z
UID:6538-1513182600-1513186200@www.nlcww.org
SUMMARY:Worship & Music
DESCRIPTION:
URL:https://www.nlcww.org/event/worship-music-4/
LOCATION:Library
END:VEVENT
BEGIN:VEVENT
DTSTART;TZID=America/Los_Angeles:20171213T180000
DTEND;TZID=America/Los_Angeles:20171213T193000
DTSTAMP:20260421T195515
CREATED:20171108T164512Z
LAST-MODIFIED:20171108T164512Z
UID:6416-1513188000-1513193400@www.nlcww.org
SUMMARY:Choir
DESCRIPTION:
URL:https://www.nlcww.org/event/choir-15/
LOCATION:Sanctuary
END:VEVENT
BEGIN:VEVENT
DTSTART;TZID=America/Los_Angeles:20171213T180000
DTEND;TZID=America/Los_Angeles:20171213T193000
DTSTAMP:20260421T195515
CREATED:20171212T120708Z
LAST-MODIFIED:20171212T120708Z
UID:6805-1513188000-1513193400@www.nlcww.org
SUMMARY:Cub Scouts
DESCRIPTION:
URL:https://www.nlcww.org/event/cub-scouts-13/
END:VEVENT
BEGIN:VEVENT
DTSTART;TZID=America/Los_Angeles:20171214T090000
DTEND;TZID=America/Los_Angeles:20171214T110000
DTSTAMP:20260421T195515
CREATED:20171212T120740Z
LAST-MODIFIED:20171212T120740Z
UID:6807-1513242000-1513249200@www.nlcww.org
SUMMARY:TOPS
DESCRIPTION:
URL:https://www.nlcww.org/event/tops-25/
LOCATION:Winemiller Hall\, 6363 Commercial Way\, Weeki Wachee\, FL\, 34613
END:VEVENT
BEGIN:VEVENT
DTSTART;TZID=America/Los_Angeles:20171214T123000
DTEND;TZID=America/Los_Angeles:20171214T140000
DTSTAMP:20260421T195515
CREATED:20171126T183509Z
LAST-MODIFIED:20171206T124645Z
UID:6601-1513254600-1513260000@www.nlcww.org
SUMMARY:Mary Joy Circle
DESCRIPTION:Bible Study from the December GATHER Magazine.
URL:https://www.nlcww.org/event/mary-joy-circle-4/
END:VEVENT
BEGIN:VEVENT
DTSTART;TZID=America/Los_Angeles:20171215T073000
DTEND;TZID=America/Los_Angeles:20171215T090000
DTSTAMP:20260421T195515
CREATED:20171108T165109Z
LAST-MODIFIED:20171108T165109Z
UID:6426-1513323000-1513328400@www.nlcww.org
SUMMARY:Folders
DESCRIPTION:  \n 
URL:https://www.nlcww.org/event/folders-17/
LOCATION:Library
END:VEVENT
BEGIN:VEVENT
DTSTART;TZID=America/Los_Angeles:20171215T090000
DTEND;TZID=America/Los_Angeles:20171215T110000
DTSTAMP:20260421T195515
CREATED:20171212T120909Z
LAST-MODIFIED:20171212T120909Z
UID:6809-1513328400-1513335600@www.nlcww.org
SUMMARY:TOPS
DESCRIPTION:
URL:https://www.nlcww.org/event/tops-26/
LOCATION:Winemiller Hall\, 6363 Commercial Way\, Weeki Wachee\, FL\, 34613
END:VEVENT
BEGIN:VEVENT
DTSTART;TZID=America/Los_Angeles:20171215T090000
DTEND;TZID=America/Los_Angeles:20171215T120000
DTSTAMP:20260421T195515
CREATED:20171108T164851Z
LAST-MODIFIED:20171108T164851Z
UID:6422-1513328400-1513339200@www.nlcww.org
SUMMARY:Crafty Ladies
DESCRIPTION:
URL:https://www.nlcww.org/event/crafty-ladies-14/
LOCATION:Al Lien Hall
END:VEVENT
BEGIN:VEVENT
DTSTART;TZID=America/Los_Angeles:20171215T170000
DTEND;TZID=America/Los_Angeles:20171215T180000
DTSTAMP:20260421T195515
CREATED:20171212T120952Z
LAST-MODIFIED:20171212T120952Z
UID:6811-1513357200-1513360800@www.nlcww.org
SUMMARY:Daisies
DESCRIPTION:
URL:https://www.nlcww.org/event/daisies-10/
END:VEVENT
BEGIN:VEVENT
DTSTART;TZID=America/Los_Angeles:20171215T183000
DTEND;TZID=America/Los_Angeles:20171215T193000
DTSTAMP:20260421T195515
CREATED:20171212T121037Z
LAST-MODIFIED:20171212T121037Z
UID:6813-1513362600-1513366200@www.nlcww.org
SUMMARY:Brownies
DESCRIPTION:
URL:https://www.nlcww.org/event/brownies-2/
END:VEVENT
BEGIN:VEVENT
DTSTART;TZID=America/Los_Angeles:20171216T150000
DTEND;TZID=America/Los_Angeles:20171216T210000
DTSTAMP:20260421T195515
CREATED:20171115T170615Z
LAST-MODIFIED:20171115T170615Z
UID:6540-1513436400-1513458000@www.nlcww.org
SUMMARY:Private Event
DESCRIPTION:Winemiller Hall will not be available due to a private event being held.
URL:https://www.nlcww.org/event/private-event/
LOCATION:Winemiller Hall\, 6363 Commercial Way\, Weeki Wachee\, FL\, 34613
END:VEVENT
BEGIN:VEVENT
DTSTART;TZID=America/Los_Angeles:20171216T170000
DTEND;TZID=America/Los_Angeles:20171216T200000
DTSTAMP:20260421T195515
CREATED:20171116T112406Z
LAST-MODIFIED:20171116T112406Z
UID:6546-1513443600-1513454400@www.nlcww.org
SUMMARY:Friendship Circle
DESCRIPTION:Friendship Circle members are being invited to Libby and John Capell’s home\, 6460 River Run Blvd\, Weeki Wachee 34607\, for a Christmas dinner on Saturday\, December 16\, at 5:00pm.  Those who can attend are asked to RSVP to 817-266-4372\, bring a side dish to share (please coordinate with Libby)\, and 2 dozen cookies (half for a dessert tray and half for a cookie exchange).  Please park in any non-carport space.  In lieu of exchanging Christmas gifts\, we will take an offering  toward an ELCA Good Gift to purchase a goat or other animal(s); Good Gifts transform lives\, fight hunger and grow the church in 83 countries.     \n 
URL:https://www.nlcww.org/event/friendship-circle-4/
LOCATION:Capell Home\, 6460 River Run Blvd.\, Weeki Wachee\, FL\, 34607\, United States
END:VEVENT
BEGIN:VEVENT
DTSTART;TZID=America/Los_Angeles:20171217T083000
DTEND;TZID=America/Los_Angeles:20171217T123000
DTSTAMP:20260421T195515
CREATED:20170904T142527Z
LAST-MODIFIED:20171107T121828Z
UID:5645-1513499400-1513513800@www.nlcww.org
SUMMARY:Christmas Cantata
DESCRIPTION:Nativity Lutheran Church will present a Choral Christmas Cantata on Sunday\, December 17th at both the 8:30 and 11:00 am services.  This year’s cantata is “Hope!”\, A Gospel Christmas celebration by Joel Raney.  Please join us as we reflect on the promises of hope found in the birth of Christ in this joyful and beautiful celebration.\n 
URL:https://www.nlcww.org/event/christmas-cantata/
LOCATION:Sanctuary
END:VEVENT
BEGIN:VEVENT
DTSTART;TZID=America/Los_Angeles:20171217T094500
DTEND;TZID=America/Los_Angeles:20171217T104500
DTSTAMP:20260421T195515
CREATED:20171115T120931Z
LAST-MODIFIED:20171115T120931Z
UID:6495-1513503900-1513507500@www.nlcww.org
SUMMARY:Adult Forum - 7 Habits of Jesus
DESCRIPTION:We will be reviewing pages 1-40 in the book “The 7 Habits of Jesus.”
URL:https://www.nlcww.org/event/adult-forum-7-habits-of-jesus/
LOCATION:Winemiller Hall\, 6363 Commercial Way\, Weeki Wachee\, FL\, 34613
END:VEVENT
BEGIN:VEVENT
DTSTART;TZID=America/Los_Angeles:20171218T083000
DTEND;TZID=America/Los_Angeles:20171218T100000
DTSTAMP:20260421T195515
CREATED:20171212T122635Z
LAST-MODIFIED:20171212T122635Z
UID:6829-1513585800-1513591200@www.nlcww.org
SUMMARY:Counters
DESCRIPTION:
URL:https://www.nlcww.org/event/counters-12/
END:VEVENT
BEGIN:VEVENT
DTSTART;TZID=America/Los_Angeles:20171218T170000
DTEND;TZID=America/Los_Angeles:20171218T200000
DTSTAMP:20260421T195515
CREATED:20171212T122718Z
LAST-MODIFIED:20171212T122718Z
UID:6831-1513616400-1513627200@www.nlcww.org
SUMMARY:Harmonizers Christmas Party
DESCRIPTION:
URL:https://www.nlcww.org/event/harmonizers-christmas-party/
LOCATION:Winemiller Hall\, 6363 Commercial Way\, Weeki Wachee\, FL\, 34613
END:VEVENT
BEGIN:VEVENT
DTSTART;TZID=America/Los_Angeles:20171219T083000
DTEND;TZID=America/Los_Angeles:20171219T100000
DTSTAMP:20260421T195515
CREATED:20171126T203425Z
LAST-MODIFIED:20171126T203425Z
UID:6611-1513672200-1513677600@www.nlcww.org
SUMMARY:Men's Christmas Gala Breakfast Party
DESCRIPTION:The guys are hosting their annual Christmas breakfast.  Door prizes and gifts for all ladies\, plus great food.
URL:https://www.nlcww.org/event/mens-christmas-gala-breakfast-party/
LOCATION:Perkins\, 4685 Commercial Way\, Spring Hill\, FL\, United States
END:VEVENT
END:VCALENDAR