BEGIN:VCALENDAR
VERSION:2.0
PRODID:-//Nativity Lutheran Church - ECPv6.15.20//NONSGML v1.0//EN
CALSCALE:GREGORIAN
METHOD:PUBLISH
X-WR-CALNAME:Nativity Lutheran Church
X-ORIGINAL-URL:https://www.nlcww.org
X-WR-CALDESC:Events for Nativity Lutheran Church
REFRESH-INTERVAL;VALUE=DURATION:PT1H
X-Robots-Tag:noindex
X-PUBLISHED-TTL:PT1H
BEGIN:VTIMEZONE
TZID:America/Los_Angeles
BEGIN:DAYLIGHT
TZOFFSETFROM:-0800
TZOFFSETTO:-0700
TZNAME:PDT
DTSTART:20160313T100000
END:DAYLIGHT
BEGIN:STANDARD
TZOFFSETFROM:-0700
TZOFFSETTO:-0800
TZNAME:PST
DTSTART:20161106T090000
END:STANDARD
BEGIN:DAYLIGHT
TZOFFSETFROM:-0800
TZOFFSETTO:-0700
TZNAME:PDT
DTSTART:20170312T100000
END:DAYLIGHT
BEGIN:STANDARD
TZOFFSETFROM:-0700
TZOFFSETTO:-0800
TZNAME:PST
DTSTART:20171105T090000
END:STANDARD
BEGIN:DAYLIGHT
TZOFFSETFROM:-0800
TZOFFSETTO:-0700
TZNAME:PDT
DTSTART:20180311T100000
END:DAYLIGHT
BEGIN:STANDARD
TZOFFSETFROM:-0700
TZOFFSETTO:-0800
TZNAME:PST
DTSTART:20181104T090000
END:STANDARD
END:VTIMEZONE
BEGIN:VEVENT
DTSTART;TZID=America/Los_Angeles:20170922T090000
DTEND;TZID=America/Los_Angeles:20170922T110000
DTSTAMP:20260421T214117
CREATED:20170904T144654Z
LAST-MODIFIED:20170904T144654Z
UID:5693-1506070800-1506078000@www.nlcww.org
SUMMARY:TOPS
DESCRIPTION:
URL:https://www.nlcww.org/event/tops-10/
END:VEVENT
BEGIN:VEVENT
DTSTART;TZID=America/Los_Angeles:20170922T090000
DTEND;TZID=America/Los_Angeles:20170922T120000
DTSTAMP:20260421T214117
CREATED:20170904T144914Z
LAST-MODIFIED:20170904T144914Z
UID:5701-1506070800-1506081600@www.nlcww.org
SUMMARY:Crafty Ladies
DESCRIPTION:
URL:https://www.nlcww.org/event/crafty-ladies-4/
LOCATION:Al Lien Hall
END:VEVENT
BEGIN:VEVENT
DTSTART;TZID=America/Los_Angeles:20170923T100000
DTEND;TZID=America/Los_Angeles:20170923T143000
DTSTAMP:20260421T214117
CREATED:20170904T135345Z
LAST-MODIFIED:20170904T135345Z
UID:5617-1506160800-1506177000@www.nlcww.org
SUMMARY:Inquirers Class and Orientation
DESCRIPTION:Interested in becoming a member.  Register for this class by contacting the office at 352-597-1456.  Lunch will e provided.
URL:https://www.nlcww.org/event/inquirers-class-and-orientation/
LOCATION:Al Lien Hall
END:VEVENT
BEGIN:VEVENT
DTSTART;TZID=America/Los_Angeles:20170923T171500
DTEND;TZID=America/Los_Angeles:20170923T200000
DTSTAMP:20260421T214117
CREATED:20170904T140812Z
LAST-MODIFIED:20170904T200349Z
UID:5630-1506186900-1506196800@www.nlcww.org
SUMMARY:Friendship Circle
DESCRIPTION:Enjoy a pot luck meal\, devotions\, a short meeting and the sunset (7:26pm) at Pine Island.  Meet at Nativity at 5:15pm to car pool out to the beach.
URL:https://www.nlcww.org/event/friendship-circle/
END:VEVENT
BEGIN:VEVENT
DTSTART;TZID=America/Los_Angeles:20170924T083000
DTEND;TZID=America/Los_Angeles:20170924T123000
DTSTAMP:20260421T214117
CREATED:20170904T144040Z
LAST-MODIFIED:20170904T144040Z
UID:5676-1506241800-1506256200@www.nlcww.org
SUMMARY:Worship
DESCRIPTION:
URL:https://www.nlcww.org/event/worship-4/
LOCATION:Sanctuary
END:VEVENT
BEGIN:VEVENT
DTSTART;TZID=America/Los_Angeles:20170924T094500
DTEND;TZID=America/Los_Angeles:20170924T104500
DTSTAMP:20260421T214117
CREATED:20170904T144119Z
LAST-MODIFIED:20170904T144119Z
UID:5678-1506246300-1506249900@www.nlcww.org
SUMMARY:Sunday School
DESCRIPTION:
URL:https://www.nlcww.org/event/sunday-school-3/
LOCATION:Al Lien Hall
END:VEVENT
BEGIN:VEVENT
DTSTART;TZID=America/Los_Angeles:20170924T094500
DTEND;TZID=America/Los_Angeles:20170924T104500
DTSTAMP:20260421T214117
CREATED:20170904T144157Z
LAST-MODIFIED:20170904T144157Z
UID:5680-1506246300-1506249900@www.nlcww.org
SUMMARY:Adult Forum
DESCRIPTION:
URL:https://www.nlcww.org/event/adult-forum-3/
LOCATION:Winemiller Hall\, 6363 Commercial Way\, Weeki Wachee\, FL\, 34613
END:VEVENT
BEGIN:VEVENT
DTSTART;TZID=America/Los_Angeles:20170924T101500
DTEND;TZID=America/Los_Angeles:20170924T104500
DTSTAMP:20260421T214117
CREATED:20170904T134854Z
LAST-MODIFIED:20170904T134854Z
UID:5612-1506248100-1506249900@www.nlcww.org
SUMMARY:Usher Meeting
DESCRIPTION:
URL:https://www.nlcww.org/event/usher-meeting/
LOCATION:Sanctuary
END:VEVENT
BEGIN:VEVENT
DTSTART;TZID=America/Los_Angeles:20170925T160000
DTEND;TZID=America/Los_Angeles:20170925T200000
DTSTAMP:20260421T214117
CREATED:20170904T141111Z
LAST-MODIFIED:20170904T141111Z
UID:5632-1506355200-1506369600@www.nlcww.org
SUMMARY:Mystery Dinner
DESCRIPTION:Our kickoff Mystery Dinner.  Meet at church at 4:00pm.  Deposits of $10.00 per person are accepted at Sunday church services.  Only 60 reservations available.  Cancellations accepted only up to September 17.
URL:https://www.nlcww.org/event/mystery-dinner/
END:VEVENT
BEGIN:VEVENT
DTSTART;TZID=America/Los_Angeles:20170925T190000
DTEND;TZID=America/Los_Angeles:20170925T210000
DTSTAMP:20260421T214117
CREATED:20170904T144308Z
LAST-MODIFIED:20170904T144308Z
UID:5684-1506366000-1506373200@www.nlcww.org
SUMMARY:Harmonizers
DESCRIPTION:
URL:https://www.nlcww.org/event/harmonizers-5/
END:VEVENT
BEGIN:VEVENT
DTSTART;TZID=America/Los_Angeles:20170926T143000
DTEND;TZID=America/Los_Angeles:20170926T160000
DTSTAMP:20260421T214117
CREATED:20170619T180715Z
LAST-MODIFIED:20170921T101619Z
UID:4761-1506436200-1506441600@www.nlcww.org
SUMMARY:Council Meeting
DESCRIPTION:
URL:https://www.nlcww.org/event/council-meeting-2/
LOCATION:Library
END:VEVENT
BEGIN:VEVENT
DTSTART;TZID=America/Los_Angeles:20170926T183000
DTEND;TZID=America/Los_Angeles:20170926T200000
DTSTAMP:20260421T214117
CREATED:20170921T122415Z
LAST-MODIFIED:20170921T122415Z
UID:5837-1506450600-1506456000@www.nlcww.org
SUMMARY:Nativity Ringers
DESCRIPTION:
URL:https://www.nlcww.org/event/nativity-ringers/
LOCATION:Sanctuary
END:VEVENT
BEGIN:VEVENT
DTSTART;TZID=America/Los_Angeles:20170927T140000
DTEND;TZID=America/Los_Angeles:20170927T150000
DTSTAMP:20260421T214117
CREATED:20170904T145340Z
LAST-MODIFIED:20170921T122333Z
UID:5715-1506520800-1506524400@www.nlcww.org
SUMMARY:Membership
DESCRIPTION:
URL:https://www.nlcww.org/event/membership/
LOCATION:Library
END:VEVENT
BEGIN:VEVENT
DTSTART;TZID=America/Los_Angeles:20170927T180000
DTEND;TZID=America/Los_Angeles:20170927T193000
DTSTAMP:20260421T214117
CREATED:20170904T145148Z
LAST-MODIFIED:20170904T145148Z
UID:5709-1506535200-1506540600@www.nlcww.org
SUMMARY:Choir
DESCRIPTION:
URL:https://www.nlcww.org/event/choir-4/
LOCATION:Sanctuary
END:VEVENT
BEGIN:VEVENT
DTSTART;TZID=America/Los_Angeles:20170927T180000
DTEND;TZID=America/Los_Angeles:20170927T193000
DTSTAMP:20260421T214117
CREATED:20170904T145251Z
LAST-MODIFIED:20170921T122300Z
UID:5713-1506535200-1506540600@www.nlcww.org
SUMMARY:Cub Scouts
DESCRIPTION:
URL:https://www.nlcww.org/event/cub-scouts-4/
LOCATION:Winemiller Hall\, 6363 Commercial Way\, Weeki Wachee\, FL\, 34613
END:VEVENT
BEGIN:VEVENT
DTSTART;TZID=America/Los_Angeles:20170928T090000
DTEND;TZID=America/Los_Angeles:20170928T110000
DTSTAMP:20260421T214117
CREATED:20170904T144624Z
LAST-MODIFIED:20170904T144624Z
UID:5691-1506589200-1506596400@www.nlcww.org
SUMMARY:TOPS
DESCRIPTION:
URL:https://www.nlcww.org/event/tops-9/
END:VEVENT
BEGIN:VEVENT
DTSTART;TZID=America/Los_Angeles:20170928T120000
DTEND;TZID=America/Los_Angeles:20170928T133000
DTSTAMP:20260421T214117
CREATED:20170921T122745Z
LAST-MODIFIED:20170921T122800Z
UID:5839-1506600000-1506605400@www.nlcww.org
SUMMARY:WON Board
DESCRIPTION:
URL:https://www.nlcww.org/event/won-board/
LOCATION:Library
END:VEVENT
BEGIN:VEVENT
DTSTART;TZID=America/Los_Angeles:20170929T073000
DTEND;TZID=America/Los_Angeles:20170929T090000
DTSTAMP:20260421T214117
CREATED:20170904T144837Z
LAST-MODIFIED:20170921T122838Z
UID:5699-1506670200-1506675600@www.nlcww.org
SUMMARY:Folders
DESCRIPTION:
URL:https://www.nlcww.org/event/folders-6/
LOCATION:Library
END:VEVENT
BEGIN:VEVENT
DTSTART;TZID=America/Los_Angeles:20170929T090000
DTEND;TZID=America/Los_Angeles:20170929T110000
DTSTAMP:20260421T214117
CREATED:20170904T144735Z
LAST-MODIFIED:20170921T122821Z
UID:5695-1506675600-1506682800@www.nlcww.org
SUMMARY:TOPS
DESCRIPTION:
URL:https://www.nlcww.org/event/tops-11/
LOCATION:Winemiller Hall\, 6363 Commercial Way\, Weeki Wachee\, FL\, 34613
END:VEVENT
BEGIN:VEVENT
DTSTART;TZID=America/Los_Angeles:20170929T090000
DTEND;TZID=America/Los_Angeles:20170929T120000
DTSTAMP:20260421T214117
CREATED:20170904T144949Z
LAST-MODIFIED:20170921T122507Z
UID:5703-1506675600-1506686400@www.nlcww.org
SUMMARY:Crafty Ladies
DESCRIPTION:
URL:https://www.nlcww.org/event/crafty-ladies-5/
LOCATION:Al Lien Hall
END:VEVENT
BEGIN:VEVENT
DTSTART;TZID=America/Los_Angeles:20170929T173000
DTEND;TZID=America/Los_Angeles:20170929T190000
DTSTAMP:20260421T214117
CREATED:20170921T122926Z
LAST-MODIFIED:20170921T182137Z
UID:5841-1506706200-1506711600@www.nlcww.org
SUMMARY:Daisy
DESCRIPTION:
URL:https://www.nlcww.org/event/daisy/
LOCATION:Winemiller Hall\, 6363 Commercial Way\, Weeki Wachee\, FL\, 34613
END:VEVENT
BEGIN:VEVENT
DTSTART;TZID=America/Los_Angeles:20171001T083000
DTEND;TZID=America/Los_Angeles:20171001T123000
DTSTAMP:20260421T214117
CREATED:20170904T142006Z
LAST-MODIFIED:20170904T142006Z
UID:5638-1506846600-1506861000@www.nlcww.org
SUMMARY:World Communion Sunday
DESCRIPTION:Flags from around the world will be displayed at both the 8:30 and 11:00 services.  
URL:https://www.nlcww.org/event/world-communion-sunday/
END:VEVENT
BEGIN:VEVENT
DTSTART;TZID=America/Los_Angeles:20171001T094500
DTEND;TZID=America/Los_Angeles:20171001T104500
DTSTAMP:20260421T214117
CREATED:20170921T123147Z
LAST-MODIFIED:20170921T182126Z
UID:5843-1506851100-1506854700@www.nlcww.org
SUMMARY:Sunday School
DESCRIPTION:
URL:https://www.nlcww.org/event/sunday-school-4/
LOCATION:Al Lien Hall
END:VEVENT
BEGIN:VEVENT
DTSTART;TZID=America/Los_Angeles:20171001T094500
DTEND;TZID=America/Los_Angeles:20171001T104500
DTSTAMP:20260421T214117
CREATED:20170921T123237Z
LAST-MODIFIED:20170925T142806Z
UID:5845-1506851100-1506854700@www.nlcww.org
SUMMARY:Adult Forum
DESCRIPTION:Toward Reformation 1000.  \nScience and Religion.  This earth is not alone in the universe.  Luther was wrong.  Copernicus was right.  Understanding evolution…homosexuality…science.
URL:https://www.nlcww.org/event/adult-forum-4/
LOCATION:Winemiller Hall\, 6363 Commercial Way\, Weeki Wachee\, FL\, 34613
END:VEVENT
BEGIN:VEVENT
DTSTART;TZID=America/Los_Angeles:20171001T094500
DTEND;TZID=America/Los_Angeles:20171001T104500
DTSTAMP:20260421T214117
CREATED:20170921T123308Z
LAST-MODIFIED:20170929T165341Z
UID:5847-1506851100-1506854700@www.nlcww.org
SUMMARY:Prayer Ministry
DESCRIPTION:
URL:https://www.nlcww.org/event/prayer-ministry/
LOCATION:Sanctuary
END:VEVENT
BEGIN:VEVENT
DTSTART;TZID=America/Los_Angeles:20171002T083000
DTEND;TZID=America/Los_Angeles:20171002T100000
DTSTAMP:20260421T214117
CREATED:20170921T125438Z
LAST-MODIFIED:20170921T182111Z
UID:5889-1506933000-1506938400@www.nlcww.org
SUMMARY:Counters
DESCRIPTION:
URL:https://www.nlcww.org/event/counters-3/
LOCATION:Library
END:VEVENT
BEGIN:VEVENT
DTSTART;TZID=America/Los_Angeles:20171002T130000
DTEND;TZID=America/Los_Angeles:20171002T150000
DTSTAMP:20260421T214117
CREATED:20171002T145757Z
LAST-MODIFIED:20171002T145757Z
UID:6090-1506949200-1506956400@www.nlcww.org
SUMMARY:Wisconsin Club
DESCRIPTION:
URL:https://www.nlcww.org/event/wisconsin-club-2/
LOCATION:Winemiller Hall\, 6363 Commercial Way\, Weeki Wachee\, FL\, 34613
END:VEVENT
BEGIN:VEVENT
DTSTART;TZID=America/Los_Angeles:20171002T150000
DTEND;TZID=America/Los_Angeles:20171002T160000
DTSTAMP:20260421T214117
CREATED:20170926T195212Z
LAST-MODIFIED:20170926T195212Z
UID:6051-1506956400-1506960000@www.nlcww.org
SUMMARY:Website Training - Administrator
DESCRIPTION:
URL:https://www.nlcww.org/event/website-training-administrator/
LOCATION:Library
END:VEVENT
BEGIN:VEVENT
DTSTART;TZID=America/Los_Angeles:20171002T190000
DTEND;TZID=America/Los_Angeles:20171002T210000
DTSTAMP:20260421T214117
CREATED:20171002T150019Z
LAST-MODIFIED:20171002T150019Z
UID:6092-1506970800-1506978000@www.nlcww.org
SUMMARY:Harmonizers
DESCRIPTION:
URL:https://www.nlcww.org/event/harmonizers-7/
LOCATION:Al Lien Hall
END:VEVENT
BEGIN:VEVENT
DTSTART;TZID=America/Los_Angeles:20171003T131500
DTEND;TZID=America/Los_Angeles:20171003T141500
DTSTAMP:20260421T214117
CREATED:20170926T195124Z
LAST-MODIFIED:20170926T195124Z
UID:6049-1507036500-1507040100@www.nlcww.org
SUMMARY:Website Training - Beginners
DESCRIPTION:
URL:https://www.nlcww.org/event/website-training-beginners/
LOCATION:Library
END:VEVENT
END:VCALENDAR