BEGIN:VCALENDAR
VERSION:2.0
PRODID:-//Nativity Lutheran Church - ECPv6.15.20//NONSGML v1.0//EN
CALSCALE:GREGORIAN
METHOD:PUBLISH
X-ORIGINAL-URL:https://www.nlcww.org
X-WR-CALDESC:Events for Nativity Lutheran Church
REFRESH-INTERVAL;VALUE=DURATION:PT1H
X-Robots-Tag:noindex
X-PUBLISHED-TTL:PT1H
BEGIN:VTIMEZONE
TZID:America/Los_Angeles
BEGIN:DAYLIGHT
TZOFFSETFROM:-0800
TZOFFSETTO:-0700
TZNAME:PDT
DTSTART:20160313T100000
END:DAYLIGHT
BEGIN:STANDARD
TZOFFSETFROM:-0700
TZOFFSETTO:-0800
TZNAME:PST
DTSTART:20161106T090000
END:STANDARD
BEGIN:DAYLIGHT
TZOFFSETFROM:-0800
TZOFFSETTO:-0700
TZNAME:PDT
DTSTART:20170312T100000
END:DAYLIGHT
BEGIN:STANDARD
TZOFFSETFROM:-0700
TZOFFSETTO:-0800
TZNAME:PST
DTSTART:20171105T090000
END:STANDARD
BEGIN:DAYLIGHT
TZOFFSETFROM:-0800
TZOFFSETTO:-0700
TZNAME:PDT
DTSTART:20180311T100000
END:DAYLIGHT
BEGIN:STANDARD
TZOFFSETFROM:-0700
TZOFFSETTO:-0800
TZNAME:PST
DTSTART:20181104T090000
END:STANDARD
END:VTIMEZONE
BEGIN:VEVENT
DTSTART;TZID=America/Los_Angeles:20171010T170000
DTEND;TZID=America/Los_Angeles:20171010T180000
DTSTAMP:20260421T181946
CREATED:20170921T172824Z
LAST-MODIFIED:20170921T181802Z
UID:5905-1507654800-1507658400@www.nlcww.org
SUMMARY:Executive Committee
DESCRIPTION:
URL:https://www.nlcww.org/event/executive-committee/
LOCATION:Library
END:VEVENT
BEGIN:VEVENT
DTSTART;TZID=America/Los_Angeles:20171010T180000
DTEND;TZID=America/Los_Angeles:20171010T193000
DTSTAMP:20260421T181946
CREATED:20170921T172900Z
LAST-MODIFIED:20170921T181756Z
UID:5907-1507658400-1507663800@www.nlcww.org
SUMMARY:Girl Scouts
DESCRIPTION:
URL:https://www.nlcww.org/event/girl-scouts-3/
LOCATION:Al Lien Hall
END:VEVENT
BEGIN:VEVENT
DTSTART;TZID=America/Los_Angeles:20171010T183000
DTEND;TZID=America/Los_Angeles:20171010T200000
DTSTAMP:20260421T181946
CREATED:20170921T172943Z
LAST-MODIFIED:20170921T181750Z
UID:5909-1507660200-1507665600@www.nlcww.org
SUMMARY:Nativity Ringers
DESCRIPTION:
URL:https://www.nlcww.org/event/nativity-ringers-3/
LOCATION:Sanctuary
END:VEVENT
BEGIN:VEVENT
DTSTART;TZID=America/Los_Angeles:20171011T100000
DTEND;TZID=America/Los_Angeles:20171011T113000
DTSTAMP:20260421T181946
CREATED:20170921T173035Z
LAST-MODIFIED:20170921T181745Z
UID:5911-1507716000-1507721400@www.nlcww.org
SUMMARY:Second Wednesday
DESCRIPTION:
URL:https://www.nlcww.org/event/second-wednesday/
LOCATION:Winemiller Hall\, 6363 Commercial Way\, Weeki Wachee\, FL\, 34613
END:VEVENT
BEGIN:VEVENT
DTSTART;TZID=America/Los_Angeles:20171011T123000
DTEND;TZID=America/Los_Angeles:20171011T150000
DTSTAMP:20260421T181946
CREATED:20170915T105637Z
LAST-MODIFIED:20170921T181740Z
UID:5778-1507725000-1507734000@www.nlcww.org
SUMMARY:Cards R Us
DESCRIPTION:Have some fun making cards and\, at the same time\, to help those in need through Pastor’s Discretionary Fund.   No experience needed.  All supplies and tools are provided.  We really can use your heart and hands. 
URL:https://www.nlcww.org/event/cards-r-us-6/
LOCATION:Winemiller Hall\, 6363 Commercial Way\, Weeki Wachee\, FL\, 34613
END:VEVENT
BEGIN:VEVENT
DTSTART;TZID=America/Los_Angeles:20171011T163000
DTEND;TZID=America/Los_Angeles:20171011T180000
DTSTAMP:20260421T181946
CREATED:20170921T173109Z
LAST-MODIFIED:20170921T181734Z
UID:5913-1507739400-1507744800@www.nlcww.org
SUMMARY:Worship & Music
DESCRIPTION:
URL:https://www.nlcww.org/event/worship-music-2/
LOCATION:Youth Room
END:VEVENT
BEGIN:VEVENT
DTSTART;TZID=America/Los_Angeles:20171011T180000
DTEND;TZID=America/Los_Angeles:20171011T193000
DTSTAMP:20260421T181946
CREATED:20170921T173137Z
LAST-MODIFIED:20170921T181729Z
UID:5915-1507744800-1507750200@www.nlcww.org
SUMMARY:Choir
DESCRIPTION:
URL:https://www.nlcww.org/event/choir-6/
LOCATION:Sanctuary
END:VEVENT
BEGIN:VEVENT
DTSTART;TZID=America/Los_Angeles:20171011T180000
DTEND;TZID=America/Los_Angeles:20171011T193000
DTSTAMP:20260421T181946
CREATED:20170921T173210Z
LAST-MODIFIED:20170921T181723Z
UID:5917-1507744800-1507750200@www.nlcww.org
SUMMARY:Cub Scouts
DESCRIPTION:
URL:https://www.nlcww.org/event/cub-scouts-6/
LOCATION:Winemiller Hall\, 6363 Commercial Way\, Weeki Wachee\, FL\, 34613
END:VEVENT
BEGIN:VEVENT
DTSTART;TZID=America/Los_Angeles:20171012T090000
DTEND;TZID=America/Los_Angeles:20171012T110000
DTSTAMP:20260421T181946
CREATED:20170921T173242Z
LAST-MODIFIED:20170921T181657Z
UID:5919-1507798800-1507806000@www.nlcww.org
SUMMARY:TOPS
DESCRIPTION:
URL:https://www.nlcww.org/event/tops-14/
LOCATION:Winemiller Hall\, 6363 Commercial Way\, Weeki Wachee\, FL\, 34613
END:VEVENT
BEGIN:VEVENT
DTSTART;TZID=America/Los_Angeles:20171012T123000
DTEND;TZID=America/Los_Angeles:20171012T140000
DTSTAMP:20260421T181946
CREATED:20170921T173315Z
LAST-MODIFIED:20170921T181714Z
UID:5921-1507811400-1507816800@www.nlcww.org
SUMMARY:Mary Joy Circle
DESCRIPTION:
URL:https://www.nlcww.org/event/mary-joy-circle-2/
END:VEVENT
BEGIN:VEVENT
DTSTART;TZID=America/Los_Angeles:20171013T073000
DTEND;TZID=America/Los_Angeles:20171013T090000
DTSTAMP:20260421T181946
CREATED:20170921T124559Z
LAST-MODIFIED:20170921T181708Z
UID:5867-1507879800-1507885200@www.nlcww.org
SUMMARY:Folders
DESCRIPTION:
URL:https://www.nlcww.org/event/folders-8/
LOCATION:Library
END:VEVENT
BEGIN:VEVENT
DTSTART;TZID=America/Los_Angeles:20171013T090000
DTEND;TZID=America/Los_Angeles:20171013T110000
DTSTAMP:20260421T181946
CREATED:20170921T173404Z
LAST-MODIFIED:20170921T181703Z
UID:5923-1507885200-1507892400@www.nlcww.org
SUMMARY:TOPS
DESCRIPTION:
URL:https://www.nlcww.org/event/tops-15/
LOCATION:Winemiller Hall\, 6363 Commercial Way\, Weeki Wachee\, FL\, 34613
END:VEVENT
BEGIN:VEVENT
DTSTART;TZID=America/Los_Angeles:20171013T090000
DTEND;TZID=America/Los_Angeles:20171013T120000
DTSTAMP:20260421T181946
CREATED:20170921T124820Z
LAST-MODIFIED:20170921T181644Z
UID:5875-1507885200-1507896000@www.nlcww.org
SUMMARY:Crafty Ladies
DESCRIPTION:
URL:https://www.nlcww.org/event/crafty-ladies-7/
LOCATION:Al Lien Hall
END:VEVENT
BEGIN:VEVENT
DTSTART;TZID=America/Los_Angeles:20171013T120000
DTEND;TZID=America/Los_Angeles:20171013T153000
DTSTAMP:20260421T181946
CREATED:20170918T180800Z
LAST-MODIFIED:20170929T175446Z
UID:5825-1507896000-1507908600@www.nlcww.org
SUMMARY:Friendship Circle Annual Pool Party
DESCRIPTION:The Friendship Circle will enjoy Vivian Deon’s Third Annual Pool Party on Friday\, October 13\, beginning at Noon.  October 14 is the rain backup day.  Location is in The Heather\, at Vivian’s The Bluffs pool on Nakoma Way\, which will be on your left.  Please call Vivian at 352-645-7634 to coordinate your dish for this fun day and for any further information.
URL:https://www.nlcww.org/event/friendship-circle-annual-pool-party/
LOCATION:The Heather\, Nakoma Way\, Weeki Wachee\, FL\, 34613
END:VEVENT
BEGIN:VEVENT
DTSTART;TZID=America/Los_Angeles:20171013T173000
DTEND;TZID=America/Los_Angeles:20171013T190000
DTSTAMP:20260421T181946
CREATED:20170921T173456Z
LAST-MODIFIED:20170921T181628Z
UID:5925-1507915800-1507921200@www.nlcww.org
SUMMARY:Daisy
DESCRIPTION:
URL:https://www.nlcww.org/event/daisy-3/
LOCATION:Winemiller Hall\, 6363 Commercial Way\, Weeki Wachee\, FL\, 34613
END:VEVENT
BEGIN:VEVENT
DTSTART;TZID=America/Los_Angeles:20171013T180000
DTEND;TZID=America/Los_Angeles:20171013T193000
DTSTAMP:20260421T181946
CREATED:20170921T173528Z
LAST-MODIFIED:20170921T181621Z
UID:5927-1507917600-1507923000@www.nlcww.org
SUMMARY:Girl Scouts
DESCRIPTION:
URL:https://www.nlcww.org/event/girl-scouts-4/
LOCATION:Al Lien Hall
END:VEVENT
BEGIN:VEVENT
DTSTART;TZID=America/Los_Angeles:20171014T080000
DTEND;TZID=America/Los_Angeles:20171014T120000
DTSTAMP:20260421T181946
CREATED:20171002T150330Z
LAST-MODIFIED:20171002T150330Z
UID:6100-1507968000-1507982400@www.nlcww.org
SUMMARY:Harmonizers
DESCRIPTION:
URL:https://www.nlcww.org/event/harmonizers-11/
LOCATION:Al Lien Hall
END:VEVENT
BEGIN:VEVENT
DTSTART;TZID=America/Los_Angeles:20171014T173000
DTEND;TZID=America/Los_Angeles:20171014T220000
DTSTAMP:20260421T181946
CREATED:20170921T173758Z
LAST-MODIFIED:20170921T181615Z
UID:5929-1508002200-1508018400@www.nlcww.org
SUMMARY:AA
DESCRIPTION:
URL:https://www.nlcww.org/event/aa-3/
LOCATION:Winemiller Hall\, 6363 Commercial Way\, Weeki Wachee\, FL\, 34613
END:VEVENT
BEGIN:VEVENT
DTSTART;TZID=America/Los_Angeles:20171015T083000
DTEND;TZID=America/Los_Angeles:20171015T093000
DTSTAMP:20260421T181946
CREATED:20170925T153641Z
LAST-MODIFIED:20170925T153641Z
UID:6027-1508056200-1508059800@www.nlcww.org
SUMMARY:Worship
DESCRIPTION:
URL:https://www.nlcww.org/event/worship-7/
LOCATION:Sanctuary
END:VEVENT
BEGIN:VEVENT
DTSTART;TZID=America/Los_Angeles:20171015T094500
DTEND;TZID=America/Los_Angeles:20171015T104500
DTSTAMP:20260421T181946
CREATED:20170925T145242Z
LAST-MODIFIED:20170925T145242Z
UID:5998-1508060700-1508064300@www.nlcww.org
SUMMARY:Adult Forum
DESCRIPTION:Toward Reformation.\n \nThe Emerging Church.\nA reformation seems to strike every 500 years.  What is different about “the emerging church”?  If you knew the world would end next week\, what would you do this week?  Your hope: the church in 2517 will be more…(what?)\, less…(what?).
URL:https://www.nlcww.org/event/adult-forum-6/
LOCATION:Winemiller Hall\, 6363 Commercial Way\, Weeki Wachee\, FL\, 34613
END:VEVENT
BEGIN:VEVENT
DTSTART;TZID=America/Los_Angeles:20171015T094500
DTEND;TZID=America/Los_Angeles:20171015T104500
DTSTAMP:20260421T181946
CREATED:20170925T150617Z
LAST-MODIFIED:20170925T150617Z
UID:6009-1508060700-1508064300@www.nlcww.org
SUMMARY:Sunday School
DESCRIPTION:
URL:https://www.nlcww.org/event/sunday-school-6/
LOCATION:Al Lien Hall
END:VEVENT
BEGIN:VEVENT
DTSTART;TZID=America/Los_Angeles:20171015T110000
DTEND;TZID=America/Los_Angeles:20171015T120000
DTSTAMP:20260421T181946
CREATED:20170925T154552Z
LAST-MODIFIED:20170925T154552Z
UID:6030-1508065200-1508068800@www.nlcww.org
SUMMARY:Worship
DESCRIPTION:
URL:https://www.nlcww.org/event/worship-8/
LOCATION:Sanctuary
END:VEVENT
BEGIN:VEVENT
DTSTART;TZID=America/Los_Angeles:20171016T083000
DTEND;TZID=America/Los_Angeles:20171016T100000
DTSTAMP:20260421T181946
CREATED:20170921T172506Z
LAST-MODIFIED:20170921T181609Z
UID:5893-1508142600-1508148000@www.nlcww.org
SUMMARY:Counters
DESCRIPTION:
URL:https://www.nlcww.org/event/counters-5/
LOCATION:Library
END:VEVENT
BEGIN:VEVENT
DTSTART;TZID=America/Los_Angeles:20171016T190000
DTEND;TZID=America/Los_Angeles:20171016T203000
DTSTAMP:20260421T181946
CREATED:20170921T125404Z
LAST-MODIFIED:20170921T181602Z
UID:5887-1508180400-1508185800@www.nlcww.org
SUMMARY:Harmonizers
DESCRIPTION:
URL:https://www.nlcww.org/event/harmonizers-6/
LOCATION:Al Lien Hall
END:VEVENT
BEGIN:VEVENT
DTSTART;TZID=America/Los_Angeles:20171017T083000
DTEND;TZID=America/Los_Angeles:20171017T100000
DTSTAMP:20260421T181946
CREATED:20170921T173841Z
LAST-MODIFIED:20170921T173841Z
UID:5932-1508229000-1508234400@www.nlcww.org
SUMMARY:Men's Breakfast
DESCRIPTION:
URL:https://www.nlcww.org/event/mens-breakfast-2/
LOCATION:Perkins\, 4685 Commercial Way\, Spring Hill\, FL\, United States
END:VEVENT
BEGIN:VEVENT
DTSTART;TZID=America/Los_Angeles:20171017T143000
DTEND;TZID=America/Los_Angeles:20171017T160000
DTSTAMP:20260421T181946
CREATED:20170921T173916Z
LAST-MODIFIED:20171002T151050Z
UID:5934-1508250600-1508256000@www.nlcww.org
SUMMARY:Council
DESCRIPTION:
URL:https://www.nlcww.org/event/council/
LOCATION:Library
END:VEVENT
BEGIN:VEVENT
DTSTART;TZID=America/Los_Angeles:20171017T183000
DTEND;TZID=America/Los_Angeles:20171017T200000
DTSTAMP:20260421T181946
CREATED:20170921T173949Z
LAST-MODIFIED:20170921T181544Z
UID:5936-1508265000-1508270400@www.nlcww.org
SUMMARY:Nativity Ringers
DESCRIPTION:
URL:https://www.nlcww.org/event/nativity-ringers-4/
LOCATION:Sanctuary
END:VEVENT
BEGIN:VEVENT
DTSTART;TZID=America/Los_Angeles:20171018T090000
DTEND;TZID=America/Los_Angeles:20171018T100000
DTSTAMP:20260421T181946
CREATED:20171025T140048Z
LAST-MODIFIED:20171023T152834Z
UID:5686-1508317200-1508320800@www.nlcww.org
SUMMARY:Altar Guild
DESCRIPTION:
URL:https://www.nlcww.org/event/altar-guild/
LOCATION:Library
END:VEVENT
BEGIN:VEVENT
DTSTART;TZID=America/Los_Angeles:20171018T120000
DTEND;TZID=America/Los_Angeles:20171018T140000
DTSTAMP:20260421T181946
CREATED:20170921T174037Z
LAST-MODIFIED:20170921T181538Z
UID:5938-1508328000-1508335200@www.nlcww.org
SUMMARY:Michigan Club
DESCRIPTION:
URL:https://www.nlcww.org/event/michigan-club-2/
LOCATION:Winemiller Hall\, 6363 Commercial Way\, Weeki Wachee\, FL\, 34613
END:VEVENT
BEGIN:VEVENT
DTSTART;TZID=America/Los_Angeles:20171018T180000
DTEND;TZID=America/Los_Angeles:20171018T193000
DTSTAMP:20260421T181946
CREATED:20170926T195550Z
LAST-MODIFIED:20170926T195550Z
UID:6055-1508349600-1508355000@www.nlcww.org
SUMMARY:Choir
DESCRIPTION:
URL:https://www.nlcww.org/event/choir-8/
LOCATION:Sanctuary
END:VEVENT
END:VCALENDAR