BEGIN:VCALENDAR
VERSION:2.0
PRODID:-//Nativity Lutheran Church - ECPv6.15.20//NONSGML v1.0//EN
CALSCALE:GREGORIAN
METHOD:PUBLISH
X-WR-CALNAME:Nativity Lutheran Church
X-ORIGINAL-URL:https://www.nlcww.org
X-WR-CALDESC:Events for Nativity Lutheran Church
REFRESH-INTERVAL;VALUE=DURATION:PT1H
X-Robots-Tag:noindex
X-PUBLISHED-TTL:PT1H
BEGIN:VTIMEZONE
TZID:America/Los_Angeles
BEGIN:DAYLIGHT
TZOFFSETFROM:-0800
TZOFFSETTO:-0700
TZNAME:PDT
DTSTART:20160313T100000
END:DAYLIGHT
BEGIN:STANDARD
TZOFFSETFROM:-0700
TZOFFSETTO:-0800
TZNAME:PST
DTSTART:20161106T090000
END:STANDARD
BEGIN:DAYLIGHT
TZOFFSETFROM:-0800
TZOFFSETTO:-0700
TZNAME:PDT
DTSTART:20170312T100000
END:DAYLIGHT
BEGIN:STANDARD
TZOFFSETFROM:-0700
TZOFFSETTO:-0800
TZNAME:PST
DTSTART:20171105T090000
END:STANDARD
BEGIN:DAYLIGHT
TZOFFSETFROM:-0800
TZOFFSETTO:-0700
TZNAME:PDT
DTSTART:20180311T100000
END:DAYLIGHT
BEGIN:STANDARD
TZOFFSETFROM:-0700
TZOFFSETTO:-0800
TZNAME:PST
DTSTART:20181104T090000
END:STANDARD
END:VTIMEZONE
BEGIN:VEVENT
DTSTART;TZID=America/Los_Angeles:20171027T180000
DTEND;TZID=America/Los_Angeles:20171027T193000
DTSTAMP:20260421T183049
CREATED:20170921T174552Z
LAST-MODIFIED:20170921T181412Z
UID:5956-1509127200-1509132600@www.nlcww.org
SUMMARY:Girl Scouts
DESCRIPTION:
URL:https://www.nlcww.org/event/girl-scouts-6/
LOCATION:Al Lien Hall
END:VEVENT
BEGIN:VEVENT
DTSTART;TZID=America/Los_Angeles:20171028T163000
DTEND;TZID=America/Los_Angeles:20171028T210000
DTSTAMP:20260421T183049
CREATED:20170904T142621Z
LAST-MODIFIED:20170925T113626Z
UID:5647-1509208200-1509224400@www.nlcww.org
SUMMARY:Fall Festival
DESCRIPTION:Doors open at 4:30pm.  Tickets are $5.00 for adults\, $1.00 for children.  Luther League is our treat.  Please bring a lawn chair and flashlight.  This event sells out quickly as we only have seating for 160.
URL:https://www.nlcww.org/event/fall-festival/
END:VEVENT
BEGIN:VEVENT
DTSTART;TZID=America/Los_Angeles:20171029T083000
DTEND;TZID=America/Los_Angeles:20171029T093000
DTSTAMP:20260421T183049
CREATED:20171002T145431Z
LAST-MODIFIED:20171002T145431Z
UID:6085-1509265800-1509269400@www.nlcww.org
SUMMARY:Worship
DESCRIPTION:
URL:https://www.nlcww.org/event/worship-11/
LOCATION:Sanctuary
END:VEVENT
BEGIN:VEVENT
DTSTART;TZID=America/Los_Angeles:20171029T093000
DTEND;TZID=America/Los_Angeles:20171029T130000
DTSTAMP:20260421T183049
CREATED:20171023T153715Z
LAST-MODIFIED:20171023T154009Z
UID:6263-1509269400-1509282000@www.nlcww.org
SUMMARY:Reformation Celebration
DESCRIPTION:Join us for coffee and cake to celebrate the 500th Anniversary of the Reformation after the 8:30 and 11:00am services.
URL:https://www.nlcww.org/event/reformation-celebration/
LOCATION:Narthex\, 6363 Commercial Way\, Weeki Wachee\, Florida\, 34613
END:VEVENT
BEGIN:VEVENT
DTSTART;TZID=America/Los_Angeles:20171029T094500
DTEND;TZID=America/Los_Angeles:20171029T104500
DTSTAMP:20260421T183049
CREATED:20170925T150344Z
LAST-MODIFIED:20170925T150344Z
UID:6005-1509270300-1509273900@www.nlcww.org
SUMMARY:Adult Forum
DESCRIPTION:Toward Reformation 1000.\n \nSo…Now What?\nWhere do we go from here: you\, Nativity\, Lutherans\, Christians?
URL:https://www.nlcww.org/event/adult-forum-8/
LOCATION:Winemiller Hall\, 6363 Commercial Way\, Weeki Wachee\, FL\, 34613
END:VEVENT
BEGIN:VEVENT
DTSTART;TZID=America/Los_Angeles:20171029T094500
DTEND;TZID=America/Los_Angeles:20171029T104500
DTSTAMP:20260421T183049
CREATED:20171002T145326Z
LAST-MODIFIED:20171002T145326Z
UID:6083-1509270300-1509273900@www.nlcww.org
SUMMARY:Sunday School
DESCRIPTION:
URL:https://www.nlcww.org/event/sunday-school-8/
LOCATION:Al Lien Hall
END:VEVENT
BEGIN:VEVENT
DTSTART;TZID=America/Los_Angeles:20171029T110000
DTEND;TZID=America/Los_Angeles:20171029T121500
DTSTAMP:20260421T183049
CREATED:20171002T145551Z
LAST-MODIFIED:20171002T145551Z
UID:6088-1509274800-1509279300@www.nlcww.org
SUMMARY:Worship
DESCRIPTION:
URL:https://www.nlcww.org/event/worship-12/
LOCATION:Sanctuary
END:VEVENT
BEGIN:VEVENT
DTSTART;TZID=America/Los_Angeles:20171029T120000
DTEND;TZID=America/Los_Angeles:20171029T130000
DTSTAMP:20260421T183049
CREATED:20171023T153919Z
LAST-MODIFIED:20171023T153919Z
UID:6268-1509278400-1509282000@www.nlcww.org
SUMMARY:New Member Reception
DESCRIPTION:Please join us we welcome the newest members of Nativity Lutheran Church.  Refreshments will be served.
URL:https://www.nlcww.org/event/new-member-reception/
LOCATION:Winemiller Hall\, 6363 Commercial Way\, Weeki Wachee\, FL\, 34613
END:VEVENT
BEGIN:VEVENT
DTSTART;TZID=America/Los_Angeles:20171029T140000
DTEND;TZID=America/Los_Angeles:20171029T190000
DTSTAMP:20260421T183049
CREATED:20170921T174630Z
LAST-MODIFIED:20170925T112749Z
UID:5958-1509285600-1509303600@www.nlcww.org
SUMMARY:Golf Outing
DESCRIPTION:Sign up sheet in Narthex.  At Timber Pines.  Meet at 2pm\, tee off at 2:30.  Dinner at Cody’s afterwards.
URL:https://www.nlcww.org/event/golf-outing/
END:VEVENT
BEGIN:VEVENT
DTSTART;TZID=America/Los_Angeles:20171030T083000
DTEND;TZID=America/Los_Angeles:20171030T100000
DTSTAMP:20260421T183049
CREATED:20170921T172611Z
LAST-MODIFIED:20170921T181355Z
UID:5897-1509352200-1509357600@www.nlcww.org
SUMMARY:Counters
DESCRIPTION:
URL:https://www.nlcww.org/event/counters-7/
LOCATION:Library
END:VEVENT
BEGIN:VEVENT
DTSTART;TZID=America/Los_Angeles:20171030T190000
DTEND;TZID=America/Los_Angeles:20171030T210000
DTSTAMP:20260421T183049
CREATED:20171002T150247Z
LAST-MODIFIED:20171002T150247Z
UID:6098-1509390000-1509397200@www.nlcww.org
SUMMARY:Harmonizers
DESCRIPTION:
URL:https://www.nlcww.org/event/harmonizers-10/
LOCATION:Al Lien Hall
END:VEVENT
BEGIN:VEVENT
DTSTART;TZID=America/Los_Angeles:20171031T180000
DTEND;TZID=America/Los_Angeles:20171031T193000
DTSTAMP:20260421T183049
CREATED:20170921T174903Z
LAST-MODIFIED:20170921T181348Z
UID:5962-1509472800-1509478200@www.nlcww.org
SUMMARY:Girl Scouts
DESCRIPTION:
URL:https://www.nlcww.org/event/girl-scouts-7/
LOCATION:Al Lien Hall
END:VEVENT
BEGIN:VEVENT
DTSTART;TZID=America/Los_Angeles:20171031T180000
DTEND;TZID=America/Los_Angeles:20171031T193000
DTSTAMP:20260421T183049
CREATED:20170921T180233Z
LAST-MODIFIED:20170921T181239Z
UID:5964-1509472800-1509478200@www.nlcww.org
SUMMARY:Girl Scouts
DESCRIPTION:
URL:https://www.nlcww.org/event/girl-scouts-8/
LOCATION:Al Lien Hall
END:VEVENT
BEGIN:VEVENT
DTSTART;TZID=America/Los_Angeles:20171031T183000
DTEND;TZID=America/Los_Angeles:20171031T200000
DTSTAMP:20260421T183049
CREATED:20170921T180303Z
LAST-MODIFIED:20170921T181224Z
UID:5966-1509474600-1509480000@www.nlcww.org
SUMMARY:Nativity Ringers
DESCRIPTION:
URL:https://www.nlcww.org/event/nativity-ringers-6/
LOCATION:Sanctuary
END:VEVENT
BEGIN:VEVENT
DTSTART;TZID=America/Los_Angeles:20171101T123000
DTEND;TZID=America/Los_Angeles:20171101T153000
DTSTAMP:20260421T183049
CREATED:20171015T204941Z
LAST-MODIFIED:20171015T204941Z
UID:6152-1509539400-1509550200@www.nlcww.org
SUMMARY:Cards R Us
DESCRIPTION:Cards R Us will make cards oat 12:30-3:00pm in Winemiller Hall.  We enjoy talking as we’re making cards (yes\, we can multitask).  We can always use more help and more cards\, so please join us.  We’ll show you how and provide all supplies.  One hundred percent of the profit from donations for the finished cards are given to Pastor’s Discretionary Fund.
URL:https://www.nlcww.org/event/cards-r-us-7/
LOCATION:Winemiller Hall\, 6363 Commercial Way\, Weeki Wachee\, FL\, 34613
END:VEVENT
BEGIN:VEVENT
DTSTART;TZID=America/Los_Angeles:20171101T130000
DTEND;TZID=America/Los_Angeles:20171101T140000
DTSTAMP:20260421T183049
CREATED:20171018T110506Z
LAST-MODIFIED:20171018T110506Z
UID:6162-1509541200-1509544800@www.nlcww.org
SUMMARY:Stewardship and Leadership meeting
DESCRIPTION:
URL:https://www.nlcww.org/event/stewardship-and-leadership-meeting/
END:VEVENT
BEGIN:VEVENT
DTSTART;TZID=America/Los_Angeles:20171101T150000
DTEND;TZID=America/Los_Angeles:20171101T163000
DTSTAMP:20260421T183049
CREATED:20171018T121227Z
LAST-MODIFIED:20171018T121227Z
UID:6164-1509548400-1509553800@www.nlcww.org
SUMMARY:Communication Team
DESCRIPTION:
URL:https://www.nlcww.org/event/communication-team-4/
LOCATION:Library
END:VEVENT
BEGIN:VEVENT
DTSTART;TZID=America/Los_Angeles:20171101T180000
DTEND;TZID=America/Los_Angeles:20171101T193000
DTSTAMP:20260421T183049
CREATED:20171009T152149Z
LAST-MODIFIED:20171009T152149Z
UID:6135-1509559200-1509564600@www.nlcww.org
SUMMARY:Choir
DESCRIPTION:
URL:https://www.nlcww.org/event/choir-9/
LOCATION:Sanctuary
END:VEVENT
BEGIN:VEVENT
DTSTART;TZID=America/Los_Angeles:20171102T100000
DTEND;TZID=America/Los_Angeles:20171102T113000
DTSTAMP:20260421T183049
CREATED:20171015T205206Z
LAST-MODIFIED:20171015T205206Z
UID:6156-1509616800-1509622200@www.nlcww.org
SUMMARY:Friendship Circle
DESCRIPTION:Friendship Circle will assist Judy and Gil Dietz with The Teddy Bear Project\, which received a generous gift from Thrivent.  At 10:00am on Thursday\, November 2\, we will meet at Nativity to remove price tags and sort teddy bears. 
URL:https://www.nlcww.org/event/friendship-circle-2/
END:VEVENT
BEGIN:VEVENT
DTSTART;TZID=America/Los_Angeles:20171103T073000
DTEND;TZID=America/Los_Angeles:20171103T090000
DTSTAMP:20260421T183049
CREATED:20171023T145940Z
LAST-MODIFIED:20171023T145940Z
UID:6221-1509694200-1509699600@www.nlcww.org
SUMMARY:Folders
DESCRIPTION:
URL:https://www.nlcww.org/event/folders-11/
LOCATION:Library
END:VEVENT
BEGIN:VEVENT
DTSTART;TZID=America/Los_Angeles:20171103T130000
DTEND;TZID=America/Los_Angeles:20171103T170000
DTSTAMP:20260421T183049
CREATED:20171015T205318Z
LAST-MODIFIED:20171015T205318Z
UID:6158-1509714000-1509728400@www.nlcww.org
SUMMARY:Friendship Circle
DESCRIPTION:We’ll meet at Nativity at 1:00pm\, wearing Thrivent Live Generously t-shirts\, to deliver the bears to the Firehouse located off Philatelic Drive in Spring Hill and to the Florida Highway Patrol and Hernando County Sheriff’s Office in Brooksville.  These first responders will give the bears to children experiencing trauma. After the deliveries\, we will share a meal and have devotions and a meeting at the Red Mule Pub\, 1208 S. Broad St.\, Brooksville 34601.   \n 
URL:https://www.nlcww.org/event/friendship-circle-3/
END:VEVENT
BEGIN:VEVENT
DTSTART;TZID=America/Los_Angeles:20171104T170000
DTEND;TZID=America/Los_Angeles:20171104T183000
DTSTAMP:20260421T183049
CREATED:20170904T142116Z
LAST-MODIFIED:20170921T181211Z
UID:5640-1509814800-1509820200@www.nlcww.org
SUMMARY:500th Anniversary Reformation Hymn Festival
DESCRIPTION:
URL:https://www.nlcww.org/event/500th-anniversary-reformation-hymn-festival/
LOCATION:Sanctuary
END:VEVENT
BEGIN:VEVENT
DTSTART;TZID=America/Los_Angeles:20171105T083000
DTEND;TZID=America/Los_Angeles:20171105T093000
DTSTAMP:20260421T183049
CREATED:20171023T151045Z
LAST-MODIFIED:20171023T151045Z
UID:6249-1509870600-1509874200@www.nlcww.org
SUMMARY:Worship
DESCRIPTION:
URL:https://www.nlcww.org/event/worship-13/
LOCATION:Sanctuary
END:VEVENT
BEGIN:VEVENT
DTSTART;TZID=America/Los_Angeles:20171105T094500
DTEND;TZID=America/Los_Angeles:20171105T104500
DTSTAMP:20260421T183049
CREATED:20171023T150716Z
LAST-MODIFIED:20171023T150716Z
UID:6243-1509875100-1509878700@www.nlcww.org
SUMMARY:Sunday School
DESCRIPTION:
URL:https://www.nlcww.org/event/sunday-school-9/
LOCATION:Al Lien Hall
END:VEVENT
BEGIN:VEVENT
DTSTART;TZID=America/Los_Angeles:20171105T113000
DTEND;TZID=America/Los_Angeles:20171105T121500
DTSTAMP:20260421T183049
CREATED:20171023T151139Z
LAST-MODIFIED:20171023T151139Z
UID:6251-1509881400-1509884100@www.nlcww.org
SUMMARY:Worship
DESCRIPTION:
URL:https://www.nlcww.org/event/worship-14/
LOCATION:Sanctuary
END:VEVENT
BEGIN:VEVENT
DTSTART;TZID=America/Los_Angeles:20171106T083000
DTEND;TZID=America/Los_Angeles:20171106T100000
DTSTAMP:20260421T183049
CREATED:20171023T150429Z
LAST-MODIFIED:20171023T150429Z
UID:6232-1509957000-1509962400@www.nlcww.org
SUMMARY:Counters
DESCRIPTION:
URL:https://www.nlcww.org/event/counters-8/
LOCATION:Library
END:VEVENT
BEGIN:VEVENT
DTSTART;TZID=America/Los_Angeles:20171107T160000
DTEND;TZID=America/Los_Angeles:20171107T170000
DTSTAMP:20260421T183049
CREATED:20170926T194958Z
LAST-MODIFIED:20170926T194958Z
UID:6045-1510070400-1510074000@www.nlcww.org
SUMMARY:Finance
DESCRIPTION:
URL:https://www.nlcww.org/event/finance-3/
LOCATION:Library
END:VEVENT
BEGIN:VEVENT
DTSTART;TZID=America/Los_Angeles:20171107T160000
DTEND;TZID=America/Los_Angeles:20171107T170000
DTSTAMP:20260421T183049
CREATED:20171107T121942Z
LAST-MODIFIED:20171107T121942Z
UID:6372-1510070400-1510074000@www.nlcww.org
SUMMARY:Christmas Eve Services
DESCRIPTION:Nativity will have two services on Christmas Eve (special note: there will be no Sunday morning services on Christmas Eve).  Our two Christmas Eve services will be held at 4:00 pm and 10:00 pm on Sunday\, Dec. 24\, 2017.  Both services will be offer traditional Candlelight Communion.  The 4:00 pm service will also offer a short Children’s Christmas Message presented by the children.  Also\, a Family Blessing will be offered at the end of the 4:00 pm service.    
URL:https://www.nlcww.org/event/christmas-eve-services/
LOCATION:Sanctuary
END:VEVENT
BEGIN:VEVENT
DTSTART;TZID=America/Los_Angeles:20171107T170000
DTEND;TZID=America/Los_Angeles:20171107T180000
DTSTAMP:20260421T183049
CREATED:20170926T195038Z
LAST-MODIFIED:20170926T195038Z
UID:6047-1510074000-1510077600@www.nlcww.org
SUMMARY:Executive
DESCRIPTION:
URL:https://www.nlcww.org/event/executive/
LOCATION:Library
END:VEVENT
BEGIN:VEVENT
DTSTART;TZID=America/Los_Angeles:20171107T180000
DTEND;TZID=America/Los_Angeles:20171107T193000
DTSTAMP:20260421T183049
CREATED:20171106T184934Z
LAST-MODIFIED:20171106T184934Z
UID:6322-1510077600-1510083000@www.nlcww.org
SUMMARY:Girl Scouts
DESCRIPTION:
URL:https://www.nlcww.org/event/girl-scouts-9/
LOCATION:Al Lien Hall
END:VEVENT
END:VCALENDAR