BEGIN:VCALENDAR
VERSION:2.0
PRODID:-//Nativity Lutheran Church - ECPv6.15.20//NONSGML v1.0//EN
CALSCALE:GREGORIAN
METHOD:PUBLISH
X-WR-CALNAME:Nativity Lutheran Church
X-ORIGINAL-URL:https://www.nlcww.org
X-WR-CALDESC:Events for Nativity Lutheran Church
REFRESH-INTERVAL;VALUE=DURATION:PT1H
X-Robots-Tag:noindex
X-PUBLISHED-TTL:PT1H
BEGIN:VTIMEZONE
TZID:America/Los_Angeles
BEGIN:DAYLIGHT
TZOFFSETFROM:-0800
TZOFFSETTO:-0700
TZNAME:PDT
DTSTART:20170312T100000
END:DAYLIGHT
BEGIN:STANDARD
TZOFFSETFROM:-0700
TZOFFSETTO:-0800
TZNAME:PST
DTSTART:20171105T090000
END:STANDARD
BEGIN:DAYLIGHT
TZOFFSETFROM:-0800
TZOFFSETTO:-0700
TZNAME:PDT
DTSTART:20180311T100000
END:DAYLIGHT
BEGIN:STANDARD
TZOFFSETFROM:-0700
TZOFFSETTO:-0800
TZNAME:PST
DTSTART:20181104T090000
END:STANDARD
BEGIN:DAYLIGHT
TZOFFSETFROM:-0800
TZOFFSETTO:-0700
TZNAME:PDT
DTSTART:20190310T100000
END:DAYLIGHT
BEGIN:STANDARD
TZOFFSETFROM:-0700
TZOFFSETTO:-0800
TZNAME:PST
DTSTART:20191103T090000
END:STANDARD
END:VTIMEZONE
BEGIN:VEVENT
DTSTART;TZID=America/Los_Angeles:20180109T150000
DTEND;TZID=America/Los_Angeles:20180109T160000
DTSTAMP:20260421T132916
CREATED:20171216T151703Z
LAST-MODIFIED:20171216T151703Z
UID:6869-1515510000-1515513600@www.nlcww.org
SUMMARY:Finance
DESCRIPTION:
URL:https://www.nlcww.org/event/finance-5/
LOCATION:Library
END:VEVENT
BEGIN:VEVENT
DTSTART;TZID=America/Los_Angeles:20180109T160000
DTEND;TZID=America/Los_Angeles:20180109T170000
DTSTAMP:20260421T132916
CREATED:20171216T151735Z
LAST-MODIFIED:20171216T151735Z
UID:6871-1515513600-1515517200@www.nlcww.org
SUMMARY:Executive
DESCRIPTION:
URL:https://www.nlcww.org/event/executive-2/
LOCATION:Library
END:VEVENT
BEGIN:VEVENT
DTSTART;TZID=America/Los_Angeles:20180109T183000
DTEND;TZID=America/Los_Angeles:20180109T193000
DTSTAMP:20260421T132916
CREATED:20171204T115608Z
LAST-MODIFIED:20171204T115608Z
UID:6726-1515522600-1515526200@www.nlcww.org
SUMMARY:Nativity Ringers
DESCRIPTION:
URL:https://www.nlcww.org/event/nativity-ringers-13/
LOCATION:Sanctuary
ORGANIZER;CN="Jane Henkel":MAILTO:jane.henkel@nlcww.org
END:VEVENT
BEGIN:VEVENT
DTSTART;TZID=America/Los_Angeles:20180111T123000
DTEND;TZID=America/Los_Angeles:20180111T140000
DTSTAMP:20260421T132916
CREATED:20171218T182149Z
LAST-MODIFIED:20171218T182149Z
UID:6876-1515673800-1515679200@www.nlcww.org
SUMMARY:Mary Joy Circle
DESCRIPTION:We will meet on Thursday\, January 11\, 2018 at 12:30.  Refreshments will be served by Louise Weyen and Diane Zabel.  Bible Study will be from “Gather Magazine.”  Facilitator will be Rosie Rosten.  Join us for the beginning of a new Bible Study and the beginning of a New Year 2018.\n \nBox Tops-For years Nativity Women have been collecting box tops.  We want to encourage everyone to save these box tops.  They are given to Homosassa Elementary School where Donna Olsen teaches music.  Boxes are provided in the narthex for your collection.
URL:https://www.nlcww.org/event/mary-joy-circle-5/
END:VEVENT
BEGIN:VEVENT
DTSTART;TZID=America/Los_Angeles:20180113T100000
DTEND;TZID=America/Los_Angeles:20180113T120000
DTSTAMP:20260421T132916
CREATED:20171204T124334Z
LAST-MODIFIED:20171204T124334Z
UID:6742-1515837600-1515844800@www.nlcww.org
SUMMARY:Pastor Wee Memorial Service
DESCRIPTION:Memorial service will be at 11am with visitation one hour prior.\n \nPastor Kris requested that memorial donations be made to People Helping People at www.phpinhc.org/donate (PO Box 6182\, Spring Hill\, FL 34611) or Memorial Lutheran Church of Afton\, MN (15730 Afton Blvd\, Afton\, MN 55001). 
URL:https://www.nlcww.org/event/pastor-wee-memorial-service/
LOCATION:Sanctuary
END:VEVENT
BEGIN:VEVENT
DTSTART;TZID=America/Los_Angeles:20180114T094500
DTEND;TZID=America/Los_Angeles:20180114T104500
DTSTAMP:20260421T132916
CREATED:20171115T121559Z
LAST-MODIFIED:20171206T164248Z
UID:6503-1515923100-1515926700@www.nlcww.org
SUMMARY:Congregation Meeting 2018
DESCRIPTION:Presentation of annual report.
URL:https://www.nlcww.org/event/congregation-meeting-2018/
LOCATION:Winemiller Hall\, 6363 Commercial Way\, Weeki Wachee\, FL\, 34613
END:VEVENT
BEGIN:VEVENT
DTSTART;TZID=America/Los_Angeles:20180115T190000
DTEND;TZID=America/Los_Angeles:20180115T203000
DTSTAMP:20260421T132916
CREATED:20171216T151631Z
LAST-MODIFIED:20171216T151631Z
UID:6867-1516042800-1516048200@www.nlcww.org
SUMMARY:Council Meeting
DESCRIPTION:
URL:https://www.nlcww.org/event/council-meeting-4/
LOCATION:Library
END:VEVENT
BEGIN:VEVENT
DTSTART;TZID=America/Los_Angeles:20180116T183000
DTEND;TZID=America/Los_Angeles:20180116T193000
DTSTAMP:20260421T132916
CREATED:20171204T115646Z
LAST-MODIFIED:20171204T115646Z
UID:6728-1516127400-1516131000@www.nlcww.org
SUMMARY:Nativity Ringers
DESCRIPTION:
URL:https://www.nlcww.org/event/nativity-ringers-14/
LOCATION:Sanctuary
ORGANIZER;CN="Jane Henkel":MAILTO:jane.henkel@nlcww.org
END:VEVENT
BEGIN:VEVENT
DTSTART;TZID=America/Los_Angeles:20180121T083000
DTEND;TZID=America/Los_Angeles:20180121T093000
DTSTAMP:20260421T132916
CREATED:20171115T121436Z
LAST-MODIFIED:20171207T124304Z
UID:6501-1516523400-1516527000@www.nlcww.org
SUMMARY:Installation of Council Members
DESCRIPTION:Please join us as we install our council members for 2018 during both services today.
URL:https://www.nlcww.org/event/installation-of-council-members/
LOCATION:Sanctuary
END:VEVENT
BEGIN:VEVENT
DTSTART;TZID=America/Los_Angeles:20180121T083000
DTEND;TZID=America/Los_Angeles:20180121T093000
DTSTAMP:20260421T132916
CREATED:20171207T125059Z
LAST-MODIFIED:20171207T125059Z
UID:6787-1516523400-1516527000@www.nlcww.org
SUMMARY:ThankOffering Service
DESCRIPTION:Join us for ThankOffering Sunday hosted by the Women of Nativity (WON). \n\nAs we make our ThankOfferings\, we share in a tradition that goes back to the 1800s or even earlier.\nThen\, when it seemed that there was not enough money to carry out the work of the church\, the women would take action. Gathering in groups called “cent” or “mite” societies\, each woman would set aside offerings at home throughout the year\, in thanksgiving for blessings received. And on occasion\, the women would come together as we do today\, joining their offerings together to support ministry of many kinds.\n \nWhen Women of the ELCA was formed 30 years ago\, we committed to continue this tradition of giving in gratitude for blessings. Each year\, in thousands of congregations\, ThankOfferings are given to support the life-changing ministries of Women of the ELCA. Together\, we do more than we could ever do apart. In gratitude for all God has given to us\, and with hope for all that is to come\, let us now give our ThankOffering.\n 
URL:https://www.nlcww.org/event/thankoffering-service/
LOCATION:Sanctuary
END:VEVENT
BEGIN:VEVENT
DTSTART;TZID=America/Los_Angeles:20180121T110000
DTEND;TZID=America/Los_Angeles:20180121T120000
DTSTAMP:20260421T132916
CREATED:20171207T124352Z
LAST-MODIFIED:20171207T124352Z
UID:6784-1516532400-1516536000@www.nlcww.org
SUMMARY:Installation of Council Members
DESCRIPTION:Please join us as we install our council members for 2018 during both services today.
URL:https://www.nlcww.org/event/installation-of-council-members-2/
LOCATION:Sanctuary
END:VEVENT
BEGIN:VEVENT
DTSTART;TZID=America/Los_Angeles:20180121T110000
DTEND;TZID=America/Los_Angeles:20180121T121500
DTSTAMP:20260421T132916
CREATED:20171207T125223Z
LAST-MODIFIED:20171212T131107Z
UID:6790-1516532400-1516536900@www.nlcww.org
SUMMARY:ThankOffering Service
DESCRIPTION:Join us for ThankOffering Sunday hosted by the Women of Nativity (WON). \nAs we make our ThankOfferings\, we share in a tradition that goes back to the 1800s or even earlier.\nThen\, when it seemed that there was not enough money to carry out the work of the church\, the women would take action. Gathering in groups called “cent” or “mite” societies\, each woman would set aside offerings at home throughout the year\, in thanksgiving for blessings received. And on occasion\, the women would come together as we do today\, joining their offerings together to support ministry of many kinds.\nWhen Women of the ELCA was formed 30 years ago\, we committed to continue this tradition of giving in gratitude for blessings. Each year\, in thousands of congregations\, ThankOfferings are given to support\nthe life-changing ministries of Women of the ELCA. Together\, we do more than we could ever do apart. In gratitude for all God has given to us\, and with hope for all that is to come\, let us now give our ThankOffering.
URL:https://www.nlcww.org/event/thankoffering-service-2/
LOCATION:Sanctuary
END:VEVENT
BEGIN:VEVENT
DTSTART;TZID=America/Los_Angeles:20180121T123000
DTEND;TZID=America/Los_Angeles:20180121T140000
DTSTAMP:20260421T132916
CREATED:20171126T203655Z
LAST-MODIFIED:20171126T203655Z
UID:6613-1516537800-1516543200@www.nlcww.org
SUMMARY:Stone Salad
DESCRIPTION:A relaxing healthy lunch after the holidays; for those unfamiliar with the story\, the fable is about Stone Soup.  Each person in the village donated one item for the soup and thus a yummy pot was created.  We do Stone Salad.  We ask all participants to bring one item you might find on a salad bar\, such as; cheese\, eggs\, croutons\, beans\, etc.   In the past I take a lot of abuse about my view of BEETS\, do as you will\, just don’t put it by me.  Bring your item ready to go into the Fellowship Hall before the service and it all will be ready for you afterwards.  Fellowship will have the greens\, dressing\, crusty bread and beverage.  If you wish to attend\, please sign up on the kiosk in the Narthex.  We will take a free will offering.
URL:https://www.nlcww.org/event/stone-salad/
LOCATION:Winemiller Hall\, 6363 Commercial Way\, Weeki Wachee\, FL\, 34613
END:VEVENT
BEGIN:VEVENT
DTSTART;TZID=America/Los_Angeles:20180123T183000
DTEND;TZID=America/Los_Angeles:20180123T193000
DTSTAMP:20260421T132916
CREATED:20171204T115720Z
LAST-MODIFIED:20171204T115720Z
UID:6730-1516732200-1516735800@www.nlcww.org
SUMMARY:Nativity Ringers
DESCRIPTION:
URL:https://www.nlcww.org/event/nativity-ringers-15/
LOCATION:Sanctuary
ORGANIZER;CN="Jane Henkel":MAILTO:jane.henkel@nlcww.org
END:VEVENT
BEGIN:VEVENT
DTSTART;TZID=America/Los_Angeles:20180128T083000
DTEND;TZID=America/Los_Angeles:20180128T093000
DTSTAMP:20260421T132916
CREATED:20171207T125437Z
LAST-MODIFIED:20171207T125437Z
UID:6792-1517128200-1517131800@www.nlcww.org
SUMMARY:Commissioning to the Parish Deaconate
DESCRIPTION:Jack Page will be commissioned as a Synod Parish Deacon. According to the Florida-Bahamas Synod constituting documents for the program (1998): “A Synodical Deacon is one who is inwardly compelled and outwardly affirmed for service in both the congregation and the world…. We understand a deacon as a particular minister with gifts and a calling for providing vision and practical leadership for the congregation’s ministries. Through their common calling and theological training\, deacons\, exercising their teaching responsibility\, would assist the pastoral ministry in underpinning the particular ministries of their calling to the ministry of Word and Sacrament.” He will join the ranks of our other two deacons\, Ruth Ann Hoy and Clyde Rosten.
URL:https://www.nlcww.org/event/commissioning-to-the-parish-deaconate/
LOCATION:Sanctuary
END:VEVENT
BEGIN:VEVENT
DTSTART;TZID=America/Los_Angeles:20180128T110000
DTEND;TZID=America/Los_Angeles:20180128T120000
DTSTAMP:20260421T132916
CREATED:20171207T125534Z
LAST-MODIFIED:20171212T134407Z
UID:6794-1517137200-1517140800@www.nlcww.org
SUMMARY:Commissioning to the Parish Deaconate
DESCRIPTION:Jack Page will be commissioned as a Synod Parish Deacon. According to the Florida-Bahamas Synod constituting documents for the program (1998): “A Synodical Deacon is one who is inwardly compelled and outwardly affirmed for service in both the congregation and the world…. We understand a deacon as a particular minister with gifts and a calling for providing vision and practical leadership for the congregation’s ministries. Through their common calling and theological training\, deacons\, exercising their teaching responsibility\, would assist the pastoral ministry in underpinning the particular ministries of their calling to the ministry of Word and Sacrament.” He will join the ranks of our other two deacons\, Ruth Ann Hoy and Clyde Rosten.
URL:https://www.nlcww.org/event/commissioning-to-the-parish-deaconate-2/
LOCATION:Sanctuary
END:VEVENT
BEGIN:VEVENT
DTSTART;TZID=America/Los_Angeles:20180130T183000
DTEND;TZID=America/Los_Angeles:20180130T193000
DTSTAMP:20260421T132916
CREATED:20171204T115757Z
LAST-MODIFIED:20171204T115757Z
UID:6732-1517337000-1517340600@www.nlcww.org
SUMMARY:Nativity Ringers
DESCRIPTION:
URL:https://www.nlcww.org/event/nativity-ringers-16/
LOCATION:Sanctuary
ORGANIZER;CN="Jane Henkel":MAILTO:jane.henkel@nlcww.org
END:VEVENT
BEGIN:VEVENT
DTSTART;TZID=America/Los_Angeles:20180207T140000
DTEND;TZID=America/Los_Angeles:20180207T150000
DTSTAMP:20260421T132916
CREATED:20171108T180014Z
LAST-MODIFIED:20171108T180014Z
UID:6432-1518012000-1518015600@www.nlcww.org
SUMMARY:Mission & Outreach
DESCRIPTION:Date/time subject change.
URL:https://www.nlcww.org/event/mission-outreach-2/
LOCATION:Library
END:VEVENT
END:VCALENDAR