BEGIN:VCALENDAR
VERSION:2.0
PRODID:-//Nativity Lutheran Church - ECPv6.15.20//NONSGML v1.0//EN
CALSCALE:GREGORIAN
METHOD:PUBLISH
X-WR-CALNAME:Nativity Lutheran Church
X-ORIGINAL-URL:https://www.nlcww.org
X-WR-CALDESC:Events for Nativity Lutheran Church
REFRESH-INTERVAL;VALUE=DURATION:PT1H
X-Robots-Tag:noindex
X-PUBLISHED-TTL:PT1H
BEGIN:VTIMEZONE
TZID:America/Los_Angeles
BEGIN:DAYLIGHT
TZOFFSETFROM:-0800
TZOFFSETTO:-0700
TZNAME:PDT
DTSTART:20160313T100000
END:DAYLIGHT
BEGIN:STANDARD
TZOFFSETFROM:-0700
TZOFFSETTO:-0800
TZNAME:PST
DTSTART:20161106T090000
END:STANDARD
BEGIN:DAYLIGHT
TZOFFSETFROM:-0800
TZOFFSETTO:-0700
TZNAME:PDT
DTSTART:20170312T100000
END:DAYLIGHT
BEGIN:STANDARD
TZOFFSETFROM:-0700
TZOFFSETTO:-0800
TZNAME:PST
DTSTART:20171105T090000
END:STANDARD
BEGIN:DAYLIGHT
TZOFFSETFROM:-0800
TZOFFSETTO:-0700
TZNAME:PDT
DTSTART:20180311T100000
END:DAYLIGHT
BEGIN:STANDARD
TZOFFSETFROM:-0700
TZOFFSETTO:-0800
TZNAME:PST
DTSTART:20181104T090000
END:STANDARD
END:VTIMEZONE
BEGIN:VEVENT
DTSTART;TZID=America/Los_Angeles:20170908T140000
DTEND;TZID=America/Los_Angeles:20170908T153000
DTSTAMP:20260421T195340
CREATED:20170904T142938Z
LAST-MODIFIED:20170904T142938Z
UID:5654-1504879200-1504884600@www.nlcww.org
SUMMARY:Communication Team
DESCRIPTION:
URL:https://www.nlcww.org/event/communication-team-2/
END:VEVENT
BEGIN:VEVENT
DTSTART;TZID=America/Los_Angeles:20170909T173000
DTEND;TZID=America/Los_Angeles:20170909T190000
DTSTAMP:20260421T195340
CREATED:20170902T111607Z
LAST-MODIFIED:20170902T111607Z
UID:5582-1504978200-1504983600@www.nlcww.org
SUMMARY:AA
DESCRIPTION:
URL:https://www.nlcww.org/event/aa-2/
END:VEVENT
BEGIN:VEVENT
DTSTART;TZID=America/Los_Angeles:20170910T083000
DTEND;TZID=America/Los_Angeles:20170910T093000
DTSTAMP:20260421T195340
CREATED:20170902T111954Z
LAST-MODIFIED:20170902T111954Z
UID:5591-1505032200-1505035800@www.nlcww.org
SUMMARY:Worship
DESCRIPTION:
URL:https://www.nlcww.org/event/worship/
LOCATION:Sanctuary
END:VEVENT
BEGIN:VEVENT
DTSTART;TZID=America/Los_Angeles:20170910T093000
DTEND;TZID=America/Los_Angeles:20170910T110000
DTSTAMP:20260421T195340
CREATED:20170902T111657Z
LAST-MODIFIED:20170902T111657Z
UID:5584-1505035800-1505041200@www.nlcww.org
SUMMARY:Rally Day
DESCRIPTION:
URL:https://www.nlcww.org/event/rally-day/
END:VEVENT
BEGIN:VEVENT
DTSTART;TZID=America/Los_Angeles:20170910T094500
DTEND;TZID=America/Los_Angeles:20170910T104500
DTSTAMP:20260421T195340
CREATED:20170902T111757Z
LAST-MODIFIED:20170902T111757Z
UID:5586-1505036700-1505040300@www.nlcww.org
SUMMARY:Sunday School
DESCRIPTION:
URL:https://www.nlcww.org/event/sunday-school/
LOCATION:Al Lien Hall
END:VEVENT
BEGIN:VEVENT
DTSTART;TZID=America/Los_Angeles:20170910T094500
DTEND;TZID=America/Los_Angeles:20170910T104500
DTSTAMP:20260421T195340
CREATED:20170902T111906Z
LAST-MODIFIED:20170904T135130Z
UID:5588-1505036700-1505040300@www.nlcww.org
SUMMARY:Adult Forum
DESCRIPTION:Rick Steve’s DVD – Luther: The Reformer.
URL:https://www.nlcww.org/event/adult-forum-2/
LOCATION:Winemiller Hall\, 6363 Commercial Way\, Weeki Wachee\, FL\, 34613
END:VEVENT
BEGIN:VEVENT
DTSTART;TZID=America/Los_Angeles:20170910T110000
DTEND;TZID=America/Los_Angeles:20170910T120000
DTSTAMP:20260421T195340
CREATED:20170902T112032Z
LAST-MODIFIED:20170902T112032Z
UID:5593-1505041200-1505044800@www.nlcww.org
SUMMARY:Worship
DESCRIPTION:
URL:https://www.nlcww.org/event/worship-2/
LOCATION:Sanctuary
END:VEVENT
BEGIN:VEVENT
DTSTART;TZID=America/Los_Angeles:20170911T120000
DTEND;TZID=America/Los_Angeles:20170911T133000
DTSTAMP:20260421T195340
CREATED:20170902T112215Z
LAST-MODIFIED:20170902T112215Z
UID:5595-1505131200-1505136600@www.nlcww.org
SUMMARY:Wisconsin Club
DESCRIPTION:
URL:https://www.nlcww.org/event/wisconsin-club/
END:VEVENT
BEGIN:VEVENT
DTSTART;TZID=America/Los_Angeles:20170911T190000
DTEND;TZID=America/Los_Angeles:20170911T203000
DTSTAMP:20260421T195340
CREATED:20170902T112242Z
LAST-MODIFIED:20170902T112242Z
UID:5597-1505156400-1505161800@www.nlcww.org
SUMMARY:Harmonizers
DESCRIPTION:
URL:https://www.nlcww.org/event/harmonizers-3/
END:VEVENT
BEGIN:VEVENT
DTSTART;TZID=America/Los_Angeles:20170913T123000
DTEND;TZID=America/Los_Angeles:20170913T150000
DTSTAMP:20260421T195340
CREATED:20170904T135810Z
LAST-MODIFIED:20170904T135810Z
UID:5622-1505305800-1505314800@www.nlcww.org
SUMMARY:Cards R Us
DESCRIPTION:Would you like to get creative and help finance Pastor’s Discretionary fund at the same time?  Join us to make cards out of used greeting cards.
URL:https://www.nlcww.org/event/cards-r-us-4/
END:VEVENT
BEGIN:VEVENT
DTSTART;TZID=America/Los_Angeles:20170913T163000
DTEND;TZID=America/Los_Angeles:20170913T173000
DTSTAMP:20260421T195340
CREATED:20170904T143240Z
LAST-MODIFIED:20170904T143240Z
UID:5658-1505320200-1505323800@www.nlcww.org
SUMMARY:Worship & Music
DESCRIPTION:
URL:https://www.nlcww.org/event/worship-music/
END:VEVENT
BEGIN:VEVENT
DTSTART;TZID=America/Los_Angeles:20170913T180000
DTEND;TZID=America/Los_Angeles:20170913T193000
DTSTAMP:20260421T195340
CREATED:20170904T143328Z
LAST-MODIFIED:20170904T143328Z
UID:5660-1505325600-1505331000@www.nlcww.org
SUMMARY:Choir
DESCRIPTION:
URL:https://www.nlcww.org/event/choir-2/
LOCATION:Sanctuary
END:VEVENT
BEGIN:VEVENT
DTSTART;TZID=America/Los_Angeles:20170913T180000
DTEND;TZID=America/Los_Angeles:20170913T193000
DTSTAMP:20260421T195340
CREATED:20170904T143400Z
LAST-MODIFIED:20170904T143400Z
UID:5662-1505325600-1505331000@www.nlcww.org
SUMMARY:Cub Scouts
DESCRIPTION:
URL:https://www.nlcww.org/event/cub-scouts-2/
END:VEVENT
BEGIN:VEVENT
DTSTART;TZID=America/Los_Angeles:20170914T090000
DTEND;TZID=America/Los_Angeles:20170914T110000
DTSTAMP:20260421T195340
CREATED:20170904T143547Z
LAST-MODIFIED:20170904T143547Z
UID:5668-1505379600-1505386800@www.nlcww.org
SUMMARY:TOPS
DESCRIPTION:
URL:https://www.nlcww.org/event/tops-6/
END:VEVENT
BEGIN:VEVENT
DTSTART;TZID=America/Los_Angeles:20170914T123000
DTEND;TZID=America/Los_Angeles:20170914T140000
DTSTAMP:20260421T195340
CREATED:20170904T140045Z
LAST-MODIFIED:20170904T140045Z
UID:5625-1505392200-1505397600@www.nlcww.org
SUMMARY:Mary Joy Circle
DESCRIPTION:Bible Study and refreshments.  Start the new season off with us.  Our Bible study is from Gather magazine and the topic will be The Apostle’s Creed: We Believe in God.  Study leader is Cam Martin.  Hostesses are Cam Martin and Louise Weyen.
URL:https://www.nlcww.org/event/mary-joy-circle/
END:VEVENT
BEGIN:VEVENT
DTSTART;TZID=America/Los_Angeles:20170915T073000
DTEND;TZID=America/Los_Angeles:20170915T083000
DTSTAMP:20260421T195340
CREATED:20170904T143515Z
LAST-MODIFIED:20170904T143515Z
UID:5666-1505460600-1505464200@www.nlcww.org
SUMMARY:Folders
DESCRIPTION:
URL:https://www.nlcww.org/event/folders-4/
END:VEVENT
BEGIN:VEVENT
DTSTART;TZID=America/Los_Angeles:20170915T090000
DTEND;TZID=America/Los_Angeles:20170915T110000
DTSTAMP:20260421T195340
CREATED:20170904T143619Z
LAST-MODIFIED:20170904T145452Z
UID:5670-1505466000-1505473200@www.nlcww.org
SUMMARY:TOPS
DESCRIPTION:
URL:https://www.nlcww.org/event/tops-7/
END:VEVENT
BEGIN:VEVENT
DTSTART;TZID=America/Los_Angeles:20170915T090000
DTEND;TZID=America/Los_Angeles:20170915T120000
DTSTAMP:20260421T195340
CREATED:20170904T143436Z
LAST-MODIFIED:20170904T143436Z
UID:5664-1505466000-1505476800@www.nlcww.org
SUMMARY:Crafty Ladies
DESCRIPTION:
URL:https://www.nlcww.org/event/crafty-ladies-3/
LOCATION:Al Lien Hall
END:VEVENT
BEGIN:VEVENT
DTSTART;TZID=America/Los_Angeles:20170915T120000
DTEND;TZID=America/Los_Angeles:20170915T133000
DTSTAMP:20260421T195340
CREATED:20170902T112311Z
LAST-MODIFIED:20170914T134347Z
UID:5599-1505476800-1505482200@www.nlcww.org
SUMMARY:Fellowship
DESCRIPTION:
URL:https://www.nlcww.org/event/fellowship/
END:VEVENT
BEGIN:VEVENT
DTSTART;TZID=America/Los_Angeles:20170917T083000
DTEND;TZID=America/Los_Angeles:20170917T123000
DTSTAMP:20260421T195340
CREATED:20170904T143925Z
LAST-MODIFIED:20170904T143925Z
UID:5672-1505637000-1505651400@www.nlcww.org
SUMMARY:Worship
DESCRIPTION:
URL:https://www.nlcww.org/event/worship-3/
END:VEVENT
BEGIN:VEVENT
DTSTART;TZID=America/Los_Angeles:20170917T094500
DTEND;TZID=America/Los_Angeles:20170917T104500
DTSTAMP:20260421T195340
CREATED:20170904T144001Z
LAST-MODIFIED:20170904T144001Z
UID:5674-1505641500-1505645100@www.nlcww.org
SUMMARY:Sunday School
DESCRIPTION:
URL:https://www.nlcww.org/event/sunday-school-2/
LOCATION:Al Lien Hall
END:VEVENT
BEGIN:VEVENT
DTSTART;TZID=America/Los_Angeles:20170918T180000
DTEND;TZID=America/Los_Angeles:20170918T200000
DTSTAMP:20260421T195340
CREATED:20170904T140633Z
LAST-MODIFIED:20170904T201636Z
UID:5627-1505757600-1505764800@www.nlcww.org
SUMMARY:Sarah Circle
DESCRIPTION:Calling all knitters\, crocheters or anyone interested in learning!  We provide the yarn. Knit or crochet prayer shawls in all shapes and sizes to give to those hospitalized\, grieving\, or otherwise in need of prayer.
URL:https://www.nlcww.org/event/sarah-circle/
LOCATION:Youth Room
END:VEVENT
BEGIN:VEVENT
DTSTART;TZID=America/Los_Angeles:20170918T190000
DTEND;TZID=America/Los_Angeles:20170918T210000
DTSTAMP:20260421T195340
CREATED:20170904T144240Z
LAST-MODIFIED:20170904T144240Z
UID:5682-1505761200-1505768400@www.nlcww.org
SUMMARY:Harmonizers
DESCRIPTION:
URL:https://www.nlcww.org/event/harmonizers-4/
END:VEVENT
BEGIN:VEVENT
DTSTART;TZID=America/Los_Angeles:20170919T083000
DTEND;TZID=America/Los_Angeles:20170919T100000
DTSTAMP:20260421T195340
CREATED:20170618T160207Z
LAST-MODIFIED:20170904T201818Z
UID:4676-1505809800-1505815200@www.nlcww.org
SUMMARY:Men's Breakfast
DESCRIPTION:
URL:https://www.nlcww.org/event/mens-breakfast/
LOCATION:Perkins\, 4685 Commercial Way\, Spring Hill\, FL\, United States
END:VEVENT
BEGIN:VEVENT
DTSTART;TZID=America/Los_Angeles:20170920T120000
DTEND;TZID=America/Los_Angeles:20170920T133000
DTSTAMP:20260421T195340
CREATED:20170904T145031Z
LAST-MODIFIED:20170904T145031Z
UID:5705-1505908800-1505914200@www.nlcww.org
SUMMARY:Michigan Club
DESCRIPTION:
URL:https://www.nlcww.org/event/michigan-club/
END:VEVENT
BEGIN:VEVENT
DTSTART;TZID=America/Los_Angeles:20170920T150000
DTEND;TZID=America/Los_Angeles:20170920T153000
DTSTAMP:20260421T195340
CREATED:20170916T201652Z
LAST-MODIFIED:20170916T201652Z
UID:5808-1505919600-1505921400@www.nlcww.org
SUMMARY:Finance
DESCRIPTION:
URL:https://www.nlcww.org/event/finance/
END:VEVENT
BEGIN:VEVENT
DTSTART;TZID=America/Los_Angeles:20170920T153000
DTEND;TZID=America/Los_Angeles:20170920T163000
DTSTAMP:20260421T195340
CREATED:20170904T143206Z
LAST-MODIFIED:20170916T201614Z
UID:5656-1505921400-1505925000@www.nlcww.org
SUMMARY:Executive\, Finance\, Stewardship
DESCRIPTION:Meeting with Pastor Lug0
URL:https://www.nlcww.org/event/executive-finance-stewardship/
END:VEVENT
BEGIN:VEVENT
DTSTART;TZID=America/Los_Angeles:20170920T180000
DTEND;TZID=America/Los_Angeles:20170920T193000
DTSTAMP:20260421T195340
CREATED:20170904T145108Z
LAST-MODIFIED:20170904T145108Z
UID:5707-1505930400-1505935800@www.nlcww.org
SUMMARY:Choir
DESCRIPTION:
URL:https://www.nlcww.org/event/choir-3/
LOCATION:Sanctuary
END:VEVENT
BEGIN:VEVENT
DTSTART;TZID=America/Los_Angeles:20170920T180000
DTEND;TZID=America/Los_Angeles:20170920T193000
DTSTAMP:20260421T195340
CREATED:20170904T145222Z
LAST-MODIFIED:20170904T145222Z
UID:5711-1505930400-1505935800@www.nlcww.org
SUMMARY:Cub Scouts
DESCRIPTION:
URL:https://www.nlcww.org/event/cub-scouts-3/
END:VEVENT
BEGIN:VEVENT
DTSTART;TZID=America/Los_Angeles:20170921T090000
DTEND;TZID=America/Los_Angeles:20170921T110000
DTSTAMP:20260421T195340
CREATED:20170904T144550Z
LAST-MODIFIED:20170904T144550Z
UID:5689-1505984400-1505991600@www.nlcww.org
SUMMARY:TOPS
DESCRIPTION:
URL:https://www.nlcww.org/event/tops-8/
END:VEVENT
END:VCALENDAR