BEGIN:VCALENDAR
VERSION:2.0
PRODID:-//Nativity Lutheran Church - ECPv6.15.20//NONSGML v1.0//EN
CALSCALE:GREGORIAN
METHOD:PUBLISH
X-WR-CALNAME:Nativity Lutheran Church
X-ORIGINAL-URL:https://www.nlcww.org
X-WR-CALDESC:Events for Nativity Lutheran Church
REFRESH-INTERVAL;VALUE=DURATION:PT1H
X-Robots-Tag:noindex
X-PUBLISHED-TTL:PT1H
BEGIN:VTIMEZONE
TZID:America/Los_Angeles
BEGIN:DAYLIGHT
TZOFFSETFROM:-0800
TZOFFSETTO:-0700
TZNAME:PDT
DTSTART:20160313T100000
END:DAYLIGHT
BEGIN:STANDARD
TZOFFSETFROM:-0700
TZOFFSETTO:-0800
TZNAME:PST
DTSTART:20161106T090000
END:STANDARD
BEGIN:DAYLIGHT
TZOFFSETFROM:-0800
TZOFFSETTO:-0700
TZNAME:PDT
DTSTART:20170312T100000
END:DAYLIGHT
BEGIN:STANDARD
TZOFFSETFROM:-0700
TZOFFSETTO:-0800
TZNAME:PST
DTSTART:20171105T090000
END:STANDARD
BEGIN:DAYLIGHT
TZOFFSETFROM:-0800
TZOFFSETTO:-0700
TZNAME:PDT
DTSTART:20180311T100000
END:DAYLIGHT
BEGIN:STANDARD
TZOFFSETFROM:-0700
TZOFFSETTO:-0800
TZNAME:PST
DTSTART:20181104T090000
END:STANDARD
END:VTIMEZONE
BEGIN:VEVENT
DTSTART;TZID=America/Los_Angeles:20171027T140000
DTEND;TZID=America/Los_Angeles:20171027T153000
DTSTAMP:20260422T185615
CREATED:20170921T174448Z
LAST-MODIFIED:20170921T174448Z
UID:5952-1509112800-1509118200@www.nlcww.org
SUMMARY:Book Club
DESCRIPTION:
URL:https://www.nlcww.org/event/book-club/
LOCATION:Library
END:VEVENT
BEGIN:VEVENT
DTSTART;TZID=America/Los_Angeles:20171027T090000
DTEND;TZID=America/Los_Angeles:20171027T120000
DTSTAMP:20260422T185615
CREATED:20170921T124855Z
LAST-MODIFIED:20170921T181418Z
UID:5877-1509094800-1509105600@www.nlcww.org
SUMMARY:Crafty Ladies
DESCRIPTION:
URL:https://www.nlcww.org/event/crafty-ladies-8/
LOCATION:Al Lien Hall
END:VEVENT
BEGIN:VEVENT
DTSTART;TZID=America/Los_Angeles:20171027T073000
DTEND;TZID=America/Los_Angeles:20171027T090000
DTSTAMP:20260422T185615
CREATED:20170921T124704Z
LAST-MODIFIED:20170921T181432Z
UID:5871-1509089400-1509094800@www.nlcww.org
SUMMARY:Folders
DESCRIPTION:
URL:https://www.nlcww.org/event/folders-10/
LOCATION:Library
END:VEVENT
BEGIN:VEVENT
DTSTART;TZID=America/Los_Angeles:20171026T090000
DTEND;TZID=America/Los_Angeles:20171026T110000
DTSTAMP:20260422T185615
CREATED:20170925T153210Z
LAST-MODIFIED:20170925T153210Z
UID:6019-1509008400-1509015600@www.nlcww.org
SUMMARY:TOPS
DESCRIPTION:
URL:https://www.nlcww.org/event/tops-16/
LOCATION:Winemiller Hall\, 6363 Commercial Way\, Weeki Wachee\, FL\, 34613
END:VEVENT
BEGIN:VEVENT
DTSTART;TZID=America/Los_Angeles:20171025T180000
DTEND;TZID=America/Los_Angeles:20171025T193000
DTSTAMP:20260422T185615
CREATED:20170921T174330Z
LAST-MODIFIED:20170921T181446Z
UID:5948-1508954400-1508959800@www.nlcww.org
SUMMARY:Cub Scouts
DESCRIPTION:
URL:https://www.nlcww.org/event/cub-scouts-7/
LOCATION:Winemiller Hall\, 6363 Commercial Way\, Weeki Wachee\, FL\, 34613
END:VEVENT
BEGIN:VEVENT
DTSTART;TZID=America/Los_Angeles:20171025T180000
DTEND;TZID=America/Los_Angeles:20171025T193000
DTSTAMP:20260422T185615
CREATED:20170921T174300Z
LAST-MODIFIED:20170921T181451Z
UID:5946-1508954400-1508959800@www.nlcww.org
SUMMARY:Choir
DESCRIPTION:
URL:https://www.nlcww.org/event/choir-7/
LOCATION:Sanctuary
END:VEVENT
BEGIN:VEVENT
DTSTART;TZID=America/Los_Angeles:20171025T153000
DTEND;TZID=America/Los_Angeles:20171025T163000
DTSTAMP:20260422T185615
CREATED:20171018T110351Z
LAST-MODIFIED:20171018T110351Z
UID:6160-1508945400-1508949000@www.nlcww.org
SUMMARY:Area Ministry Leaders
DESCRIPTION:
URL:https://www.nlcww.org/event/area-ministry-leaders/
LOCATION:Florida
END:VEVENT
BEGIN:VEVENT
DTSTART;TZID=America/Los_Angeles:20171025T143000
DTEND;TZID=America/Los_Angeles:20171025T153000
DTSTAMP:20260422T185615
CREATED:20171023T145539Z
LAST-MODIFIED:20171023T145539Z
UID:6215-1508941800-1508945400@www.nlcww.org
SUMMARY:Membership Committee
DESCRIPTION:
URL:https://www.nlcww.org/event/membership-committee/
LOCATION:Florida
END:VEVENT
BEGIN:VEVENT
DTSTART;TZID=America/Los_Angeles:20171025T100000
DTEND;TZID=America/Los_Angeles:20171025T110000
DTSTAMP:20260422T185615
CREATED:20171023T153034Z
LAST-MODIFIED:20171023T153034Z
UID:6259-1508925600-1508929200@www.nlcww.org
SUMMARY:Altar Guild
DESCRIPTION:
URL:https://www.nlcww.org/event/altar-guild-2/
LOCATION:Library
END:VEVENT
BEGIN:VEVENT
DTSTART;TZID=America/Los_Angeles:20171024T183000
DTEND;TZID=America/Los_Angeles:20171024T200000
DTSTAMP:20260422T185615
CREATED:20171023T145452Z
LAST-MODIFIED:20171023T145452Z
UID:6213-1508869800-1508875200@www.nlcww.org
SUMMARY:Daisies
DESCRIPTION:
URL:https://www.nlcww.org/event/daisies/
LOCATION:Florida
END:VEVENT
BEGIN:VEVENT
DTSTART;TZID=America/Los_Angeles:20171024T183000
DTEND;TZID=America/Los_Angeles:20171024T200000
DTSTAMP:20260422T185615
CREATED:20170921T174226Z
LAST-MODIFIED:20170921T181457Z
UID:5944-1508869800-1508875200@www.nlcww.org
SUMMARY:Nativity Ringers
DESCRIPTION:
URL:https://www.nlcww.org/event/nativity-ringers-5/
LOCATION:Sanctuary
END:VEVENT
BEGIN:VEVENT
DTSTART;TZID=America/Los_Angeles:20171024T180000
DTEND;TZID=America/Los_Angeles:20171024T193000
DTSTAMP:20260422T185615
CREATED:20170921T174153Z
LAST-MODIFIED:20170921T181501Z
UID:5942-1508868000-1508873400@www.nlcww.org
SUMMARY:Girl Scouts
DESCRIPTION:
URL:https://www.nlcww.org/event/girl-scouts-5/
LOCATION:Al Lien Hall
END:VEVENT
BEGIN:VEVENT
DTSTART;TZID=America/Los_Angeles:20171023T190000
DTEND;TZID=America/Los_Angeles:20171023T210000
DTSTAMP:20260422T185615
CREATED:20171002T150205Z
LAST-MODIFIED:20171002T150205Z
UID:6096-1508785200-1508792400@www.nlcww.org
SUMMARY:Harmonizers
DESCRIPTION:
URL:https://www.nlcww.org/event/harmonizers-9/
LOCATION:Al Lien Hall
END:VEVENT
BEGIN:VEVENT
DTSTART;TZID=America/Los_Angeles:20171023T083000
DTEND;TZID=America/Los_Angeles:20171023T100000
DTSTAMP:20260422T185615
CREATED:20170921T172538Z
LAST-MODIFIED:20170921T181521Z
UID:5895-1508747400-1508752800@www.nlcww.org
SUMMARY:Counters
DESCRIPTION:
URL:https://www.nlcww.org/event/counters-6/
LOCATION:Library
END:VEVENT
BEGIN:VEVENT
DTSTART;TZID=America/Los_Angeles:20171022T110000
DTEND;TZID=America/Los_Angeles:20171022T120000
DTSTAMP:20260422T185615
CREATED:20170925T154801Z
LAST-MODIFIED:20171004T170650Z
UID:6034-1508670000-1508673600@www.nlcww.org
SUMMARY:Worship
DESCRIPTION:Nativity Ringers will be playing\,
URL:https://www.nlcww.org/event/worship-10/
LOCATION:Sanctuary
END:VEVENT
BEGIN:VEVENT
DTSTART;TZID=America/Los_Angeles:20171022T094500
DTEND;TZID=America/Los_Angeles:20171022T104500
DTSTAMP:20260422T185615
CREATED:20170925T154907Z
LAST-MODIFIED:20170925T154907Z
UID:6036-1508665500-1508669100@www.nlcww.org
SUMMARY:Sunday School
DESCRIPTION:
URL:https://www.nlcww.org/event/sunday-school-7/
LOCATION:Al Lien Hall
END:VEVENT
BEGIN:VEVENT
DTSTART;TZID=America/Los_Angeles:20171022T094500
DTEND;TZID=America/Los_Angeles:20171022T104500
DTSTAMP:20260422T185615
CREATED:20170925T145712Z
LAST-MODIFIED:20170925T145712Z
UID:6000-1508665500-1508669100@www.nlcww.org
SUMMARY:Adult Forum
DESCRIPTION:Toward Reformation 1000.\n \nThe Mind of Christ.\nWe have no idea what church\, or the world\, will look like in 2517.  The church is not ours but Christ’s – true or false?  How does your mid differ from Christ’s about what’s up?  There are many Christian denominations: is that good or bad?  What are Lutherans missing by being predominantly white?
URL:https://www.nlcww.org/event/adult-forum-7/
LOCATION:Winemiller Hall\, 6363 Commercial Way\, Weeki Wachee\, FL\, 34613
END:VEVENT
BEGIN:VEVENT
DTSTART;TZID=America/Los_Angeles:20171022T083000
DTEND;TZID=America/Los_Angeles:20171022T093000
DTSTAMP:20260422T185615
CREATED:20170925T154655Z
LAST-MODIFIED:20171004T170550Z
UID:6032-1508661000-1508664600@www.nlcww.org
SUMMARY:Worship
DESCRIPTION:Nativity Ringers will be playing.  
URL:https://www.nlcww.org/event/worship-9/
LOCATION:Sanctuary
END:VEVENT
BEGIN:VEVENT
DTSTART;TZID=America/Los_Angeles:20171021T080000
DTEND;TZID=America/Los_Angeles:20171021T130000
DTSTAMP:20260422T185615
CREATED:20170904T142821Z
LAST-MODIFIED:20170904T142821Z
UID:5652-1508572800-1508590800@www.nlcww.org
SUMMARY:Junktique Sale
DESCRIPTION:
URL:https://www.nlcww.org/event/junktique-sale-2/
LOCATION:Winemiller Hall\, 6363 Commercial Way\, Weeki Wachee\, FL\, 34613
END:VEVENT
BEGIN:VEVENT
DTSTART;TZID=America/Los_Angeles:20171020T080000
DTEND;TZID=America/Los_Angeles:20171020T130000
DTSTAMP:20260422T185615
CREATED:20170904T142743Z
LAST-MODIFIED:20170921T181527Z
UID:5649-1508486400-1508504400@www.nlcww.org
SUMMARY:Junktique Sale
DESCRIPTION:
URL:https://www.nlcww.org/event/junktique-sale/
LOCATION:Winemiller Hall\, 6363 Commercial Way\, Weeki Wachee\, FL\, 34613
END:VEVENT
BEGIN:VEVENT
DTSTART;TZID=America/Los_Angeles:20171020T073000
DTEND;TZID=America/Los_Angeles:20171020T090000
DTSTAMP:20260422T185615
CREATED:20170921T124632Z
LAST-MODIFIED:20170921T181533Z
UID:5869-1508484600-1508490000@www.nlcww.org
SUMMARY:Folders
DESCRIPTION:
URL:https://www.nlcww.org/event/folders-9/
LOCATION:Library
END:VEVENT
BEGIN:VEVENT
DTSTART;TZID=America/Los_Angeles:20171018T180000
DTEND;TZID=America/Los_Angeles:20171018T193000
DTSTAMP:20260422T185615
CREATED:20170926T195550Z
LAST-MODIFIED:20170926T195550Z
UID:6055-1508349600-1508355000@www.nlcww.org
SUMMARY:Choir
DESCRIPTION:
URL:https://www.nlcww.org/event/choir-8/
LOCATION:Sanctuary
END:VEVENT
BEGIN:VEVENT
DTSTART;TZID=America/Los_Angeles:20171018T120000
DTEND;TZID=America/Los_Angeles:20171018T140000
DTSTAMP:20260422T185615
CREATED:20170921T174037Z
LAST-MODIFIED:20170921T181538Z
UID:5938-1508328000-1508335200@www.nlcww.org
SUMMARY:Michigan Club
DESCRIPTION:
URL:https://www.nlcww.org/event/michigan-club-2/
LOCATION:Winemiller Hall\, 6363 Commercial Way\, Weeki Wachee\, FL\, 34613
END:VEVENT
BEGIN:VEVENT
DTSTART;TZID=America/Los_Angeles:20171018T090000
DTEND;TZID=America/Los_Angeles:20171018T100000
DTSTAMP:20260422T185615
CREATED:20171025T140048Z
LAST-MODIFIED:20171023T152834Z
UID:5686-1508317200-1508320800@www.nlcww.org
SUMMARY:Altar Guild
DESCRIPTION:
URL:https://www.nlcww.org/event/altar-guild/
LOCATION:Library
END:VEVENT
BEGIN:VEVENT
DTSTART;TZID=America/Los_Angeles:20171017T183000
DTEND;TZID=America/Los_Angeles:20171017T200000
DTSTAMP:20260422T185615
CREATED:20170921T173949Z
LAST-MODIFIED:20170921T181544Z
UID:5936-1508265000-1508270400@www.nlcww.org
SUMMARY:Nativity Ringers
DESCRIPTION:
URL:https://www.nlcww.org/event/nativity-ringers-4/
LOCATION:Sanctuary
END:VEVENT
BEGIN:VEVENT
DTSTART;TZID=America/Los_Angeles:20171017T143000
DTEND;TZID=America/Los_Angeles:20171017T160000
DTSTAMP:20260422T185615
CREATED:20170921T173916Z
LAST-MODIFIED:20171002T151050Z
UID:5934-1508250600-1508256000@www.nlcww.org
SUMMARY:Council
DESCRIPTION:
URL:https://www.nlcww.org/event/council/
LOCATION:Library
END:VEVENT
BEGIN:VEVENT
DTSTART;TZID=America/Los_Angeles:20171017T083000
DTEND;TZID=America/Los_Angeles:20171017T100000
DTSTAMP:20260422T185615
CREATED:20170921T173841Z
LAST-MODIFIED:20170921T173841Z
UID:5932-1508229000-1508234400@www.nlcww.org
SUMMARY:Men's Breakfast
DESCRIPTION:
URL:https://www.nlcww.org/event/mens-breakfast-2/
LOCATION:Perkins\, 4685 Commercial Way\, Spring Hill\, FL\, United States
END:VEVENT
BEGIN:VEVENT
DTSTART;TZID=America/Los_Angeles:20171016T190000
DTEND;TZID=America/Los_Angeles:20171016T203000
DTSTAMP:20260422T185615
CREATED:20170921T125404Z
LAST-MODIFIED:20170921T181602Z
UID:5887-1508180400-1508185800@www.nlcww.org
SUMMARY:Harmonizers
DESCRIPTION:
URL:https://www.nlcww.org/event/harmonizers-6/
LOCATION:Al Lien Hall
END:VEVENT
BEGIN:VEVENT
DTSTART;TZID=America/Los_Angeles:20171016T083000
DTEND;TZID=America/Los_Angeles:20171016T100000
DTSTAMP:20260422T185615
CREATED:20170921T172506Z
LAST-MODIFIED:20170921T181609Z
UID:5893-1508142600-1508148000@www.nlcww.org
SUMMARY:Counters
DESCRIPTION:
URL:https://www.nlcww.org/event/counters-5/
LOCATION:Library
END:VEVENT
BEGIN:VEVENT
DTSTART;TZID=America/Los_Angeles:20171015T110000
DTEND;TZID=America/Los_Angeles:20171015T120000
DTSTAMP:20260422T185615
CREATED:20170925T154552Z
LAST-MODIFIED:20170925T154552Z
UID:6030-1508065200-1508068800@www.nlcww.org
SUMMARY:Worship
DESCRIPTION:
URL:https://www.nlcww.org/event/worship-8/
LOCATION:Sanctuary
END:VEVENT
END:VCALENDAR