BEGIN:VCALENDAR
VERSION:2.0
PRODID:-//Nativity Lutheran Church - ECPv6.15.20//NONSGML v1.0//EN
CALSCALE:GREGORIAN
METHOD:PUBLISH
X-ORIGINAL-URL:https://www.nlcww.org
X-WR-CALDESC:Events for Nativity Lutheran Church
REFRESH-INTERVAL;VALUE=DURATION:PT1H
X-Robots-Tag:noindex
X-PUBLISHED-TTL:PT1H
BEGIN:VTIMEZONE
TZID:America/Los_Angeles
BEGIN:DAYLIGHT
TZOFFSETFROM:-0800
TZOFFSETTO:-0700
TZNAME:PDT
DTSTART:20160313T100000
END:DAYLIGHT
BEGIN:STANDARD
TZOFFSETFROM:-0700
TZOFFSETTO:-0800
TZNAME:PST
DTSTART:20161106T090000
END:STANDARD
BEGIN:DAYLIGHT
TZOFFSETFROM:-0800
TZOFFSETTO:-0700
TZNAME:PDT
DTSTART:20170312T100000
END:DAYLIGHT
BEGIN:STANDARD
TZOFFSETFROM:-0700
TZOFFSETTO:-0800
TZNAME:PST
DTSTART:20171105T090000
END:STANDARD
BEGIN:DAYLIGHT
TZOFFSETFROM:-0800
TZOFFSETTO:-0700
TZNAME:PDT
DTSTART:20180311T100000
END:DAYLIGHT
BEGIN:STANDARD
TZOFFSETFROM:-0700
TZOFFSETTO:-0800
TZNAME:PST
DTSTART:20181104T090000
END:STANDARD
END:VTIMEZONE
BEGIN:VTIMEZONE
TZID:America/New_York
BEGIN:DAYLIGHT
TZOFFSETFROM:-0500
TZOFFSETTO:-0400
TZNAME:EDT
DTSTART:20160313T070000
END:DAYLIGHT
BEGIN:STANDARD
TZOFFSETFROM:-0400
TZOFFSETTO:-0500
TZNAME:EST
DTSTART:20161106T060000
END:STANDARD
BEGIN:DAYLIGHT
TZOFFSETFROM:-0500
TZOFFSETTO:-0400
TZNAME:EDT
DTSTART:20170312T070000
END:DAYLIGHT
BEGIN:STANDARD
TZOFFSETFROM:-0400
TZOFFSETTO:-0500
TZNAME:EST
DTSTART:20171105T060000
END:STANDARD
BEGIN:DAYLIGHT
TZOFFSETFROM:-0500
TZOFFSETTO:-0400
TZNAME:EDT
DTSTART:20180311T070000
END:DAYLIGHT
BEGIN:STANDARD
TZOFFSETFROM:-0400
TZOFFSETTO:-0500
TZNAME:EST
DTSTART:20181104T060000
END:STANDARD
END:VTIMEZONE
BEGIN:VEVENT
DTSTART;TZID=America/Los_Angeles:20171121T083000
DTEND;TZID=America/Los_Angeles:20171121T100000
DTSTAMP:20260421T121045
CREATED:20171106T184847Z
LAST-MODIFIED:20171106T184847Z
UID:6320-1511253000-1511258400@www.nlcww.org
SUMMARY:Men's Breakfast
DESCRIPTION:
URL:https://www.nlcww.org/event/mens-breakfast-3/
LOCATION:Perkins\, 4685 Commercial Way\, Spring Hill\, FL\, United States
END:VEVENT
BEGIN:VEVENT
DTSTART;TZID=America/Los_Angeles:20171121T190000
DTEND;TZID=America/Los_Angeles:20171121T203000
DTSTAMP:20260421T121045
CREATED:20170904T142420Z
LAST-MODIFIED:20171115T133923Z
UID:5642-1511290800-1511296200@www.nlcww.org
SUMMARY:Thanksgiving Service
DESCRIPTION:This year Holy Cross Lutheran Church hosts the Thanksgiving service. Please bring an item that symbolizes what you are thankful for.
URL:https://www.nlcww.org/event/thanksgiving-service/
LOCATION:Holy Cross\, 6193 Spring Hill Drive\, Spring Hill\, FL\, 34606
END:VEVENT
BEGIN:VEVENT
DTSTART;TZID=America/Los_Angeles:20171122T130000
DTEND;TZID=America/Los_Angeles:20171122T160000
DTSTAMP:20260421T121045
CREATED:20171115T133813Z
LAST-MODIFIED:20171115T133813Z
UID:6516-1511355600-1511366400@www.nlcww.org
SUMMARY:Free Thanksgiving Dinner
DESCRIPTION:Free Thanksgiving dinner with all the trimmings and desserts at Holy Cross Lutheran Church.
URL:https://www.nlcww.org/event/free-thanksgiving-dinner/
LOCATION:Holy Cross\, 6193 Spring Hill Drive\, Spring Hill\, FL\, 34606
END:VEVENT
BEGIN:VEVENT
DTSTART;TZID=America/Los_Angeles:20171122T180000
DTEND;TZID=America/Los_Angeles:20171122T190000
DTSTAMP:20260421T121045
CREATED:20171113T132610Z
LAST-MODIFIED:20171113T132610Z
UID:6483-1511373600-1511377200@www.nlcww.org
SUMMARY:Cub Scouts
DESCRIPTION:
URL:https://www.nlcww.org/event/cub-scouts-11/
END:VEVENT
BEGIN:VEVENT
DTSTART;TZID=America/New_York:20171122T180000
DTEND;TZID=America/New_York:20171122T193000
DTSTAMP:20260421T121045
CREATED:20171009T152600Z
LAST-MODIFIED:20171009T152600Z
UID:6141-1511373600-1511379000@www.nlcww.org
SUMMARY:Choir
DESCRIPTION:
URL:https://www.nlcww.org/event/choir-12/
LOCATION:Sanctuary
END:VEVENT
BEGIN:VEVENT
DTSTART;TZID=America/Los_Angeles:20171123T080000
DTEND;TZID=America/Los_Angeles:20171123T170000
DTSTAMP:20260421T121045
CREATED:20171113T132139Z
LAST-MODIFIED:20171113T132139Z
UID:6471-1511424000-1511456400@www.nlcww.org
SUMMARY:Thanksgiving
DESCRIPTION:Office Closed.
URL:https://www.nlcww.org/event/thanksgiving/
END:VEVENT
BEGIN:VEVENT
DTSTART;TZID=America/Los_Angeles:20171124T073000
DTEND;TZID=America/Los_Angeles:20171124T090000
DTSTAMP:20260421T121045
CREATED:20171023T150203Z
LAST-MODIFIED:20171023T150203Z
UID:6228-1511508600-1511514000@www.nlcww.org
SUMMARY:Folders
DESCRIPTION:
URL:https://www.nlcww.org/event/folders-14/
LOCATION:Library
END:VEVENT
BEGIN:VEVENT
DTSTART;TZID=America/Los_Angeles:20171124T080000
DTEND;TZID=America/Los_Angeles:20171124T170000
DTSTAMP:20260421T121045
CREATED:20171113T132212Z
LAST-MODIFIED:20171113T132212Z
UID:6473-1511510400-1511542800@www.nlcww.org
SUMMARY:Office Closed
DESCRIPTION:
URL:https://www.nlcww.org/event/office-closed/
END:VEVENT
BEGIN:VEVENT
DTSTART;TZID=America/Los_Angeles:20171124T090000
DTEND;TZID=America/Los_Angeles:20171124T120000
DTSTAMP:20260421T121045
CREATED:20171106T190026Z
LAST-MODIFIED:20171106T190026Z
UID:6345-1511514000-1511524800@www.nlcww.org
SUMMARY:Crafty Ladies
DESCRIPTION:
URL:https://www.nlcww.org/event/crafty-ladies-11/
LOCATION:Al Lien Hall
END:VEVENT
BEGIN:VEVENT
DTSTART;TZID=America/Los_Angeles:20171126T083000
DTEND;TZID=America/Los_Angeles:20171126T093000
DTSTAMP:20260421T121045
CREATED:20171106T190522Z
LAST-MODIFIED:20171106T190522Z
UID:6349-1511685000-1511688600@www.nlcww.org
SUMMARY:Worship
DESCRIPTION:
URL:https://www.nlcww.org/event/worship-18/
LOCATION:Sanctuary
END:VEVENT
BEGIN:VEVENT
DTSTART;TZID=America/Los_Angeles:20171126T110000
DTEND;TZID=America/Los_Angeles:20171126T121500
DTSTAMP:20260421T121045
CREATED:20171106T190633Z
LAST-MODIFIED:20171106T190633Z
UID:6351-1511694000-1511698500@www.nlcww.org
SUMMARY:Worship
DESCRIPTION:
URL:https://www.nlcww.org/event/worship-19/
LOCATION:Sanctuary
END:VEVENT
BEGIN:VEVENT
DTSTART;TZID=America/Los_Angeles:20171127T083000
DTEND;TZID=America/Los_Angeles:20171127T100000
DTSTAMP:20260421T121045
CREATED:20171023T150630Z
LAST-MODIFIED:20171023T150630Z
UID:6240-1511771400-1511776800@www.nlcww.org
SUMMARY:Counters
DESCRIPTION:
URL:https://www.nlcww.org/event/counters-11/
END:VEVENT
BEGIN:VEVENT
DTSTART;TZID=America/Los_Angeles:20171127T120000
DTEND;TZID=America/Los_Angeles:20171127T130000
DTSTAMP:20260421T121045
CREATED:20171115T121046Z
LAST-MODIFIED:20171115T121046Z
UID:6497-1511784000-1511787600@www.nlcww.org
SUMMARY:Congregational Reports Due
DESCRIPTION:All ministries are requested to hand in their reports to Darlene today.
URL:https://www.nlcww.org/event/congregational-reports-due/
END:VEVENT
BEGIN:VEVENT
DTSTART;TZID=America/Los_Angeles:20171127T150000
DTEND;TZID=America/Los_Angeles:20171127T163000
DTSTAMP:20260421T121045
CREATED:20171106T190443Z
LAST-MODIFIED:20171120T171530Z
UID:6347-1511794800-1511800200@www.nlcww.org
SUMMARY:Communication Team
DESCRIPTION:
URL:https://www.nlcww.org/event/communication-team-5/
LOCATION:Library
END:VEVENT
BEGIN:VEVENT
DTSTART;TZID=America/Los_Angeles:20171127T190000
DTEND;TZID=America/Los_Angeles:20171127T210000
DTSTAMP:20260421T121045
CREATED:20171113T131538Z
LAST-MODIFIED:20171113T131538Z
UID:6453-1511809200-1511816400@www.nlcww.org
SUMMARY:Harmonizers
DESCRIPTION:
URL:https://www.nlcww.org/event/harmonizers-14/
LOCATION:Al Lien Hall
END:VEVENT
BEGIN:VEVENT
DTSTART;TZID=America/Los_Angeles:20171128T180000
DTEND;TZID=America/Los_Angeles:20171128T193000
DTSTAMP:20260421T121045
CREATED:20171126T202702Z
LAST-MODIFIED:20171126T202702Z
UID:6603-1511892000-1511897400@www.nlcww.org
SUMMARY:Girl Scouts
DESCRIPTION:
URL:https://www.nlcww.org/event/girl-scouts-11/
LOCATION:Al Lien Hall
END:VEVENT
BEGIN:VEVENT
DTSTART;TZID=America/Los_Angeles:20171128T183000
DTEND;TZID=America/Los_Angeles:20171128T193000
DTSTAMP:20260421T121045
CREATED:20171126T202847Z
LAST-MODIFIED:20171126T202847Z
UID:6605-1511893800-1511897400@www.nlcww.org
SUMMARY:Daisies
DESCRIPTION:
URL:https://www.nlcww.org/event/daisies-6/
END:VEVENT
BEGIN:VEVENT
DTSTART;TZID=America/Los_Angeles:20171128T183000
DTEND;TZID=America/Los_Angeles:20171128T200000
DTSTAMP:20260421T121045
CREATED:20171106T184022Z
LAST-MODIFIED:20171106T184022Z
UID:6309-1511893800-1511899200@www.nlcww.org
SUMMARY:Nativity Ringers
DESCRIPTION:
URL:https://www.nlcww.org/event/nativity-ringers-9/
LOCATION:Sanctuary
ORGANIZER;CN="Jane Henkel":MAILTO:jane.henkel@nlcww.org
END:VEVENT
BEGIN:VEVENT
DTSTART;TZID=America/Los_Angeles:20171129T123000
DTEND;TZID=America/Los_Angeles:20171129T133000
DTSTAMP:20260421T121045
CREATED:20171115T201050Z
LAST-MODIFIED:20171115T201050Z
UID:6542-1511958600-1511962200@www.nlcww.org
SUMMARY:Stewardship
DESCRIPTION:
URL:https://www.nlcww.org/event/stewardship/
END:VEVENT
BEGIN:VEVENT
DTSTART;TZID=America/Los_Angeles:20171129T143000
DTEND;TZID=America/Los_Angeles:20171129T153000
DTSTAMP:20260421T121045
CREATED:20171115T170151Z
LAST-MODIFIED:20171115T201118Z
UID:6532-1511965800-1511969400@www.nlcww.org
SUMMARY:Membership
DESCRIPTION:
URL:https://www.nlcww.org/event/membershipevangelism/
LOCATION:Library
END:VEVENT
BEGIN:VEVENT
DTSTART;TZID=America/Los_Angeles:20171129T173000
DTEND;TZID=America/Los_Angeles:20171129T183000
DTSTAMP:20260421T121045
CREATED:20171115T170244Z
LAST-MODIFIED:20171115T170244Z
UID:6534-1511976600-1511980200@www.nlcww.org
SUMMARY:Youth Ministry
DESCRIPTION:
URL:https://www.nlcww.org/event/youth-ministry/
LOCATION:Library
END:VEVENT
BEGIN:VEVENT
DTSTART;TZID=America/Los_Angeles:20171129T180000
DTEND;TZID=America/Los_Angeles:20171129T190000
DTSTAMP:20260421T121045
CREATED:20171113T132348Z
LAST-MODIFIED:20171113T132348Z
UID:6477-1511978400-1511982000@www.nlcww.org
SUMMARY:Cub Scouts
DESCRIPTION:
URL:https://www.nlcww.org/event/cub-scouts-10/
END:VEVENT
BEGIN:VEVENT
DTSTART;TZID=America/Los_Angeles:20171129T180000
DTEND;TZID=America/Los_Angeles:20171129T193000
DTSTAMP:20260421T121045
CREATED:20171009T152701Z
LAST-MODIFIED:20171009T152701Z
UID:6143-1511978400-1511983800@www.nlcww.org
SUMMARY:Choir
DESCRIPTION:
URL:https://www.nlcww.org/event/choir-13/
LOCATION:Sanctuary
END:VEVENT
BEGIN:VEVENT
DTSTART;TZID=America/Los_Angeles:20171130T090000
DTEND;TZID=America/Los_Angeles:20171130T110000
DTSTAMP:20260421T121045
CREATED:20171113T132433Z
LAST-MODIFIED:20171113T132433Z
UID:6479-1512032400-1512039600@www.nlcww.org
SUMMARY:TOPS
DESCRIPTION:
URL:https://www.nlcww.org/event/tops-21/
LOCATION:Winemiller Hall\, 6363 Commercial Way\, Weeki Wachee\, FL\, 34613
END:VEVENT
BEGIN:VEVENT
DTSTART;TZID=America/Los_Angeles:20171201T073000
DTEND;TZID=America/Los_Angeles:20171201T090000
DTSTAMP:20260421T121045
CREATED:20171023T150251Z
LAST-MODIFIED:20171023T150251Z
UID:6230-1512113400-1512118800@www.nlcww.org
SUMMARY:Folders
DESCRIPTION:
URL:https://www.nlcww.org/event/folders-15/
LOCATION:Library
END:VEVENT
BEGIN:VEVENT
DTSTART;TZID=America/Los_Angeles:20171201T090000
DTEND;TZID=America/Los_Angeles:20171201T110000
DTSTAMP:20260421T121045
CREATED:20171113T132516Z
LAST-MODIFIED:20171113T132516Z
UID:6481-1512118800-1512126000@www.nlcww.org
SUMMARY:TOPS
DESCRIPTION:
URL:https://www.nlcww.org/event/tops-22/
LOCATION:Winemiller Hall\, 6363 Commercial Way\, Weeki Wachee\, FL\, 34613
END:VEVENT
BEGIN:VEVENT
DTSTART;TZID=America/Los_Angeles:20171201T090000
DTEND;TZID=America/Los_Angeles:20171201T120000
DTSTAMP:20260421T121045
CREATED:20171108T164630Z
LAST-MODIFIED:20171108T164630Z
UID:6418-1512118800-1512129600@www.nlcww.org
SUMMARY:Crafty Ladies
DESCRIPTION:
URL:https://www.nlcww.org/event/crafty-ladies-12/
LOCATION:Al Lien Hall
END:VEVENT
BEGIN:VEVENT
DTSTART;TZID=America/Los_Angeles:20171202T100000
DTEND;TZID=America/Los_Angeles:20171202T120000
DTSTAMP:20260421T121045
CREATED:20170921T180523Z
LAST-MODIFIED:20170921T181141Z
UID:5974-1512208800-1512216000@www.nlcww.org
SUMMARY:Confirmation Class
DESCRIPTION:
URL:https://www.nlcww.org/event/confirmation-class-3/
END:VEVENT
BEGIN:VEVENT
DTSTART;TZID=America/Los_Angeles:20171203T083000
DTEND;TZID=America/Los_Angeles:20171203T093000
DTSTAMP:20260421T121045
CREATED:20171106T190704Z
LAST-MODIFIED:20171106T190704Z
UID:6353-1512289800-1512293400@www.nlcww.org
SUMMARY:Worship
DESCRIPTION:
URL:https://www.nlcww.org/event/worship-20/
LOCATION:Sanctuary
END:VEVENT
BEGIN:VEVENT
DTSTART;TZID=America/Los_Angeles:20171203T101500
DTEND;TZID=America/Los_Angeles:20171203T104500
DTSTAMP:20260421T121045
CREATED:20171119T173427Z
LAST-MODIFIED:20171119T173427Z
UID:6576-1512296100-1512297900@www.nlcww.org
SUMMARY:11am Usher Meeting
DESCRIPTION:We will meet in the back center of the Sanctuary on Dec. 3 at 10:15am to complete the schedule for February through March 2018.
URL:https://www.nlcww.org/event/11am-usher-meeting/
LOCATION:Sanctuary
END:VEVENT
END:VCALENDAR