BEGIN:VCALENDAR
VERSION:2.0
PRODID:-//Nativity Lutheran Church - ECPv6.15.20//NONSGML v1.0//EN
CALSCALE:GREGORIAN
METHOD:PUBLISH
X-ORIGINAL-URL:https://www.nlcww.org
X-WR-CALDESC:Events for Nativity Lutheran Church
REFRESH-INTERVAL;VALUE=DURATION:PT1H
X-Robots-Tag:noindex
X-PUBLISHED-TTL:PT1H
BEGIN:VTIMEZONE
TZID:America/Los_Angeles
BEGIN:DAYLIGHT
TZOFFSETFROM:-0800
TZOFFSETTO:-0700
TZNAME:PDT
DTSTART:20160313T100000
END:DAYLIGHT
BEGIN:STANDARD
TZOFFSETFROM:-0700
TZOFFSETTO:-0800
TZNAME:PST
DTSTART:20161106T090000
END:STANDARD
BEGIN:DAYLIGHT
TZOFFSETFROM:-0800
TZOFFSETTO:-0700
TZNAME:PDT
DTSTART:20170312T100000
END:DAYLIGHT
BEGIN:STANDARD
TZOFFSETFROM:-0700
TZOFFSETTO:-0800
TZNAME:PST
DTSTART:20171105T090000
END:STANDARD
BEGIN:DAYLIGHT
TZOFFSETFROM:-0800
TZOFFSETTO:-0700
TZNAME:PDT
DTSTART:20180311T100000
END:DAYLIGHT
BEGIN:STANDARD
TZOFFSETFROM:-0700
TZOFFSETTO:-0800
TZNAME:PST
DTSTART:20181104T090000
END:STANDARD
END:VTIMEZONE
BEGIN:VTIMEZONE
TZID:America/New_York
BEGIN:DAYLIGHT
TZOFFSETFROM:-0500
TZOFFSETTO:-0400
TZNAME:EDT
DTSTART:20160313T070000
END:DAYLIGHT
BEGIN:STANDARD
TZOFFSETFROM:-0400
TZOFFSETTO:-0500
TZNAME:EST
DTSTART:20161106T060000
END:STANDARD
BEGIN:DAYLIGHT
TZOFFSETFROM:-0500
TZOFFSETTO:-0400
TZNAME:EDT
DTSTART:20170312T070000
END:DAYLIGHT
BEGIN:STANDARD
TZOFFSETFROM:-0400
TZOFFSETTO:-0500
TZNAME:EST
DTSTART:20171105T060000
END:STANDARD
BEGIN:DAYLIGHT
TZOFFSETFROM:-0500
TZOFFSETTO:-0400
TZNAME:EDT
DTSTART:20180311T070000
END:DAYLIGHT
BEGIN:STANDARD
TZOFFSETFROM:-0400
TZOFFSETTO:-0500
TZNAME:EST
DTSTART:20181104T060000
END:STANDARD
END:VTIMEZONE
BEGIN:VEVENT
DTSTART;TZID=America/Los_Angeles:20171112T083000
DTEND;TZID=America/Los_Angeles:20171112T093000
DTSTAMP:20260421T134149
CREATED:20171023T151220Z
LAST-MODIFIED:20171023T151220Z
UID:6253-1510475400-1510479000@www.nlcww.org
SUMMARY:Worship
DESCRIPTION:
URL:https://www.nlcww.org/event/worship-15/
LOCATION:Sanctuary
END:VEVENT
BEGIN:VEVENT
DTSTART;TZID=America/Los_Angeles:20171112T094500
DTEND;TZID=America/Los_Angeles:20171112T104500
DTSTAMP:20260421T134149
CREATED:20171023T145720Z
LAST-MODIFIED:20171108T134353Z
UID:6217-1510479900-1510483500@www.nlcww.org
SUMMARY:Adult Forum
DESCRIPTION:At 10am please come and pick up book 7 Habits of Jesus and receive your reading assignment.\n 
URL:https://www.nlcww.org/event/adult-forum-9/
LOCATION:Winemiller Hall\, 6363 Commercial Way\, Weeki Wachee\, FL\, 34613
END:VEVENT
BEGIN:VEVENT
DTSTART;TZID=America/Los_Angeles:20171112T094500
DTEND;TZID=America/Los_Angeles:20171112T104500
DTSTAMP:20260421T134149
CREATED:20171023T150805Z
LAST-MODIFIED:20171023T150805Z
UID:6245-1510479900-1510483500@www.nlcww.org
SUMMARY:Sunday School
DESCRIPTION:
URL:https://www.nlcww.org/event/sunday-school-10/
LOCATION:Al Lien Hall
END:VEVENT
BEGIN:VEVENT
DTSTART;TZID=America/Los_Angeles:20171112T110000
DTEND;TZID=America/Los_Angeles:20171112T121500
DTSTAMP:20260421T134149
CREATED:20171023T151302Z
LAST-MODIFIED:20171023T151302Z
UID:6255-1510484400-1510488900@www.nlcww.org
SUMMARY:Worship
DESCRIPTION:
URL:https://www.nlcww.org/event/worship-16/
LOCATION:Sanctuary
END:VEVENT
BEGIN:VEVENT
DTSTART;TZID=America/Los_Angeles:20171113T083000
DTEND;TZID=America/Los_Angeles:20171113T100000
DTSTAMP:20260421T134149
CREATED:20171023T150509Z
LAST-MODIFIED:20171023T150509Z
UID:6234-1510561800-1510567200@www.nlcww.org
SUMMARY:Counters
DESCRIPTION:
URL:https://www.nlcww.org/event/counters-9/
END:VEVENT
BEGIN:VEVENT
DTSTART;TZID=America/Los_Angeles:20171113T190000
DTEND;TZID=America/Los_Angeles:20171113T210000
DTSTAMP:20260421T134149
CREATED:20171113T131415Z
LAST-MODIFIED:20171113T131415Z
UID:6449-1510599600-1510606800@www.nlcww.org
SUMMARY:Harmonizers
DESCRIPTION:
URL:https://www.nlcww.org/event/harmonizers-12/
LOCATION:Al Lien Hall
END:VEVENT
BEGIN:VEVENT
DTSTART;TZID=America/Los_Angeles:20171114T143000
DTEND;TZID=America/Los_Angeles:20171114T160000
DTSTAMP:20260421T134149
CREATED:20170926T194910Z
LAST-MODIFIED:20170926T194910Z
UID:6043-1510669800-1510675200@www.nlcww.org
SUMMARY:Council
DESCRIPTION:
URL:https://www.nlcww.org/event/council-3/
LOCATION:Library
END:VEVENT
BEGIN:VEVENT
DTSTART;TZID=America/Los_Angeles:20171114T183000
DTEND;TZID=America/Los_Angeles:20171114T200000
DTSTAMP:20260421T134149
CREATED:20171106T183943Z
LAST-MODIFIED:20171106T183943Z
UID:6307-1510684200-1510689600@www.nlcww.org
SUMMARY:Nativity Ringers
DESCRIPTION:
URL:https://www.nlcww.org/event/nativity-ringers-8/
LOCATION:Sanctuary
ORGANIZER;CN="Jane Henkel":MAILTO:jane.henkel@nlcww.org
END:VEVENT
BEGIN:VEVENT
DTSTART;TZID=America/Los_Angeles:20171115T100000
DTEND;TZID=America/Los_Angeles:20171115T110000
DTSTAMP:20260421T134149
CREATED:20171113T131615Z
LAST-MODIFIED:20171113T131615Z
UID:6455-1510740000-1510743600@www.nlcww.org
SUMMARY:Altar Guild
DESCRIPTION:
URL:https://www.nlcww.org/event/altar-guild-3/
END:VEVENT
BEGIN:VEVENT
DTSTART;TZID=America/Los_Angeles:20171115T120000
DTEND;TZID=America/Los_Angeles:20171115T140000
DTSTAMP:20260421T134149
CREATED:20171113T131651Z
LAST-MODIFIED:20171113T131651Z
UID:6457-1510747200-1510754400@www.nlcww.org
SUMMARY:Michigan Club
DESCRIPTION:
URL:https://www.nlcww.org/event/michigan-club-3/
END:VEVENT
BEGIN:VEVENT
DTSTART;TZID=America/Los_Angeles:20171115T153000
DTEND;TZID=America/Los_Angeles:20171115T170000
DTSTAMP:20260421T134149
CREATED:20171113T131727Z
LAST-MODIFIED:20171113T160434Z
UID:6459-1510759800-1510765200@www.nlcww.org
SUMMARY:Council on Ministries
DESCRIPTION:
URL:https://www.nlcww.org/event/council-on-ministries/
LOCATION:Library
END:VEVENT
BEGIN:VEVENT
DTSTART;TZID=America/Los_Angeles:20171115T180000
DTEND;TZID=America/Los_Angeles:20171115T190000
DTSTAMP:20260421T134149
CREATED:20171113T131825Z
LAST-MODIFIED:20171113T131825Z
UID:6461-1510768800-1510772400@www.nlcww.org
SUMMARY:Cub Scouts
DESCRIPTION:
URL:https://www.nlcww.org/event/cub-scouts-9/
END:VEVENT
BEGIN:VEVENT
DTSTART;TZID=America/New_York:20171115T180000
DTEND;TZID=America/New_York:20171115T193000
DTSTAMP:20260421T134149
CREATED:20171009T152455Z
LAST-MODIFIED:20171009T152455Z
UID:6139-1510768800-1510774200@www.nlcww.org
SUMMARY:Choir
DESCRIPTION:
URL:https://www.nlcww.org/event/choir-11/
LOCATION:Sanctuary
END:VEVENT
BEGIN:VEVENT
DTSTART;TZID=America/Los_Angeles:20171116T090000
DTEND;TZID=America/Los_Angeles:20171116T110000
DTSTAMP:20260421T134149
CREATED:20171113T131907Z
LAST-MODIFIED:20171113T131907Z
UID:6463-1510822800-1510830000@www.nlcww.org
SUMMARY:TOPS
DESCRIPTION:
URL:https://www.nlcww.org/event/tops-19/
LOCATION:Winemiller Hall\, 6363 Commercial Way\, Weeki Wachee\, FL\, 34613
END:VEVENT
BEGIN:VEVENT
DTSTART;TZID=America/Los_Angeles:20171116T090000
DTEND;TZID=America/Los_Angeles:20171116T110000
DTSTAMP:20260421T134149
CREATED:20171113T131941Z
LAST-MODIFIED:20171113T131941Z
UID:6465-1510822800-1510830000@www.nlcww.org
SUMMARY:TOPS
DESCRIPTION:
URL:https://www.nlcww.org/event/tops-20/
LOCATION:Winemiller Hall\, 6363 Commercial Way\, Weeki Wachee\, FL\, 34613
END:VEVENT
BEGIN:VEVENT
DTSTART;TZID=America/Los_Angeles:20171117T073000
DTEND;TZID=America/Los_Angeles:20171117T090000
DTSTAMP:20260421T134149
CREATED:20171023T150119Z
LAST-MODIFIED:20171023T150119Z
UID:6226-1510903800-1510909200@www.nlcww.org
SUMMARY:Folders
DESCRIPTION:
URL:https://www.nlcww.org/event/folders-13/
LOCATION:Library
END:VEVENT
BEGIN:VEVENT
DTSTART;TZID=America/Los_Angeles:20171117T090000
DTEND;TZID=America/Los_Angeles:20171117T120000
DTSTAMP:20260421T134149
CREATED:20171106T185943Z
LAST-MODIFIED:20171106T185943Z
UID:6343-1510909200-1510920000@www.nlcww.org
SUMMARY:Crafty Ladies
DESCRIPTION:
URL:https://www.nlcww.org/event/crafty-ladies-10/
LOCATION:Al Lien Hall
END:VEVENT
BEGIN:VEVENT
DTSTART;TZID=America/Los_Angeles:20171117T120000
DTEND;TZID=America/Los_Angeles:20171117T140000
DTSTAMP:20260421T134149
CREATED:20171023T144816Z
LAST-MODIFIED:20171113T162325Z
UID:6208-1510920000-1510927200@www.nlcww.org
SUMMARY:Women of Nativity Luncheon
DESCRIPTION:All women are welcome to our quarterly “get together to stay together” luncheon.  Meet at Kally K’s. Lunch at your own expense.
URL:https://www.nlcww.org/event/women-of-nativity-luncheon-2/
END:VEVENT
BEGIN:VEVENT
DTSTART;TZID=America/Los_Angeles:20171117T173000
DTEND;TZID=America/Los_Angeles:20171117T183000
DTSTAMP:20260421T134149
CREATED:20171113T132015Z
LAST-MODIFIED:20171113T132015Z
UID:6467-1510939800-1510943400@www.nlcww.org
SUMMARY:Daisies
DESCRIPTION:
URL:https://www.nlcww.org/event/daisies-4/
END:VEVENT
BEGIN:VEVENT
DTSTART;TZID=America/Los_Angeles:20171117T180000
DTEND;TZID=America/Los_Angeles:20171117T190000
DTSTAMP:20260421T134149
CREATED:20171113T132051Z
LAST-MODIFIED:20171113T132051Z
UID:6469-1510941600-1510945200@www.nlcww.org
SUMMARY:Daisies
DESCRIPTION:
URL:https://www.nlcww.org/event/daisies-5/
END:VEVENT
BEGIN:VEVENT
DTSTART;TZID=America/Los_Angeles:20171118T170000
DTEND;TZID=America/Los_Angeles:20171118T200000
DTSTAMP:20260421T134149
CREATED:20170921T180450Z
LAST-MODIFIED:20171108T134505Z
UID:5972-1511024400-1511035200@www.nlcww.org
SUMMARY:Spaghetti Dinner/Team Trivia
DESCRIPTION:Before we start eating all the Thanksgiving goodies\, come join us for some good ole Italian comfort food\, the menu will include: spaghetti\, meatballs\, salad\, crusty bread\, ice cream\, and beverages.  following dinner\, we will divide into teams for a rousing game of Team Trivia.  The winning team will be rewarded “big prizes.” Former contests have been exciting and “ruthless.” Tickets will be $5.00 for adults and $1.00 for kids; they are on sale NOW! 
URL:https://www.nlcww.org/event/spaghetti-dinner/
LOCATION:Winemiller Hall\, 6363 Commercial Way\, Weeki Wachee\, FL\, 34613
END:VEVENT
BEGIN:VEVENT
DTSTART;TZID=America/Los_Angeles:20171119T083000
DTEND;TZID=America/Los_Angeles:20171119T094500
DTSTAMP:20260421T134149
CREATED:20171023T152533Z
LAST-MODIFIED:20171023T152533Z
UID:6257-1511080200-1511084700@www.nlcww.org
SUMMARY:Worship
DESCRIPTION:
URL:https://www.nlcww.org/event/worship-17/
LOCATION:Sanctuary
END:VEVENT
BEGIN:VEVENT
DTSTART;TZID=America/Los_Angeles:20171119T094500
DTEND;TZID=America/Los_Angeles:20171119T104500
DTSTAMP:20260421T134149
CREATED:20171023T145822Z
LAST-MODIFIED:20171106T185731Z
UID:6219-1511084700-1511088300@www.nlcww.org
SUMMARY:Adult Forum
DESCRIPTION:Cheryl Bennett – A New Generation \n \nJoin Executive Director Cheryl Bennett of A New Generation Pregnancy and Relationship Center.  She will share what the Lord is doing in and through this ministry.  She will be communicating specifics about Hernando County\, the services they provide and the impact they are having.  
URL:https://www.nlcww.org/event/adult-forum-10/
LOCATION:Winemiller Hall\, 6363 Commercial Way\, Weeki Wachee\, FL\, 34613
END:VEVENT
BEGIN:VEVENT
DTSTART;TZID=America/Los_Angeles:20171119T094500
DTEND;TZID=America/Los_Angeles:20171119T104500
DTSTAMP:20260421T134149
CREATED:20171023T150847Z
LAST-MODIFIED:20171023T150847Z
UID:6247-1511084700-1511088300@www.nlcww.org
SUMMARY:Sunday School
DESCRIPTION:
URL:https://www.nlcww.org/event/sunday-school-11/
LOCATION:Al Lien Hall
END:VEVENT
BEGIN:VEVENT
DTSTART;TZID=America/Los_Angeles:20171120T083000
DTEND;TZID=America/Los_Angeles:20171120T100000
DTSTAMP:20260421T134149
CREATED:20171023T150549Z
LAST-MODIFIED:20171023T150549Z
UID:6236-1511166600-1511172000@www.nlcww.org
SUMMARY:Counters
DESCRIPTION:
URL:https://www.nlcww.org/event/counters-10/
END:VEVENT
BEGIN:VEVENT
DTSTART;TZID=America/Los_Angeles:20171120T180000
DTEND;TZID=America/Los_Angeles:20171120T200000
DTSTAMP:20260421T134149
CREATED:20171023T145039Z
LAST-MODIFIED:20171023T145039Z
UID:6210-1511200800-1511208000@www.nlcww.org
SUMMARY:Sarah Circle
DESCRIPTION:This will be the last time we meet in 2017.  This is a great time to learn how to knit\, crochet or practice what you love to do!  The shawls (and lap robes and throws) that we make are given to those in need of prayer – hospitalized\, sick grieving\, making a life change\, etc.  Come pray with us!
URL:https://www.nlcww.org/event/sarah-circle-2/
LOCATION:Youth Room
END:VEVENT
BEGIN:VEVENT
DTSTART;TZID=America/Los_Angeles:20171120T190000
DTEND;TZID=America/Los_Angeles:20171120T210000
DTSTAMP:20260421T134149
CREATED:20171113T131459Z
LAST-MODIFIED:20171113T131459Z
UID:6451-1511204400-1511211600@www.nlcww.org
SUMMARY:Harmonizers
DESCRIPTION:
URL:https://www.nlcww.org/event/harmonizers-13/
LOCATION:Al Lien Hall
END:VEVENT
BEGIN:VEVENT
DTSTART;TZID=America/Los_Angeles:20171121T083000
DTEND;TZID=America/Los_Angeles:20171121T100000
DTSTAMP:20260421T134149
CREATED:20171106T184847Z
LAST-MODIFIED:20171106T184847Z
UID:6320-1511253000-1511258400@www.nlcww.org
SUMMARY:Men's Breakfast
DESCRIPTION:
URL:https://www.nlcww.org/event/mens-breakfast-3/
LOCATION:Perkins\, 4685 Commercial Way\, Spring Hill\, FL\, United States
END:VEVENT
BEGIN:VEVENT
DTSTART;TZID=America/Los_Angeles:20171121T190000
DTEND;TZID=America/Los_Angeles:20171121T203000
DTSTAMP:20260421T134149
CREATED:20170904T142420Z
LAST-MODIFIED:20171115T133923Z
UID:5642-1511290800-1511296200@www.nlcww.org
SUMMARY:Thanksgiving Service
DESCRIPTION:This year Holy Cross Lutheran Church hosts the Thanksgiving service. Please bring an item that symbolizes what you are thankful for.
URL:https://www.nlcww.org/event/thanksgiving-service/
LOCATION:Holy Cross\, 6193 Spring Hill Drive\, Spring Hill\, FL\, 34606
END:VEVENT
BEGIN:VEVENT
DTSTART;TZID=America/Los_Angeles:20171122T130000
DTEND;TZID=America/Los_Angeles:20171122T160000
DTSTAMP:20260421T134149
CREATED:20171115T133813Z
LAST-MODIFIED:20171115T133813Z
UID:6516-1511355600-1511366400@www.nlcww.org
SUMMARY:Free Thanksgiving Dinner
DESCRIPTION:Free Thanksgiving dinner with all the trimmings and desserts at Holy Cross Lutheran Church.
URL:https://www.nlcww.org/event/free-thanksgiving-dinner/
LOCATION:Holy Cross\, 6193 Spring Hill Drive\, Spring Hill\, FL\, 34606
END:VEVENT
END:VCALENDAR