BEGIN:VCALENDAR
VERSION:2.0
PRODID:-//Nativity Lutheran Church - ECPv6.15.20//NONSGML v1.0//EN
CALSCALE:GREGORIAN
METHOD:PUBLISH
X-WR-CALNAME:Nativity Lutheran Church
X-ORIGINAL-URL:https://www.nlcww.org
X-WR-CALDESC:Events for Nativity Lutheran Church
REFRESH-INTERVAL;VALUE=DURATION:PT1H
X-Robots-Tag:noindex
X-PUBLISHED-TTL:PT1H
BEGIN:VTIMEZONE
TZID:America/Los_Angeles
BEGIN:DAYLIGHT
TZOFFSETFROM:-0800
TZOFFSETTO:-0700
TZNAME:PDT
DTSTART:20160313T100000
END:DAYLIGHT
BEGIN:STANDARD
TZOFFSETFROM:-0700
TZOFFSETTO:-0800
TZNAME:PST
DTSTART:20161106T090000
END:STANDARD
BEGIN:DAYLIGHT
TZOFFSETFROM:-0800
TZOFFSETTO:-0700
TZNAME:PDT
DTSTART:20170312T100000
END:DAYLIGHT
BEGIN:STANDARD
TZOFFSETFROM:-0700
TZOFFSETTO:-0800
TZNAME:PST
DTSTART:20171105T090000
END:STANDARD
BEGIN:DAYLIGHT
TZOFFSETFROM:-0800
TZOFFSETTO:-0700
TZNAME:PDT
DTSTART:20180311T100000
END:DAYLIGHT
BEGIN:STANDARD
TZOFFSETFROM:-0700
TZOFFSETTO:-0800
TZNAME:PST
DTSTART:20181104T090000
END:STANDARD
END:VTIMEZONE
BEGIN:VTIMEZONE
TZID:America/New_York
BEGIN:DAYLIGHT
TZOFFSETFROM:-0500
TZOFFSETTO:-0400
TZNAME:EDT
DTSTART:20160313T070000
END:DAYLIGHT
BEGIN:STANDARD
TZOFFSETFROM:-0400
TZOFFSETTO:-0500
TZNAME:EST
DTSTART:20161106T060000
END:STANDARD
BEGIN:DAYLIGHT
TZOFFSETFROM:-0500
TZOFFSETTO:-0400
TZNAME:EDT
DTSTART:20170312T070000
END:DAYLIGHT
BEGIN:STANDARD
TZOFFSETFROM:-0400
TZOFFSETTO:-0500
TZNAME:EST
DTSTART:20171105T060000
END:STANDARD
BEGIN:DAYLIGHT
TZOFFSETFROM:-0500
TZOFFSETTO:-0400
TZNAME:EDT
DTSTART:20180311T070000
END:DAYLIGHT
BEGIN:STANDARD
TZOFFSETFROM:-0400
TZOFFSETTO:-0500
TZNAME:EST
DTSTART:20181104T060000
END:STANDARD
END:VTIMEZONE
BEGIN:VEVENT
DTSTART;TZID=America/Los_Angeles:20170627T090000
DTEND;TZID=America/Los_Angeles:20170627T121500
DTSTAMP:20260421T182031
CREATED:20170619T181000Z
LAST-MODIFIED:20170619T181000Z
UID:4766-1498554000-1498565700@www.nlcww.org
SUMMARY:VBS
DESCRIPTION:
URL:https://www.nlcww.org/event/vbs-2/
END:VEVENT
BEGIN:VEVENT
DTSTART;TZID=America/Los_Angeles:20170628T090000
DTEND;TZID=America/Los_Angeles:20170628T121500
DTSTAMP:20260421T182031
CREATED:20170619T181029Z
LAST-MODIFIED:20170619T181029Z
UID:4768-1498640400-1498652100@www.nlcww.org
SUMMARY:VBS
DESCRIPTION:
URL:https://www.nlcww.org/event/vbs-3/
END:VEVENT
BEGIN:VEVENT
DTSTART;TZID=America/Los_Angeles:20170629T090000
DTEND;TZID=America/Los_Angeles:20170629T121500
DTSTAMP:20260421T182031
CREATED:20170619T181101Z
LAST-MODIFIED:20170619T181101Z
UID:4770-1498726800-1498738500@www.nlcww.org
SUMMARY:VBS
DESCRIPTION:
URL:https://www.nlcww.org/event/vbs-4/
END:VEVENT
BEGIN:VEVENT
DTSTART;TZID=America/Los_Angeles:20170629T130000
DTEND;TZID=America/Los_Angeles:20170629T143000
DTSTAMP:20260421T182031
CREATED:20170619T115018Z
LAST-MODIFIED:20170619T115018Z
UID:4713-1498741200-1498746600@www.nlcww.org
SUMMARY:Communication Team
DESCRIPTION:
URL:https://www.nlcww.org/event/communication-team/
END:VEVENT
BEGIN:VEVENT
DTSTART;TZID=America/Los_Angeles:20170630T073000
DTEND;TZID=America/Los_Angeles:20170630T090000
DTSTAMP:20260421T182031
CREATED:20170619T181741Z
LAST-MODIFIED:20170619T181741Z
UID:4776-1498807800-1498813200@www.nlcww.org
SUMMARY:Folders
DESCRIPTION:
URL:https://www.nlcww.org/event/folders-2/
LOCATION:Library
END:VEVENT
BEGIN:VEVENT
DTSTART;TZID=America/Los_Angeles:20170630T090000
DTEND;TZID=America/Los_Angeles:20170630T121500
DTSTAMP:20260421T182031
CREATED:20170619T181130Z
LAST-MODIFIED:20170619T181130Z
UID:4772-1498813200-1498824900@www.nlcww.org
SUMMARY:VBS
DESCRIPTION:
URL:https://www.nlcww.org/event/vbs-5/
END:VEVENT
BEGIN:VEVENT
DTSTART;VALUE=DATE:20170704
DTEND;VALUE=DATE:20170705
DTSTAMP:20260421T182031
CREATED:20170616T201538Z
LAST-MODIFIED:20170616T202116Z
UID:4656-1499126400-1499212799@www.nlcww.org
SUMMARY:Office and Food Pantry closed
DESCRIPTION:Office will reopen on July 5 at 9am and Food Pantry at 9:30am
URL:https://www.nlcww.org/event/july-4th-office-and-food-pantry-closed/
END:VEVENT
BEGIN:VEVENT
DTSTART;TZID=America/Los_Angeles:20170705T123000
DTEND;TZID=America/Los_Angeles:20170705T150000
DTSTAMP:20260421T182031
CREATED:20170619T175455Z
LAST-MODIFIED:20170619T175455Z
UID:4746-1499257800-1499266800@www.nlcww.org
SUMMARY:Cards R Us
DESCRIPTION:
URL:https://www.nlcww.org/event/cards-r-us/
LOCATION:Winemiller Hall\, 6363 Commercial Way\, Weeki Wachee\, FL\, 34613
END:VEVENT
BEGIN:VEVENT
DTSTART;TZID=America/Los_Angeles:20170708T173000
DTEND;TZID=America/Los_Angeles:20170708T220000
DTSTAMP:20260421T182031
CREATED:20170619T180502Z
LAST-MODIFIED:20170619T180502Z
UID:4757-1499535000-1499551200@www.nlcww.org
SUMMARY:AA
DESCRIPTION:
URL:https://www.nlcww.org/event/aa/
LOCATION:Winemiller Hall\, 6363 Commercial Way\, Weeki Wachee\, FL\, 34613
END:VEVENT
BEGIN:VEVENT
DTSTART;TZID=America/Los_Angeles:20170711T170000
DTEND;TZID=America/Los_Angeles:20170711T183000
DTSTAMP:20260421T182031
CREATED:20170619T180618Z
LAST-MODIFIED:20170619T180618Z
UID:4759-1499792400-1499797800@www.nlcww.org
SUMMARY:Executive Committe
DESCRIPTION:
URL:https://www.nlcww.org/event/executive-committe/
LOCATION:Library
END:VEVENT
BEGIN:VEVENT
DTSTART;TZID=America/Los_Angeles:20170712T123000
DTEND;TZID=America/Los_Angeles:20170712T150000
DTSTAMP:20260421T182031
CREATED:20170619T175544Z
LAST-MODIFIED:20170619T175544Z
UID:4748-1499862600-1499871600@www.nlcww.org
SUMMARY:Cards R Us
DESCRIPTION:
URL:https://www.nlcww.org/event/cards-r-us-2/
LOCATION:Winemiller Hall\, 6363 Commercial Way\, Weeki Wachee\, FL\, 34613
END:VEVENT
BEGIN:VEVENT
DTSTART;TZID=America/Los_Angeles:20170715T090000
DTEND;TZID=America/Los_Angeles:20170715T110000
DTSTAMP:20260421T182031
CREATED:20170619T175739Z
LAST-MODIFIED:20170619T175739Z
UID:4750-1500109200-1500116400@www.nlcww.org
SUMMARY:Women of Nativity Bible Study
DESCRIPTION:
URL:https://www.nlcww.org/event/women-of-nativity-bible-study/
LOCATION:Library
END:VEVENT
BEGIN:VEVENT
DTSTART;TZID=America/Los_Angeles:20170720T120000
DTEND;TZID=America/Los_Angeles:20170720T140000
DTSTAMP:20260421T182031
CREATED:20170619T180023Z
LAST-MODIFIED:20170619T180023Z
UID:4753-1500552000-1500559200@www.nlcww.org
SUMMARY:Women of Nativity - Luncheon
DESCRIPTION:
URL:https://www.nlcww.org/event/women-of-nativity-luncheon/
LOCATION:Glen Lakes\, 9000 Glen Lakes Blvd\, Weeki Wachee\, Florida\, 34613
END:VEVENT
BEGIN:VEVENT
DTSTART;TZID=America/New_York:20170904T190000
DTEND;TZID=America/New_York:20170904T210000
DTSTAMP:20260421T182031
CREATED:20170902T110635Z
LAST-MODIFIED:20170902T110635Z
UID:5559-1504551600-1504558800@www.nlcww.org
SUMMARY:Harmonizers
DESCRIPTION:
URL:https://www.nlcww.org/event/harmonizers-2/
END:VEVENT
BEGIN:VEVENT
DTSTART;TZID=America/Los_Angeles:20170906T123000
DTEND;TZID=America/Los_Angeles:20170906T150000
DTSTAMP:20260421T182031
CREATED:20170902T110743Z
LAST-MODIFIED:20170904T135641Z
UID:5561-1504701000-1504710000@www.nlcww.org
SUMMARY:Cards R Us
DESCRIPTION:Would you like to get creative and help finance Pastor’s Discretionary fund at the same time?  Join us to make cards out of used greeting cards.
URL:https://www.nlcww.org/event/cards-r-us-3/
END:VEVENT
BEGIN:VEVENT
DTSTART;TZID=America/Los_Angeles:20170906T180000
DTEND;TZID=America/Los_Angeles:20170906T193000
DTSTAMP:20260421T182031
CREATED:20170902T110949Z
LAST-MODIFIED:20170902T110949Z
UID:5564-1504720800-1504726200@www.nlcww.org
SUMMARY:Choir
DESCRIPTION:
URL:https://www.nlcww.org/event/choir/
LOCATION:Sanctuary
END:VEVENT
BEGIN:VEVENT
DTSTART;TZID=America/Los_Angeles:20170906T180000
DTEND;TZID=America/Los_Angeles:20170906T193000
DTSTAMP:20260421T182031
CREATED:20170902T111057Z
LAST-MODIFIED:20170902T111057Z
UID:5567-1504720800-1504726200@www.nlcww.org
SUMMARY:Cub Scouts
DESCRIPTION:
URL:https://www.nlcww.org/event/cub-scouts/
END:VEVENT
BEGIN:VEVENT
DTSTART;TZID=America/Los_Angeles:20170907T090000
DTEND;TZID=America/Los_Angeles:20170907T103000
DTSTAMP:20260421T182031
CREATED:20170902T111143Z
LAST-MODIFIED:20170902T111143Z
UID:5569-1504774800-1504780200@www.nlcww.org
SUMMARY:TOPS
DESCRIPTION:
URL:https://www.nlcww.org/event/tops-4/
END:VEVENT
BEGIN:VEVENT
DTSTART;TZID=America/Los_Angeles:20170907T180000
DTEND;TZID=America/Los_Angeles:20170907T193000
DTSTAMP:20260421T182031
CREATED:20170902T111219Z
LAST-MODIFIED:20170902T111219Z
UID:5571-1504807200-1504812600@www.nlcww.org
SUMMARY:Girl Scout Leaders
DESCRIPTION:
URL:https://www.nlcww.org/event/girl-scout-leaders/
END:VEVENT
BEGIN:VEVENT
DTSTART;TZID=America/Los_Angeles:20170908T073000
DTEND;TZID=America/Los_Angeles:20170908T090000
DTSTAMP:20260421T182031
CREATED:20170902T111309Z
LAST-MODIFIED:20170902T111309Z
UID:5573-1504855800-1504861200@www.nlcww.org
SUMMARY:Folders
DESCRIPTION:
URL:https://www.nlcww.org/event/folders-3/
END:VEVENT
BEGIN:VEVENT
DTSTART;TZID=America/Los_Angeles:20170908T090000
DTEND;TZID=America/Los_Angeles:20170908T103000
DTSTAMP:20260421T182031
CREATED:20170902T111336Z
LAST-MODIFIED:20170902T111336Z
UID:5575-1504861200-1504866600@www.nlcww.org
SUMMARY:TOPS
DESCRIPTION:
URL:https://www.nlcww.org/event/tops-5/
END:VEVENT
BEGIN:VEVENT
DTSTART;TZID=America/Los_Angeles:20170908T090000
DTEND;TZID=America/Los_Angeles:20170908T120000
DTSTAMP:20260421T182031
CREATED:20170902T111421Z
LAST-MODIFIED:20170902T111421Z
UID:5577-1504861200-1504872000@www.nlcww.org
SUMMARY:Crafty Ladies
DESCRIPTION:
URL:https://www.nlcww.org/event/crafty-ladies-2/
LOCATION:Al Lien Hall
END:VEVENT
BEGIN:VEVENT
DTSTART;TZID=America/Los_Angeles:20170908T123000
DTEND;TZID=America/Los_Angeles:20170908T133000
DTSTAMP:20260421T182031
CREATED:20170902T111456Z
LAST-MODIFIED:20170902T111456Z
UID:5580-1504873800-1504877400@www.nlcww.org
SUMMARY:WON Board Meeting
DESCRIPTION:
URL:https://www.nlcww.org/event/won-board-meeting/
END:VEVENT
BEGIN:VEVENT
DTSTART;TZID=America/Los_Angeles:20170908T140000
DTEND;TZID=America/Los_Angeles:20170908T153000
DTSTAMP:20260421T182031
CREATED:20170904T142938Z
LAST-MODIFIED:20170904T142938Z
UID:5654-1504879200-1504884600@www.nlcww.org
SUMMARY:Communication Team
DESCRIPTION:
URL:https://www.nlcww.org/event/communication-team-2/
END:VEVENT
BEGIN:VEVENT
DTSTART;TZID=America/Los_Angeles:20170909T173000
DTEND;TZID=America/Los_Angeles:20170909T190000
DTSTAMP:20260421T182031
CREATED:20170902T111607Z
LAST-MODIFIED:20170902T111607Z
UID:5582-1504978200-1504983600@www.nlcww.org
SUMMARY:AA
DESCRIPTION:
URL:https://www.nlcww.org/event/aa-2/
END:VEVENT
BEGIN:VEVENT
DTSTART;TZID=America/Los_Angeles:20170910T083000
DTEND;TZID=America/Los_Angeles:20170910T093000
DTSTAMP:20260421T182031
CREATED:20170902T111954Z
LAST-MODIFIED:20170902T111954Z
UID:5591-1505032200-1505035800@www.nlcww.org
SUMMARY:Worship
DESCRIPTION:
URL:https://www.nlcww.org/event/worship/
LOCATION:Sanctuary
END:VEVENT
BEGIN:VEVENT
DTSTART;TZID=America/Los_Angeles:20170910T093000
DTEND;TZID=America/Los_Angeles:20170910T110000
DTSTAMP:20260421T182031
CREATED:20170902T111657Z
LAST-MODIFIED:20170902T111657Z
UID:5584-1505035800-1505041200@www.nlcww.org
SUMMARY:Rally Day
DESCRIPTION:
URL:https://www.nlcww.org/event/rally-day/
END:VEVENT
BEGIN:VEVENT
DTSTART;TZID=America/Los_Angeles:20170910T094500
DTEND;TZID=America/Los_Angeles:20170910T104500
DTSTAMP:20260421T182031
CREATED:20170902T111757Z
LAST-MODIFIED:20170902T111757Z
UID:5586-1505036700-1505040300@www.nlcww.org
SUMMARY:Sunday School
DESCRIPTION:
URL:https://www.nlcww.org/event/sunday-school/
LOCATION:Al Lien Hall
END:VEVENT
BEGIN:VEVENT
DTSTART;TZID=America/Los_Angeles:20170910T094500
DTEND;TZID=America/Los_Angeles:20170910T104500
DTSTAMP:20260421T182031
CREATED:20170902T111906Z
LAST-MODIFIED:20170904T135130Z
UID:5588-1505036700-1505040300@www.nlcww.org
SUMMARY:Adult Forum
DESCRIPTION:Rick Steve’s DVD – Luther: The Reformer.
URL:https://www.nlcww.org/event/adult-forum-2/
LOCATION:Winemiller Hall\, 6363 Commercial Way\, Weeki Wachee\, FL\, 34613
END:VEVENT
BEGIN:VEVENT
DTSTART;TZID=America/Los_Angeles:20170910T110000
DTEND;TZID=America/Los_Angeles:20170910T120000
DTSTAMP:20260421T182031
CREATED:20170902T112032Z
LAST-MODIFIED:20170902T112032Z
UID:5593-1505041200-1505044800@www.nlcww.org
SUMMARY:Worship
DESCRIPTION:
URL:https://www.nlcww.org/event/worship-2/
LOCATION:Sanctuary
END:VEVENT
END:VCALENDAR