BEGIN:VCALENDAR
VERSION:2.0
PRODID:-//Nativity Lutheran Church - ECPv6.15.20//NONSGML v1.0//EN
CALSCALE:GREGORIAN
METHOD:PUBLISH
X-WR-CALNAME:Nativity Lutheran Church
X-ORIGINAL-URL:https://www.nlcww.org
X-WR-CALDESC:Events for Nativity Lutheran Church
REFRESH-INTERVAL;VALUE=DURATION:PT1H
X-Robots-Tag:noindex
X-PUBLISHED-TTL:PT1H
BEGIN:VTIMEZONE
TZID:America/Los_Angeles
BEGIN:DAYLIGHT
TZOFFSETFROM:-0800
TZOFFSETTO:-0700
TZNAME:PDT
DTSTART:20160313T100000
END:DAYLIGHT
BEGIN:STANDARD
TZOFFSETFROM:-0700
TZOFFSETTO:-0800
TZNAME:PST
DTSTART:20161106T090000
END:STANDARD
BEGIN:DAYLIGHT
TZOFFSETFROM:-0800
TZOFFSETTO:-0700
TZNAME:PDT
DTSTART:20170312T100000
END:DAYLIGHT
BEGIN:STANDARD
TZOFFSETFROM:-0700
TZOFFSETTO:-0800
TZNAME:PST
DTSTART:20171105T090000
END:STANDARD
BEGIN:DAYLIGHT
TZOFFSETFROM:-0800
TZOFFSETTO:-0700
TZNAME:PDT
DTSTART:20180311T100000
END:DAYLIGHT
BEGIN:STANDARD
TZOFFSETFROM:-0700
TZOFFSETTO:-0800
TZNAME:PST
DTSTART:20181104T090000
END:STANDARD
END:VTIMEZONE
BEGIN:VEVENT
DTSTART;TZID=America/Los_Angeles:20171208T183000
DTEND;TZID=America/Los_Angeles:20171208T193000
DTSTAMP:20260421T134322
CREATED:20171205T150252Z
LAST-MODIFIED:20171205T150252Z
UID:6764-1512757800-1512761400@www.nlcww.org
SUMMARY:Brownies
DESCRIPTION:
URL:https://www.nlcww.org/event/brownies/
END:VEVENT
BEGIN:VEVENT
DTSTART;TZID=America/Los_Angeles:20171208T183000
DTEND;TZID=America/Los_Angeles:20171208T193000
DTSTAMP:20260421T134322
CREATED:20171205T150213Z
LAST-MODIFIED:20171205T150213Z
UID:6762-1512757800-1512761400@www.nlcww.org
SUMMARY:Daisies
DESCRIPTION:
URL:https://www.nlcww.org/event/daisies-8/
END:VEVENT
BEGIN:VEVENT
DTSTART;TZID=America/Los_Angeles:20171208T090000
DTEND;TZID=America/Los_Angeles:20171208T120000
DTSTAMP:20260421T134322
CREATED:20171108T164745Z
LAST-MODIFIED:20171108T164745Z
UID:6420-1512723600-1512734400@www.nlcww.org
SUMMARY:Crafty Ladies
DESCRIPTION:
URL:https://www.nlcww.org/event/crafty-ladies-13/
LOCATION:Al Lien Hall
END:VEVENT
BEGIN:VEVENT
DTSTART;TZID=America/Los_Angeles:20171208T090000
DTEND;TZID=America/Los_Angeles:20171208T110000
DTSTAMP:20260421T134322
CREATED:20171205T150132Z
LAST-MODIFIED:20171205T150132Z
UID:6760-1512723600-1512730800@www.nlcww.org
SUMMARY:TOPS
DESCRIPTION:
URL:https://www.nlcww.org/event/tops-24/
LOCATION:Winemiller Hall\, 6363 Commercial Way\, Weeki Wachee\, FL\, 34613
END:VEVENT
BEGIN:VEVENT
DTSTART;TZID=America/Los_Angeles:20171208T073000
DTEND;TZID=America/Los_Angeles:20171208T090000
DTSTAMP:20260421T134322
CREATED:20171108T164952Z
LAST-MODIFIED:20171108T164952Z
UID:6424-1512718200-1512723600@www.nlcww.org
SUMMARY:Folders
DESCRIPTION:
URL:https://www.nlcww.org/event/folders-16/
LOCATION:Library
END:VEVENT
BEGIN:VEVENT
DTSTART;TZID=America/Los_Angeles:20171207T180000
DTEND;TZID=America/Los_Angeles:20171207T190000
DTSTAMP:20260421T134322
CREATED:20171205T150058Z
LAST-MODIFIED:20171205T150058Z
UID:6758-1512669600-1512673200@www.nlcww.org
SUMMARY:Girl Scout Leaders
DESCRIPTION:
URL:https://www.nlcww.org/event/girl-scout-leaders-4/
LOCATION:Library
END:VEVENT
BEGIN:VEVENT
DTSTART;TZID=America/Los_Angeles:20171207T090000
DTEND;TZID=America/Los_Angeles:20171207T110000
DTSTAMP:20260421T134322
CREATED:20171205T150019Z
LAST-MODIFIED:20171205T150019Z
UID:6756-1512637200-1512644400@www.nlcww.org
SUMMARY:TOPS
DESCRIPTION:
URL:https://www.nlcww.org/event/tops-23/
LOCATION:Winemiller Hall\, 6363 Commercial Way\, Weeki Wachee\, FL\, 34613
END:VEVENT
BEGIN:VEVENT
DTSTART;TZID=America/Los_Angeles:20171207T090000
DTEND;TZID=America/Los_Angeles:20171207T103000
DTSTAMP:20260421T134322
CREATED:20171118T151303Z
LAST-MODIFIED:20171118T151303Z
UID:6571-1512637200-1512642600@www.nlcww.org
SUMMARY:Property & Safety
DESCRIPTION:
URL:https://www.nlcww.org/event/property-safety/
LOCATION:Al Lien Hall
END:VEVENT
BEGIN:VEVENT
DTSTART;TZID=America/Los_Angeles:20171206T180000
DTEND;TZID=America/Los_Angeles:20171206T193000
DTSTAMP:20260421T134322
CREATED:20171205T145945Z
LAST-MODIFIED:20171205T145945Z
UID:6754-1512583200-1512588600@www.nlcww.org
SUMMARY:Cub Scouts
DESCRIPTION:
URL:https://www.nlcww.org/event/cub-scouts-12/
END:VEVENT
BEGIN:VEVENT
DTSTART;TZID=America/Los_Angeles:20171206T180000
DTEND;TZID=America/Los_Angeles:20171206T193000
DTSTAMP:20260421T134322
CREATED:20171108T164352Z
LAST-MODIFIED:20171108T164352Z
UID:6414-1512583200-1512588600@www.nlcww.org
SUMMARY:Choir
DESCRIPTION:
URL:https://www.nlcww.org/event/choir-14/
LOCATION:Sanctuary
END:VEVENT
BEGIN:VEVENT
DTSTART;TZID=America/Los_Angeles:20171206T123000
DTEND;TZID=America/Los_Angeles:20171206T150000
DTSTAMP:20260421T134322
CREATED:20171113T132310Z
LAST-MODIFIED:20171114T112155Z
UID:6475-1512563400-1512572400@www.nlcww.org
SUMMARY:Cards R Us
DESCRIPTION:Cards R Us will meet on 1st and 2nd Wednesdays in December\, 12:30-3:00pm\, to make greeting cards out of your donated\, used cards.\n \nWe are recycling for a cause\, as 100 percent of the profit is given to Pastor’s Discretionary Fund to help people in need.  The dates are December 6 and 13; join us for a fun afternoon.  A huge “thank you” to those of you who are donating $ for our finished cards\, those of you who make the cards\, and those who donate their used greeting cards.  
URL:https://www.nlcww.org/event/cards-r-us-9/
LOCATION:Winemiller Hall\, 6363 Commercial Way\, Weeki Wachee\, FL\, 34613
END:VEVENT
BEGIN:VEVENT
DTSTART;TZID=America/Los_Angeles:20171205T183000
DTEND;TZID=America/Los_Angeles:20171205T193000
DTSTAMP:20260421T134323
CREATED:20171205T145915Z
LAST-MODIFIED:20171205T145915Z
UID:6752-1512498600-1512502200@www.nlcww.org
SUMMARY:Daisies
DESCRIPTION:
URL:https://www.nlcww.org/event/daisies-7/
END:VEVENT
BEGIN:VEVENT
DTSTART;TZID=America/Los_Angeles:20171205T183000
DTEND;TZID=America/Los_Angeles:20171205T193000
DTSTAMP:20260421T134323
CREATED:20171106T184059Z
LAST-MODIFIED:20171130T115126Z
UID:6311-1512498600-1512502200@www.nlcww.org
SUMMARY:Nativity Ringers
DESCRIPTION:
URL:https://www.nlcww.org/event/nativity-ringers-10/
LOCATION:Sanctuary
ORGANIZER;CN="Jane Henkel":MAILTO:jane.henkel@nlcww.org
END:VEVENT
BEGIN:VEVENT
DTSTART;TZID=America/Los_Angeles:20171205T180000
DTEND;TZID=America/Los_Angeles:20171205T190000
DTSTAMP:20260421T134323
CREATED:20171205T145845Z
LAST-MODIFIED:20171205T145845Z
UID:6750-1512496800-1512500400@www.nlcww.org
SUMMARY:Girl Scouts
DESCRIPTION:
URL:https://www.nlcww.org/event/girl-scouts-12/
LOCATION:Al Lien Hall
END:VEVENT
BEGIN:VEVENT
DTSTART;TZID=America/Los_Angeles:20171203T140000
DTEND;TZID=America/Los_Angeles:20171203T190000
DTSTAMP:20260421T134323
CREATED:20171119T173221Z
LAST-MODIFIED:20171119T173221Z
UID:6574-1512309600-1512327600@www.nlcww.org
SUMMARY:Golf Outing
DESCRIPTION:This is a 9-hole tournament and will be at Glen Lakes.  Meet at pro shop at 2pm.  Join us for dinner afterwards at the Glen Lakes Clubhouse.  Sign up sheet is on the kiosk in the narthex.
URL:https://www.nlcww.org/event/golf-outing-2/
LOCATION:Glen Lakes\, 9000 Glen Lakes Blvd\, Weeki Wachee\, Florida\, 34613
END:VEVENT
BEGIN:VEVENT
DTSTART;TZID=America/Los_Angeles:20171203T110000
DTEND;TZID=America/Los_Angeles:20171203T121500
DTSTAMP:20260421T134323
CREATED:20171106T190738Z
LAST-MODIFIED:20171106T190738Z
UID:6355-1512298800-1512303300@www.nlcww.org
SUMMARY:Worship
DESCRIPTION:
URL:https://www.nlcww.org/event/worship-21/
LOCATION:Sanctuary
END:VEVENT
BEGIN:VEVENT
DTSTART;TZID=America/Los_Angeles:20171203T101500
DTEND;TZID=America/Los_Angeles:20171203T104500
DTSTAMP:20260421T134323
CREATED:20171119T173427Z
LAST-MODIFIED:20171119T173427Z
UID:6576-1512296100-1512297900@www.nlcww.org
SUMMARY:11am Usher Meeting
DESCRIPTION:We will meet in the back center of the Sanctuary on Dec. 3 at 10:15am to complete the schedule for February through March 2018.
URL:https://www.nlcww.org/event/11am-usher-meeting/
LOCATION:Sanctuary
END:VEVENT
BEGIN:VEVENT
DTSTART;TZID=America/Los_Angeles:20171203T083000
DTEND;TZID=America/Los_Angeles:20171203T093000
DTSTAMP:20260421T134323
CREATED:20171106T190704Z
LAST-MODIFIED:20171106T190704Z
UID:6353-1512289800-1512293400@www.nlcww.org
SUMMARY:Worship
DESCRIPTION:
URL:https://www.nlcww.org/event/worship-20/
LOCATION:Sanctuary
END:VEVENT
BEGIN:VEVENT
DTSTART;TZID=America/Los_Angeles:20171202T100000
DTEND;TZID=America/Los_Angeles:20171202T120000
DTSTAMP:20260421T134323
CREATED:20170921T180523Z
LAST-MODIFIED:20170921T181141Z
UID:5974-1512208800-1512216000@www.nlcww.org
SUMMARY:Confirmation Class
DESCRIPTION:
URL:https://www.nlcww.org/event/confirmation-class-3/
END:VEVENT
BEGIN:VEVENT
DTSTART;TZID=America/Los_Angeles:20171201T090000
DTEND;TZID=America/Los_Angeles:20171201T120000
DTSTAMP:20260421T134323
CREATED:20171108T164630Z
LAST-MODIFIED:20171108T164630Z
UID:6418-1512118800-1512129600@www.nlcww.org
SUMMARY:Crafty Ladies
DESCRIPTION:
URL:https://www.nlcww.org/event/crafty-ladies-12/
LOCATION:Al Lien Hall
END:VEVENT
BEGIN:VEVENT
DTSTART;TZID=America/Los_Angeles:20171201T090000
DTEND;TZID=America/Los_Angeles:20171201T110000
DTSTAMP:20260421T134323
CREATED:20171113T132516Z
LAST-MODIFIED:20171113T132516Z
UID:6481-1512118800-1512126000@www.nlcww.org
SUMMARY:TOPS
DESCRIPTION:
URL:https://www.nlcww.org/event/tops-22/
LOCATION:Winemiller Hall\, 6363 Commercial Way\, Weeki Wachee\, FL\, 34613
END:VEVENT
BEGIN:VEVENT
DTSTART;TZID=America/Los_Angeles:20171201T073000
DTEND;TZID=America/Los_Angeles:20171201T090000
DTSTAMP:20260421T134323
CREATED:20171023T150251Z
LAST-MODIFIED:20171023T150251Z
UID:6230-1512113400-1512118800@www.nlcww.org
SUMMARY:Folders
DESCRIPTION:
URL:https://www.nlcww.org/event/folders-15/
LOCATION:Library
END:VEVENT
BEGIN:VEVENT
DTSTART;TZID=America/Los_Angeles:20171130T090000
DTEND;TZID=America/Los_Angeles:20171130T110000
DTSTAMP:20260421T134323
CREATED:20171113T132433Z
LAST-MODIFIED:20171113T132433Z
UID:6479-1512032400-1512039600@www.nlcww.org
SUMMARY:TOPS
DESCRIPTION:
URL:https://www.nlcww.org/event/tops-21/
LOCATION:Winemiller Hall\, 6363 Commercial Way\, Weeki Wachee\, FL\, 34613
END:VEVENT
BEGIN:VEVENT
DTSTART;TZID=America/Los_Angeles:20171129T180000
DTEND;TZID=America/Los_Angeles:20171129T193000
DTSTAMP:20260421T134323
CREATED:20171009T152701Z
LAST-MODIFIED:20171009T152701Z
UID:6143-1511978400-1511983800@www.nlcww.org
SUMMARY:Choir
DESCRIPTION:
URL:https://www.nlcww.org/event/choir-13/
LOCATION:Sanctuary
END:VEVENT
BEGIN:VEVENT
DTSTART;TZID=America/Los_Angeles:20171129T180000
DTEND;TZID=America/Los_Angeles:20171129T190000
DTSTAMP:20260421T134323
CREATED:20171113T132348Z
LAST-MODIFIED:20171113T132348Z
UID:6477-1511978400-1511982000@www.nlcww.org
SUMMARY:Cub Scouts
DESCRIPTION:
URL:https://www.nlcww.org/event/cub-scouts-10/
END:VEVENT
BEGIN:VEVENT
DTSTART;TZID=America/Los_Angeles:20171129T173000
DTEND;TZID=America/Los_Angeles:20171129T183000
DTSTAMP:20260421T134323
CREATED:20171115T170244Z
LAST-MODIFIED:20171115T170244Z
UID:6534-1511976600-1511980200@www.nlcww.org
SUMMARY:Youth Ministry
DESCRIPTION:
URL:https://www.nlcww.org/event/youth-ministry/
LOCATION:Library
END:VEVENT
BEGIN:VEVENT
DTSTART;TZID=America/Los_Angeles:20171129T143000
DTEND;TZID=America/Los_Angeles:20171129T153000
DTSTAMP:20260421T134323
CREATED:20171115T170151Z
LAST-MODIFIED:20171115T201118Z
UID:6532-1511965800-1511969400@www.nlcww.org
SUMMARY:Membership
DESCRIPTION:
URL:https://www.nlcww.org/event/membershipevangelism/
LOCATION:Library
END:VEVENT
BEGIN:VEVENT
DTSTART;TZID=America/Los_Angeles:20171129T123000
DTEND;TZID=America/Los_Angeles:20171129T133000
DTSTAMP:20260421T134323
CREATED:20171115T201050Z
LAST-MODIFIED:20171115T201050Z
UID:6542-1511958600-1511962200@www.nlcww.org
SUMMARY:Stewardship
DESCRIPTION:
URL:https://www.nlcww.org/event/stewardship/
END:VEVENT
BEGIN:VEVENT
DTSTART;TZID=America/Los_Angeles:20171128T183000
DTEND;TZID=America/Los_Angeles:20171128T200000
DTSTAMP:20260421T134323
CREATED:20171106T184022Z
LAST-MODIFIED:20171106T184022Z
UID:6309-1511893800-1511899200@www.nlcww.org
SUMMARY:Nativity Ringers
DESCRIPTION:
URL:https://www.nlcww.org/event/nativity-ringers-9/
LOCATION:Sanctuary
ORGANIZER;CN="Jane Henkel":MAILTO:jane.henkel@nlcww.org
END:VEVENT
BEGIN:VEVENT
DTSTART;TZID=America/Los_Angeles:20171128T183000
DTEND;TZID=America/Los_Angeles:20171128T193000
DTSTAMP:20260421T134323
CREATED:20171126T202847Z
LAST-MODIFIED:20171126T202847Z
UID:6605-1511893800-1511897400@www.nlcww.org
SUMMARY:Daisies
DESCRIPTION:
URL:https://www.nlcww.org/event/daisies-6/
END:VEVENT
END:VCALENDAR