BEGIN:VCALENDAR
VERSION:2.0
PRODID:-//Nativity Lutheran Church - ECPv6.15.20//NONSGML v1.0//EN
CALSCALE:GREGORIAN
METHOD:PUBLISH
X-ORIGINAL-URL:https://www.nlcww.org
X-WR-CALDESC:Events for Nativity Lutheran Church
REFRESH-INTERVAL;VALUE=DURATION:PT1H
X-Robots-Tag:noindex
X-PUBLISHED-TTL:PT1H
BEGIN:VTIMEZONE
TZID:America/Los_Angeles
BEGIN:DAYLIGHT
TZOFFSETFROM:-0800
TZOFFSETTO:-0700
TZNAME:PDT
DTSTART:20170312T100000
END:DAYLIGHT
BEGIN:STANDARD
TZOFFSETFROM:-0700
TZOFFSETTO:-0800
TZNAME:PST
DTSTART:20171105T090000
END:STANDARD
BEGIN:DAYLIGHT
TZOFFSETFROM:-0800
TZOFFSETTO:-0700
TZNAME:PDT
DTSTART:20180311T100000
END:DAYLIGHT
BEGIN:STANDARD
TZOFFSETFROM:-0700
TZOFFSETTO:-0800
TZNAME:PST
DTSTART:20181104T090000
END:STANDARD
BEGIN:DAYLIGHT
TZOFFSETFROM:-0800
TZOFFSETTO:-0700
TZNAME:PDT
DTSTART:20190310T100000
END:DAYLIGHT
BEGIN:STANDARD
TZOFFSETFROM:-0700
TZOFFSETTO:-0800
TZNAME:PST
DTSTART:20191103T090000
END:STANDARD
END:VTIMEZONE
BEGIN:VEVENT
DTSTART;TZID=America/Los_Angeles:20180111T123000
DTEND;TZID=America/Los_Angeles:20180111T140000
DTSTAMP:20260421T102507
CREATED:20171218T182149Z
LAST-MODIFIED:20171218T182149Z
UID:6876-1515673800-1515679200@www.nlcww.org
SUMMARY:Mary Joy Circle
DESCRIPTION:We will meet on Thursday\, January 11\, 2018 at 12:30.  Refreshments will be served by Louise Weyen and Diane Zabel.  Bible Study will be from “Gather Magazine.”  Facilitator will be Rosie Rosten.  Join us for the beginning of a new Bible Study and the beginning of a New Year 2018.\n \nBox Tops-For years Nativity Women have been collecting box tops.  We want to encourage everyone to save these box tops.  They are given to Homosassa Elementary School where Donna Olsen teaches music.  Boxes are provided in the narthex for your collection.
URL:https://www.nlcww.org/event/mary-joy-circle-5/
END:VEVENT
END:VCALENDAR