BEGIN:VCALENDAR
VERSION:2.0
PRODID:-//Nativity Lutheran Church - ECPv6.15.20//NONSGML v1.0//EN
CALSCALE:GREGORIAN
METHOD:PUBLISH
X-ORIGINAL-URL:https://www.nlcww.org
X-WR-CALDESC:Events for Nativity Lutheran Church
REFRESH-INTERVAL;VALUE=DURATION:PT1H
X-Robots-Tag:noindex
X-PUBLISHED-TTL:PT1H
BEGIN:VTIMEZONE
TZID:America/Los_Angeles
BEGIN:DAYLIGHT
TZOFFSETFROM:-0800
TZOFFSETTO:-0700
TZNAME:PDT
DTSTART:20170312T100000
END:DAYLIGHT
BEGIN:STANDARD
TZOFFSETFROM:-0700
TZOFFSETTO:-0800
TZNAME:PST
DTSTART:20171105T090000
END:STANDARD
BEGIN:DAYLIGHT
TZOFFSETFROM:-0800
TZOFFSETTO:-0700
TZNAME:PDT
DTSTART:20180311T100000
END:DAYLIGHT
BEGIN:STANDARD
TZOFFSETFROM:-0700
TZOFFSETTO:-0800
TZNAME:PST
DTSTART:20181104T090000
END:STANDARD
BEGIN:DAYLIGHT
TZOFFSETFROM:-0800
TZOFFSETTO:-0700
TZNAME:PDT
DTSTART:20190310T100000
END:DAYLIGHT
BEGIN:STANDARD
TZOFFSETFROM:-0700
TZOFFSETTO:-0800
TZNAME:PST
DTSTART:20191103T090000
END:STANDARD
END:VTIMEZONE
BEGIN:VEVENT
DTSTART;TZID=America/Los_Angeles:20180109T100000
DTEND;TZID=America/Los_Angeles:20180109T103000
DTSTAMP:20260421T103330
CREATED:20171218T181823Z
LAST-MODIFIED:20171218T181823Z
UID:6874-1515492000-1515493800@www.nlcww.org
SUMMARY:Bible Study - 7 Habits of Jesus
DESCRIPTION:The eighteen-month long daytime group of the book study of 7 & Habits of Jesus will begin January 9\, 2018 at 10 am. This group currently has 8 members but is open to anyone who wishes to join. Each month\, the group will read a chapter from the book and get together to discuss. In addition\, one-on-one study buddies and monthly social outings will be finalized at the first meeting. \nQuestions: email Pastor Mattei.
URL:https://www.nlcww.org/event/bible-study-7-habits-of-jesus/
LOCATION:Library
END:VEVENT
BEGIN:VEVENT
DTSTART;TZID=America/Los_Angeles:20180109T103000
DTEND;TZID=America/Los_Angeles:20180109T113000
DTSTAMP:20260421T103330
CREATED:20171126T203809Z
LAST-MODIFIED:20171126T203809Z
UID:6615-1515493800-1515497400@www.nlcww.org
SUMMARY:Fellowship
DESCRIPTION:
URL:https://www.nlcww.org/event/fellowship-3/
END:VEVENT
BEGIN:VEVENT
DTSTART;TZID=America/Los_Angeles:20180109T150000
DTEND;TZID=America/Los_Angeles:20180109T160000
DTSTAMP:20260421T103330
CREATED:20171216T151703Z
LAST-MODIFIED:20171216T151703Z
UID:6869-1515510000-1515513600@www.nlcww.org
SUMMARY:Finance
DESCRIPTION:
URL:https://www.nlcww.org/event/finance-5/
LOCATION:Library
END:VEVENT
BEGIN:VEVENT
DTSTART;TZID=America/Los_Angeles:20180109T160000
DTEND;TZID=America/Los_Angeles:20180109T170000
DTSTAMP:20260421T103330
CREATED:20171216T151735Z
LAST-MODIFIED:20171216T151735Z
UID:6871-1515513600-1515517200@www.nlcww.org
SUMMARY:Executive
DESCRIPTION:
URL:https://www.nlcww.org/event/executive-2/
LOCATION:Library
END:VEVENT
BEGIN:VEVENT
DTSTART;TZID=America/Los_Angeles:20180109T183000
DTEND;TZID=America/Los_Angeles:20180109T193000
DTSTAMP:20260421T103330
CREATED:20171204T115608Z
LAST-MODIFIED:20171204T115608Z
UID:6726-1515522600-1515526200@www.nlcww.org
SUMMARY:Nativity Ringers
DESCRIPTION:
URL:https://www.nlcww.org/event/nativity-ringers-13/
LOCATION:Sanctuary
ORGANIZER;CN="Jane Henkel":MAILTO:jane.henkel@nlcww.org
END:VEVENT
END:VCALENDAR