BEGIN:VCALENDAR
VERSION:2.0
PRODID:-//Nativity Lutheran Church - ECPv6.15.20//NONSGML v1.0//EN
CALSCALE:GREGORIAN
METHOD:PUBLISH
X-WR-CALNAME:Nativity Lutheran Church
X-ORIGINAL-URL:https://www.nlcww.org
X-WR-CALDESC:Events for Nativity Lutheran Church
REFRESH-INTERVAL;VALUE=DURATION:PT1H
X-Robots-Tag:noindex
X-PUBLISHED-TTL:PT1H
BEGIN:VTIMEZONE
TZID:America/Los_Angeles
BEGIN:DAYLIGHT
TZOFFSETFROM:-0800
TZOFFSETTO:-0700
TZNAME:PDT
DTSTART:20160313T100000
END:DAYLIGHT
BEGIN:STANDARD
TZOFFSETFROM:-0700
TZOFFSETTO:-0800
TZNAME:PST
DTSTART:20161106T090000
END:STANDARD
BEGIN:DAYLIGHT
TZOFFSETFROM:-0800
TZOFFSETTO:-0700
TZNAME:PDT
DTSTART:20170312T100000
END:DAYLIGHT
BEGIN:STANDARD
TZOFFSETFROM:-0700
TZOFFSETTO:-0800
TZNAME:PST
DTSTART:20171105T090000
END:STANDARD
BEGIN:DAYLIGHT
TZOFFSETFROM:-0800
TZOFFSETTO:-0700
TZNAME:PDT
DTSTART:20180311T100000
END:DAYLIGHT
BEGIN:STANDARD
TZOFFSETFROM:-0700
TZOFFSETTO:-0800
TZNAME:PST
DTSTART:20181104T090000
END:STANDARD
END:VTIMEZONE
BEGIN:VEVENT
DTSTART;TZID=America/Los_Angeles:20171209T100000
DTEND;TZID=America/Los_Angeles:20171209T120000
DTSTAMP:20260421T085551
CREATED:20171115T120441Z
LAST-MODIFIED:20171204T124928Z
UID:6491-1512813600-1512820800@www.nlcww.org
SUMMARY:Memorial Service for Joyce Mehan
DESCRIPTION:Refreshments to follow the service.
URL:https://www.nlcww.org/event/funeral-service-for-joyce-mehan/
LOCATION:Sanctuary
END:VEVENT
BEGIN:VEVENT
DTSTART;TZID=America/Los_Angeles:20171209T113000
DTEND;TZID=America/Los_Angeles:20171209T143000
DTSTAMP:20260421T085551
CREATED:20170921T180841Z
LAST-MODIFIED:20171101T121650Z
UID:5976-1512819000-1512829800@www.nlcww.org
SUMMARY:Show Palace Matinee
DESCRIPTION:This is SOLD OUT.\n \n \nMusic brings the Rudolph family together in the Show Palace’s A Doo Wop Christmas. This new production is sure to warm your heart with an original story set to the tune of doo wop holiday favorites and Christmas classics. Join the Rudolphs as they sing Christmas carols around the fireplace\, share a chaotic family dinner\, time hop back to when the sounds of doo wop rang out on the radio\, and make it back just in time for midnight mass. Grab your favorite Christmas sweater\, pack your family into the minivan\, and get into the bop shoo bop holiday spirit at the Show Palace this winter.
URL:https://www.nlcww.org/event/show-palace-matinee/
LOCATION:Show Palace\, 16128 US Hwy 19\, Hudson\, FL\, 34667\, United States
END:VEVENT
BEGIN:VEVENT
DTSTART;TZID=America/Los_Angeles:20171209T130000
DTEND;TZID=America/Los_Angeles:20171209T150000
DTSTAMP:20260421T085551
CREATED:20171115T170350Z
LAST-MODIFIED:20171115T170350Z
UID:6536-1512824400-1512831600@www.nlcww.org
SUMMARY:Angel Tree Party
DESCRIPTION:
URL:https://www.nlcww.org/event/angel-tree-party/
LOCATION:Al Lien Hall
END:VEVENT
BEGIN:VEVENT
DTSTART;TZID=America/Los_Angeles:20171209T173000
DTEND;TZID=America/Los_Angeles:20171209T210000
DTSTAMP:20260421T085551
CREATED:20171129T170813Z
LAST-MODIFIED:20171129T170813Z
UID:6690-1512840600-1512853200@www.nlcww.org
SUMMARY:AA
DESCRIPTION:
URL:https://www.nlcww.org/event/aa-4/
LOCATION:Winemiller Hall\, 6363 Commercial Way\, Weeki Wachee\, FL\, 34613
END:VEVENT
END:VCALENDAR