BEGIN:VCALENDAR
VERSION:2.0
PRODID:-//Nativity Lutheran Church - ECPv6.15.20//NONSGML v1.0//EN
CALSCALE:GREGORIAN
METHOD:PUBLISH
X-ORIGINAL-URL:https://www.nlcww.org
X-WR-CALDESC:Events for Nativity Lutheran Church
REFRESH-INTERVAL;VALUE=DURATION:PT1H
X-Robots-Tag:noindex
X-PUBLISHED-TTL:PT1H
BEGIN:VTIMEZONE
TZID:America/Los_Angeles
BEGIN:DAYLIGHT
TZOFFSETFROM:-0800
TZOFFSETTO:-0700
TZNAME:PDT
DTSTART:20160313T100000
END:DAYLIGHT
BEGIN:STANDARD
TZOFFSETFROM:-0700
TZOFFSETTO:-0800
TZNAME:PST
DTSTART:20161106T090000
END:STANDARD
BEGIN:DAYLIGHT
TZOFFSETFROM:-0800
TZOFFSETTO:-0700
TZNAME:PDT
DTSTART:20170312T100000
END:DAYLIGHT
BEGIN:STANDARD
TZOFFSETFROM:-0700
TZOFFSETTO:-0800
TZNAME:PST
DTSTART:20171105T090000
END:STANDARD
BEGIN:DAYLIGHT
TZOFFSETFROM:-0800
TZOFFSETTO:-0700
TZNAME:PDT
DTSTART:20180311T100000
END:DAYLIGHT
BEGIN:STANDARD
TZOFFSETFROM:-0700
TZOFFSETTO:-0800
TZNAME:PST
DTSTART:20181104T090000
END:STANDARD
END:VTIMEZONE
BEGIN:VTIMEZONE
TZID:America/New_York
BEGIN:DAYLIGHT
TZOFFSETFROM:-0500
TZOFFSETTO:-0400
TZNAME:EDT
DTSTART:20160313T070000
END:DAYLIGHT
BEGIN:STANDARD
TZOFFSETFROM:-0400
TZOFFSETTO:-0500
TZNAME:EST
DTSTART:20161106T060000
END:STANDARD
BEGIN:DAYLIGHT
TZOFFSETFROM:-0500
TZOFFSETTO:-0400
TZNAME:EDT
DTSTART:20170312T070000
END:DAYLIGHT
BEGIN:STANDARD
TZOFFSETFROM:-0400
TZOFFSETTO:-0500
TZNAME:EST
DTSTART:20171105T060000
END:STANDARD
BEGIN:DAYLIGHT
TZOFFSETFROM:-0500
TZOFFSETTO:-0400
TZNAME:EDT
DTSTART:20180311T070000
END:DAYLIGHT
BEGIN:STANDARD
TZOFFSETFROM:-0400
TZOFFSETTO:-0500
TZNAME:EST
DTSTART:20181104T060000
END:STANDARD
END:VTIMEZONE
BEGIN:VEVENT
DTSTART;TZID=America/Los_Angeles:20171115T100000
DTEND;TZID=America/Los_Angeles:20171115T110000
DTSTAMP:20260421T103340
CREATED:20171113T131615Z
LAST-MODIFIED:20171113T131615Z
UID:6455-1510740000-1510743600@www.nlcww.org
SUMMARY:Altar Guild
DESCRIPTION:
URL:https://www.nlcww.org/event/altar-guild-3/
END:VEVENT
BEGIN:VEVENT
DTSTART;TZID=America/Los_Angeles:20171115T120000
DTEND;TZID=America/Los_Angeles:20171115T140000
DTSTAMP:20260421T103340
CREATED:20171113T131651Z
LAST-MODIFIED:20171113T131651Z
UID:6457-1510747200-1510754400@www.nlcww.org
SUMMARY:Michigan Club
DESCRIPTION:
URL:https://www.nlcww.org/event/michigan-club-3/
END:VEVENT
BEGIN:VEVENT
DTSTART;TZID=America/Los_Angeles:20171115T153000
DTEND;TZID=America/Los_Angeles:20171115T170000
DTSTAMP:20260421T103340
CREATED:20171113T131727Z
LAST-MODIFIED:20171113T160434Z
UID:6459-1510759800-1510765200@www.nlcww.org
SUMMARY:Council on Ministries
DESCRIPTION:
URL:https://www.nlcww.org/event/council-on-ministries/
LOCATION:Library
END:VEVENT
BEGIN:VEVENT
DTSTART;TZID=America/Los_Angeles:20171115T180000
DTEND;TZID=America/Los_Angeles:20171115T190000
DTSTAMP:20260421T103340
CREATED:20171113T131825Z
LAST-MODIFIED:20171113T131825Z
UID:6461-1510768800-1510772400@www.nlcww.org
SUMMARY:Cub Scouts
DESCRIPTION:
URL:https://www.nlcww.org/event/cub-scouts-9/
END:VEVENT
BEGIN:VEVENT
DTSTART;TZID=America/New_York:20171115T180000
DTEND;TZID=America/New_York:20171115T193000
DTSTAMP:20260421T103340
CREATED:20171009T152455Z
LAST-MODIFIED:20171009T152455Z
UID:6139-1510768800-1510774200@www.nlcww.org
SUMMARY:Choir
DESCRIPTION:
URL:https://www.nlcww.org/event/choir-11/
LOCATION:Sanctuary
END:VEVENT
END:VCALENDAR