BEGIN:VCALENDAR
VERSION:2.0
PRODID:-//Nativity Lutheran Church - ECPv6.15.20//NONSGML v1.0//EN
CALSCALE:GREGORIAN
METHOD:PUBLISH
X-ORIGINAL-URL:https://www.nlcww.org
X-WR-CALDESC:Events for Nativity Lutheran Church
REFRESH-INTERVAL;VALUE=DURATION:PT1H
X-Robots-Tag:noindex
X-PUBLISHED-TTL:PT1H
BEGIN:VTIMEZONE
TZID:America/Los_Angeles
BEGIN:DAYLIGHT
TZOFFSETFROM:-0800
TZOFFSETTO:-0700
TZNAME:PDT
DTSTART:20160313T100000
END:DAYLIGHT
BEGIN:STANDARD
TZOFFSETFROM:-0700
TZOFFSETTO:-0800
TZNAME:PST
DTSTART:20161106T090000
END:STANDARD
BEGIN:DAYLIGHT
TZOFFSETFROM:-0800
TZOFFSETTO:-0700
TZNAME:PDT
DTSTART:20170312T100000
END:DAYLIGHT
BEGIN:STANDARD
TZOFFSETFROM:-0700
TZOFFSETTO:-0800
TZNAME:PST
DTSTART:20171105T090000
END:STANDARD
BEGIN:DAYLIGHT
TZOFFSETFROM:-0800
TZOFFSETTO:-0700
TZNAME:PDT
DTSTART:20180311T100000
END:DAYLIGHT
BEGIN:STANDARD
TZOFFSETFROM:-0700
TZOFFSETTO:-0800
TZNAME:PST
DTSTART:20181104T090000
END:STANDARD
END:VTIMEZONE
BEGIN:VEVENT
DTSTART;TZID=America/Los_Angeles:20171109T090000
DTEND;TZID=America/Los_Angeles:20171109T110000
DTSTAMP:20260421T103339
CREATED:20171106T185235Z
LAST-MODIFIED:20171106T185235Z
UID:6330-1510218000-1510225200@www.nlcww.org
SUMMARY:TOPS
DESCRIPTION:
URL:https://www.nlcww.org/event/tops-17/
LOCATION:Winemiller Hall\, 6363 Commercial Way\, Weeki Wachee\, FL\, 34613
END:VEVENT
BEGIN:VEVENT
DTSTART;TZID=America/Los_Angeles:20171109T123000
DTEND;TZID=America/Los_Angeles:20171109T140000
DTSTAMP:20260421T103339
CREATED:20171023T144639Z
LAST-MODIFIED:20171023T144639Z
UID:6205-1510230600-1510236000@www.nlcww.org
SUMMARY:Mary Joy Circle
DESCRIPTION:Bible study by Cam Martin.  Rosie Rosten is the facilitator and hostesses are Elva Posewitz and Jean Drach.
URL:https://www.nlcww.org/event/mary-joy-circle-3/
END:VEVENT
BEGIN:VEVENT
DTSTART;TZID=America/Los_Angeles:20171109T180000
DTEND;TZID=America/Los_Angeles:20171109T193000
DTSTAMP:20260421T103339
CREATED:20171106T185311Z
LAST-MODIFIED:20171106T185311Z
UID:6332-1510250400-1510255800@www.nlcww.org
SUMMARY:Girl Scout Leaders
DESCRIPTION:
URL:https://www.nlcww.org/event/girl-scout-leaders-3/
END:VEVENT
END:VCALENDAR