BEGIN:VCALENDAR
VERSION:2.0
PRODID:-//Nativity Lutheran Church - ECPv6.15.20//NONSGML v1.0//EN
CALSCALE:GREGORIAN
METHOD:PUBLISH
X-ORIGINAL-URL:https://www.nlcww.org
X-WR-CALDESC:Events for Nativity Lutheran Church
REFRESH-INTERVAL;VALUE=DURATION:PT1H
X-Robots-Tag:noindex
X-PUBLISHED-TTL:PT1H
BEGIN:VTIMEZONE
TZID:America/Los_Angeles
BEGIN:DAYLIGHT
TZOFFSETFROM:-0800
TZOFFSETTO:-0700
TZNAME:PDT
DTSTART:20160313T100000
END:DAYLIGHT
BEGIN:STANDARD
TZOFFSETFROM:-0700
TZOFFSETTO:-0800
TZNAME:PST
DTSTART:20161106T090000
END:STANDARD
BEGIN:DAYLIGHT
TZOFFSETFROM:-0800
TZOFFSETTO:-0700
TZNAME:PDT
DTSTART:20170312T100000
END:DAYLIGHT
BEGIN:STANDARD
TZOFFSETFROM:-0700
TZOFFSETTO:-0800
TZNAME:PST
DTSTART:20171105T090000
END:STANDARD
BEGIN:DAYLIGHT
TZOFFSETFROM:-0800
TZOFFSETTO:-0700
TZNAME:PDT
DTSTART:20180311T100000
END:DAYLIGHT
BEGIN:STANDARD
TZOFFSETFROM:-0700
TZOFFSETTO:-0800
TZNAME:PST
DTSTART:20181104T090000
END:STANDARD
END:VTIMEZONE
BEGIN:VTIMEZONE
TZID:America/New_York
BEGIN:DAYLIGHT
TZOFFSETFROM:-0500
TZOFFSETTO:-0400
TZNAME:EDT
DTSTART:20160313T070000
END:DAYLIGHT
BEGIN:STANDARD
TZOFFSETFROM:-0400
TZOFFSETTO:-0500
TZNAME:EST
DTSTART:20161106T060000
END:STANDARD
BEGIN:DAYLIGHT
TZOFFSETFROM:-0500
TZOFFSETTO:-0400
TZNAME:EDT
DTSTART:20170312T070000
END:DAYLIGHT
BEGIN:STANDARD
TZOFFSETFROM:-0400
TZOFFSETTO:-0500
TZNAME:EST
DTSTART:20171105T060000
END:STANDARD
BEGIN:DAYLIGHT
TZOFFSETFROM:-0500
TZOFFSETTO:-0400
TZNAME:EDT
DTSTART:20180311T070000
END:DAYLIGHT
BEGIN:STANDARD
TZOFFSETFROM:-0400
TZOFFSETTO:-0500
TZNAME:EST
DTSTART:20181104T060000
END:STANDARD
END:VTIMEZONE
BEGIN:VEVENT
DTSTART;TZID=America/Los_Angeles:20171108T100000
DTEND;TZID=America/Los_Angeles:20171108T120000
DTSTAMP:20260421T103234
CREATED:20171106T184759Z
LAST-MODIFIED:20171106T184759Z
UID:6318-1510135200-1510142400@www.nlcww.org
SUMMARY:Second Wednesday Group
DESCRIPTION:Join us and play games until 12pm and then enjoy a delicious lunch for the low cost of $3.00.
URL:https://www.nlcww.org/event/second-wednesday-group/
LOCATION:Winemiller Hall\, 6363 Commercial Way\, Weeki Wachee\, FL\, 34613
END:VEVENT
BEGIN:VEVENT
DTSTART;TZID=America/Los_Angeles:20171108T123000
DTEND;TZID=America/Los_Angeles:20171108T153000
DTSTAMP:20260421T103234
CREATED:20171015T205033Z
LAST-MODIFIED:20171015T205033Z
UID:6154-1510144200-1510155000@www.nlcww.org
SUMMARY:Cards R Us
DESCRIPTION:Cards R Us will make cards from 12:30-3:00pm in Winemiller Hall.  We enjoy talking as we’re making cards (yes\, we can multitask).  We can always use more help and more cards\, so please join us.  We’ll show you how and provide all supplies.  One hundred percent of the profit from donations for the finished cards are given to Pastor’s Discretionary Fund.
URL:https://www.nlcww.org/event/cards-r-us-8/
LOCATION:Winemiller Hall\, 6363 Commercial Way\, Weeki Wachee\, FL\, 34613
END:VEVENT
BEGIN:VEVENT
DTSTART;TZID=America/Los_Angeles:20171108T140000
DTEND;TZID=America/Los_Angeles:20171108T150000
DTSTAMP:20260421T103234
CREATED:20171108T163730Z
LAST-MODIFIED:20171108T163730Z
UID:6412-1510149600-1510153200@www.nlcww.org
SUMMARY:Mission & Outreach
DESCRIPTION:  \n 
URL:https://www.nlcww.org/event/mission-outreach/
LOCATION:Library
END:VEVENT
BEGIN:VEVENT
DTSTART;TZID=America/Los_Angeles:20171108T163000
DTEND;TZID=America/Los_Angeles:20171108T173000
DTSTAMP:20260421T103234
CREATED:20171106T185102Z
LAST-MODIFIED:20171106T185102Z
UID:6326-1510158600-1510162200@www.nlcww.org
SUMMARY:Worship & Music
DESCRIPTION:
URL:https://www.nlcww.org/event/worship-music-3/
LOCATION:Library
END:VEVENT
BEGIN:VEVENT
DTSTART;TZID=America/New_York:20171108T180000
DTEND;TZID=America/New_York:20171108T193000
DTSTAMP:20260421T103234
CREATED:20171009T152341Z
LAST-MODIFIED:20171009T152341Z
UID:6137-1510164000-1510169400@www.nlcww.org
SUMMARY:Choir
DESCRIPTION:
URL:https://www.nlcww.org/event/choir-10/
LOCATION:Sanctuary
END:VEVENT
BEGIN:VEVENT
DTSTART;TZID=America/Los_Angeles:20171108T180000
DTEND;TZID=America/Los_Angeles:20171108T193000
DTSTAMP:20260421T103234
CREATED:20171106T185200Z
LAST-MODIFIED:20171106T185200Z
UID:6328-1510164000-1510169400@www.nlcww.org
SUMMARY:Cub Scouts
DESCRIPTION:
URL:https://www.nlcww.org/event/cub-scouts-8/
END:VEVENT
END:VCALENDAR