BEGIN:VCALENDAR
VERSION:2.0
PRODID:-//Nativity Lutheran Church - ECPv6.15.20//NONSGML v1.0//EN
CALSCALE:GREGORIAN
METHOD:PUBLISH
X-WR-CALNAME:Nativity Lutheran Church
X-ORIGINAL-URL:https://www.nlcww.org
X-WR-CALDESC:Events for Nativity Lutheran Church
REFRESH-INTERVAL;VALUE=DURATION:PT1H
X-Robots-Tag:noindex
X-PUBLISHED-TTL:PT1H
BEGIN:VTIMEZONE
TZID:America/Los_Angeles
BEGIN:DAYLIGHT
TZOFFSETFROM:-0800
TZOFFSETTO:-0700
TZNAME:PDT
DTSTART:20160313T100000
END:DAYLIGHT
BEGIN:STANDARD
TZOFFSETFROM:-0700
TZOFFSETTO:-0800
TZNAME:PST
DTSTART:20161106T090000
END:STANDARD
BEGIN:DAYLIGHT
TZOFFSETFROM:-0800
TZOFFSETTO:-0700
TZNAME:PDT
DTSTART:20170312T100000
END:DAYLIGHT
BEGIN:STANDARD
TZOFFSETFROM:-0700
TZOFFSETTO:-0800
TZNAME:PST
DTSTART:20171105T090000
END:STANDARD
BEGIN:DAYLIGHT
TZOFFSETFROM:-0800
TZOFFSETTO:-0700
TZNAME:PDT
DTSTART:20180311T100000
END:DAYLIGHT
BEGIN:STANDARD
TZOFFSETFROM:-0700
TZOFFSETTO:-0800
TZNAME:PST
DTSTART:20181104T090000
END:STANDARD
END:VTIMEZONE
BEGIN:VEVENT
DTSTART;TZID=America/Los_Angeles:20171030T083000
DTEND;TZID=America/Los_Angeles:20171030T100000
DTSTAMP:20260421T103048
CREATED:20170921T172611Z
LAST-MODIFIED:20170921T181355Z
UID:5897-1509352200-1509357600@www.nlcww.org
SUMMARY:Counters
DESCRIPTION:
URL:https://www.nlcww.org/event/counters-7/
LOCATION:Library
END:VEVENT
BEGIN:VEVENT
DTSTART;TZID=America/Los_Angeles:20171030T190000
DTEND;TZID=America/Los_Angeles:20171030T210000
DTSTAMP:20260421T103048
CREATED:20171002T150247Z
LAST-MODIFIED:20171002T150247Z
UID:6098-1509390000-1509397200@www.nlcww.org
SUMMARY:Harmonizers
DESCRIPTION:
URL:https://www.nlcww.org/event/harmonizers-10/
LOCATION:Al Lien Hall
END:VEVENT
END:VCALENDAR