BEGIN:VCALENDAR
VERSION:2.0
PRODID:-//Nativity Lutheran Church - ECPv6.15.20//NONSGML v1.0//EN
CALSCALE:GREGORIAN
METHOD:PUBLISH
X-ORIGINAL-URL:https://www.nlcww.org
X-WR-CALDESC:Events for Nativity Lutheran Church
REFRESH-INTERVAL;VALUE=DURATION:PT1H
X-Robots-Tag:noindex
X-PUBLISHED-TTL:PT1H
BEGIN:VTIMEZONE
TZID:America/Los_Angeles
BEGIN:DAYLIGHT
TZOFFSETFROM:-0800
TZOFFSETTO:-0700
TZNAME:PDT
DTSTART:20160313T100000
END:DAYLIGHT
BEGIN:STANDARD
TZOFFSETFROM:-0700
TZOFFSETTO:-0800
TZNAME:PST
DTSTART:20161106T090000
END:STANDARD
BEGIN:DAYLIGHT
TZOFFSETFROM:-0800
TZOFFSETTO:-0700
TZNAME:PDT
DTSTART:20170312T100000
END:DAYLIGHT
BEGIN:STANDARD
TZOFFSETFROM:-0700
TZOFFSETTO:-0800
TZNAME:PST
DTSTART:20171105T090000
END:STANDARD
BEGIN:DAYLIGHT
TZOFFSETFROM:-0800
TZOFFSETTO:-0700
TZNAME:PDT
DTSTART:20180311T100000
END:DAYLIGHT
BEGIN:STANDARD
TZOFFSETFROM:-0700
TZOFFSETTO:-0800
TZNAME:PST
DTSTART:20181104T090000
END:STANDARD
END:VTIMEZONE
BEGIN:VEVENT
DTSTART;TZID=America/Los_Angeles:20171006T073000
DTEND;TZID=America/Los_Angeles:20171006T090000
DTSTAMP:20260421T120434
CREATED:20170921T124517Z
LAST-MODIFIED:20170921T181919Z
UID:5865-1507275000-1507280400@www.nlcww.org
SUMMARY:Folders
DESCRIPTION:
URL:https://www.nlcww.org/event/folders-7/
LOCATION:Library
END:VEVENT
BEGIN:VEVENT
DTSTART;TZID=America/Los_Angeles:20171006T090000
DTEND;TZID=America/Los_Angeles:20171006T110000
DTSTAMP:20260421T120434
CREATED:20170921T125325Z
LAST-MODIFIED:20170921T181913Z
UID:5885-1507280400-1507287600@www.nlcww.org
SUMMARY:TOPS
DESCRIPTION:
URL:https://www.nlcww.org/event/tops-13/
LOCATION:Winemiller Hall\, 6363 Commercial Way\, Weeki Wachee\, FL\, 34613
END:VEVENT
BEGIN:VEVENT
DTSTART;TZID=America/Los_Angeles:20171006T090000
DTEND;TZID=America/Los_Angeles:20171006T120000
DTSTAMP:20260421T120434
CREATED:20170921T124743Z
LAST-MODIFIED:20170921T181908Z
UID:5873-1507280400-1507291200@www.nlcww.org
SUMMARY:Crafty Ladies
DESCRIPTION:
URL:https://www.nlcww.org/event/crafty-ladies-6/
LOCATION:Al Lien Hall
END:VEVENT
BEGIN:VEVENT
DTSTART;TZID=America/Los_Angeles:20171006T173000
DTEND;TZID=America/Los_Angeles:20171006T190000
DTSTAMP:20260421T120434
CREATED:20170921T124945Z
LAST-MODIFIED:20170921T181903Z
UID:5879-1507311000-1507316400@www.nlcww.org
SUMMARY:Daisy
DESCRIPTION:
URL:https://www.nlcww.org/event/daisy-2/
LOCATION:Winemiller Hall\, 6363 Commercial Way\, Weeki Wachee\, FL\, 34613
END:VEVENT
BEGIN:VEVENT
DTSTART;TZID=America/Los_Angeles:20171006T173000
DTEND;TZID=America/Los_Angeles:20171006T210000
DTSTAMP:20260421T120434
CREATED:20170904T135047Z
LAST-MODIFIED:20170921T181845Z
UID:5614-1507311000-1507323600@www.nlcww.org
SUMMARY:Youth vs. Adult Game Night
DESCRIPTION:It will be the youth against the adults to play Pictionary\, charades and other games.  Pizza and beverages will be served.
URL:https://www.nlcww.org/event/youth-vs-adult-game-night/
LOCATION:Winemiller Hall\, 6363 Commercial Way\, Weeki Wachee\, FL\, 34613
END:VEVENT
BEGIN:VEVENT
DTSTART;TZID=America/Los_Angeles:20171006T180000
DTEND;TZID=America/Los_Angeles:20171006T193000
DTSTAMP:20260421T120434
CREATED:20170921T125017Z
LAST-MODIFIED:20170921T181840Z
UID:5881-1507312800-1507318200@www.nlcww.org
SUMMARY:Girl Scouts
DESCRIPTION:
URL:https://www.nlcww.org/event/girl-scouts-2/
LOCATION:Al Lien Hall
END:VEVENT
END:VCALENDAR