BEGIN:VCALENDAR
VERSION:2.0
PRODID:-//Nativity Lutheran Church - ECPv6.15.20//NONSGML v1.0//EN
CALSCALE:GREGORIAN
METHOD:PUBLISH
X-ORIGINAL-URL:https://www.nlcww.org
X-WR-CALDESC:Events for Nativity Lutheran Church
REFRESH-INTERVAL;VALUE=DURATION:PT1H
X-Robots-Tag:noindex
X-PUBLISHED-TTL:PT1H
BEGIN:VTIMEZONE
TZID:America/Los_Angeles
BEGIN:DAYLIGHT
TZOFFSETFROM:-0800
TZOFFSETTO:-0700
TZNAME:PDT
DTSTART:20160313T100000
END:DAYLIGHT
BEGIN:STANDARD
TZOFFSETFROM:-0700
TZOFFSETTO:-0800
TZNAME:PST
DTSTART:20161106T090000
END:STANDARD
BEGIN:DAYLIGHT
TZOFFSETFROM:-0800
TZOFFSETTO:-0700
TZNAME:PDT
DTSTART:20170312T100000
END:DAYLIGHT
BEGIN:STANDARD
TZOFFSETFROM:-0700
TZOFFSETTO:-0800
TZNAME:PST
DTSTART:20171105T090000
END:STANDARD
BEGIN:DAYLIGHT
TZOFFSETFROM:-0800
TZOFFSETTO:-0700
TZNAME:PDT
DTSTART:20180311T100000
END:DAYLIGHT
BEGIN:STANDARD
TZOFFSETFROM:-0700
TZOFFSETTO:-0800
TZNAME:PST
DTSTART:20181104T090000
END:STANDARD
END:VTIMEZONE
BEGIN:VEVENT
DTSTART;TZID=America/Los_Angeles:20171005T090000
DTEND;TZID=America/Los_Angeles:20171005T103000
DTSTAMP:20260421T120032
CREATED:20170921T124242Z
LAST-MODIFIED:20170921T182034Z
UID:5859-1507194000-1507199400@www.nlcww.org
SUMMARY:Property Committee
DESCRIPTION:
URL:https://www.nlcww.org/event/property-committee/
LOCATION:Al Lien Hall
END:VEVENT
BEGIN:VEVENT
DTSTART;TZID=America/Los_Angeles:20171005T090000
DTEND;TZID=America/Los_Angeles:20171005T110000
DTSTAMP:20260421T120032
CREATED:20170921T124322Z
LAST-MODIFIED:20170921T182028Z
UID:5861-1507194000-1507201200@www.nlcww.org
SUMMARY:TOPS
DESCRIPTION:
URL:https://www.nlcww.org/event/tops-12/
LOCATION:Winemiller Hall\, 6363 Commercial Way\, Weeki Wachee\, FL\, 34613
END:VEVENT
BEGIN:VEVENT
DTSTART;TZID=America/Los_Angeles:20171005T140000
DTEND;TZID=America/Los_Angeles:20171005T153000
DTSTAMP:20260421T120032
CREATED:20170925T123905Z
LAST-MODIFIED:20171004T165831Z
UID:5992-1507212000-1507217400@www.nlcww.org
SUMMARY:Communication Team
DESCRIPTION:
URL:https://www.nlcww.org/event/communication-team-3/
LOCATION:Library
END:VEVENT
BEGIN:VEVENT
DTSTART;TZID=America/Los_Angeles:20171005T183000
DTEND;TZID=America/Los_Angeles:20171005T203000
DTSTAMP:20260421T120032
CREATED:20170921T124439Z
LAST-MODIFIED:20170921T181936Z
UID:5863-1507228200-1507235400@www.nlcww.org
SUMMARY:Girl Scout Leaders
DESCRIPTION:
URL:https://www.nlcww.org/event/girl-scout-leaders-2/
LOCATION:Al Lien Hall
END:VEVENT
END:VCALENDAR