BEGIN:VCALENDAR
VERSION:2.0
PRODID:-//Nativity Lutheran Church - ECPv6.15.20//NONSGML v1.0//EN
CALSCALE:GREGORIAN
METHOD:PUBLISH
X-WR-CALNAME:Nativity Lutheran Church
X-ORIGINAL-URL:https://www.nlcww.org
X-WR-CALDESC:Events for Nativity Lutheran Church
REFRESH-INTERVAL;VALUE=DURATION:PT1H
X-Robots-Tag:noindex
X-PUBLISHED-TTL:PT1H
BEGIN:VTIMEZONE
TZID:America/Los_Angeles
BEGIN:DAYLIGHT
TZOFFSETFROM:-0800
TZOFFSETTO:-0700
TZNAME:PDT
DTSTART:20160313T100000
END:DAYLIGHT
BEGIN:STANDARD
TZOFFSETFROM:-0700
TZOFFSETTO:-0800
TZNAME:PST
DTSTART:20161106T090000
END:STANDARD
BEGIN:DAYLIGHT
TZOFFSETFROM:-0800
TZOFFSETTO:-0700
TZNAME:PDT
DTSTART:20170312T100000
END:DAYLIGHT
BEGIN:STANDARD
TZOFFSETFROM:-0700
TZOFFSETTO:-0800
TZNAME:PST
DTSTART:20171105T090000
END:STANDARD
BEGIN:DAYLIGHT
TZOFFSETFROM:-0800
TZOFFSETTO:-0700
TZNAME:PDT
DTSTART:20180311T100000
END:DAYLIGHT
BEGIN:STANDARD
TZOFFSETFROM:-0700
TZOFFSETTO:-0800
TZNAME:PST
DTSTART:20181104T090000
END:STANDARD
END:VTIMEZONE
BEGIN:VEVENT
DTSTART;TZID=America/Los_Angeles:20171004T100000
DTEND;TZID=America/Los_Angeles:20171004T110000
DTSTAMP:20260421T120259
CREATED:20170929T165641Z
LAST-MODIFIED:20170929T165641Z
UID:6064-1507111200-1507114800@www.nlcww.org
SUMMARY:Blessing of the Animals
DESCRIPTION:
URL:https://www.nlcww.org/event/blessing-of-the-animals/
LOCATION:Courtyard
END:VEVENT
BEGIN:VEVENT
DTSTART;TZID=America/Los_Angeles:20171004T123000
DTEND;TZID=America/Los_Angeles:20171004T150000
DTSTAMP:20260421T120259
CREATED:20170915T105550Z
LAST-MODIFIED:20170921T182049Z
UID:5776-1507120200-1507129200@www.nlcww.org
SUMMARY:Cards R Us
DESCRIPTION:Have some fun making cards and\, at the same time\, to help those in need through Pastor’s Discretionary Fund.   No experience needed.  All supplies and tools are provided.  We really can use your heart and hands. 
URL:https://www.nlcww.org/event/cards-r-us-5/
LOCATION:Winemiller Hall\, 6363 Commercial Way\, Weeki Wachee\, FL\, 34613
END:VEVENT
BEGIN:VEVENT
DTSTART;TZID=America/Los_Angeles:20171004T150000
DTEND;TZID=America/Los_Angeles:20171004T160000
DTSTAMP:20260421T120259
CREATED:20170926T195255Z
LAST-MODIFIED:20170926T195255Z
UID:6053-1507129200-1507132800@www.nlcww.org
SUMMARY:Website Training - Administrator
DESCRIPTION:
URL:https://www.nlcww.org/event/website-training-administrator-2/
LOCATION:Library
END:VEVENT
BEGIN:VEVENT
DTSTART;TZID=America/Los_Angeles:20171004T180000
DTEND;TZID=America/Los_Angeles:20171004T193000
DTSTAMP:20260421T120259
CREATED:20170921T123607Z
LAST-MODIFIED:20170921T182044Z
UID:5855-1507140000-1507145400@www.nlcww.org
SUMMARY:Choir
DESCRIPTION:
URL:https://www.nlcww.org/event/choir-5/
LOCATION:Sanctuary
END:VEVENT
BEGIN:VEVENT
DTSTART;TZID=America/Los_Angeles:20171004T180000
DTEND;TZID=America/Los_Angeles:20171004T193000
DTSTAMP:20260421T120259
CREATED:20170921T123647Z
LAST-MODIFIED:20170921T182039Z
UID:5857-1507140000-1507145400@www.nlcww.org
SUMMARY:Cub Scouts
DESCRIPTION:
URL:https://www.nlcww.org/event/cub-scouts-5/
LOCATION:Winemiller Hall\, 6363 Commercial Way\, Weeki Wachee\, FL\, 34613
END:VEVENT
END:VCALENDAR