BEGIN:VCALENDAR
VERSION:2.0
PRODID:-//Nativity Lutheran Church - ECPv6.15.20//NONSGML v1.0//EN
CALSCALE:GREGORIAN
METHOD:PUBLISH
X-WR-CALNAME:Nativity Lutheran Church
X-ORIGINAL-URL:https://www.nlcww.org
X-WR-CALDESC:Events for Nativity Lutheran Church
REFRESH-INTERVAL;VALUE=DURATION:PT1H
X-Robots-Tag:noindex
X-PUBLISHED-TTL:PT1H
BEGIN:VTIMEZONE
TZID:America/Los_Angeles
BEGIN:DAYLIGHT
TZOFFSETFROM:-0800
TZOFFSETTO:-0700
TZNAME:PDT
DTSTART:20160313T100000
END:DAYLIGHT
BEGIN:STANDARD
TZOFFSETFROM:-0700
TZOFFSETTO:-0800
TZNAME:PST
DTSTART:20161106T090000
END:STANDARD
BEGIN:DAYLIGHT
TZOFFSETFROM:-0800
TZOFFSETTO:-0700
TZNAME:PDT
DTSTART:20170312T100000
END:DAYLIGHT
BEGIN:STANDARD
TZOFFSETFROM:-0700
TZOFFSETTO:-0800
TZNAME:PST
DTSTART:20171105T090000
END:STANDARD
BEGIN:DAYLIGHT
TZOFFSETFROM:-0800
TZOFFSETTO:-0700
TZNAME:PDT
DTSTART:20180311T100000
END:DAYLIGHT
BEGIN:STANDARD
TZOFFSETFROM:-0700
TZOFFSETTO:-0800
TZNAME:PST
DTSTART:20181104T090000
END:STANDARD
END:VTIMEZONE
BEGIN:VEVENT
DTSTART;TZID=America/Los_Angeles:20170925T160000
DTEND;TZID=America/Los_Angeles:20170925T200000
DTSTAMP:20260421T133515
CREATED:20170904T141111Z
LAST-MODIFIED:20170904T141111Z
UID:5632-1506355200-1506369600@www.nlcww.org
SUMMARY:Mystery Dinner
DESCRIPTION:Our kickoff Mystery Dinner.  Meet at church at 4:00pm.  Deposits of $10.00 per person are accepted at Sunday church services.  Only 60 reservations available.  Cancellations accepted only up to September 17.
URL:https://www.nlcww.org/event/mystery-dinner/
END:VEVENT
BEGIN:VEVENT
DTSTART;TZID=America/Los_Angeles:20170925T190000
DTEND;TZID=America/Los_Angeles:20170925T210000
DTSTAMP:20260421T133515
CREATED:20170904T144308Z
LAST-MODIFIED:20170904T144308Z
UID:5684-1506366000-1506373200@www.nlcww.org
SUMMARY:Harmonizers
DESCRIPTION:
URL:https://www.nlcww.org/event/harmonizers-5/
END:VEVENT
END:VCALENDAR