BEGIN:VCALENDAR
VERSION:2.0
PRODID:-//Nativity Lutheran Church - ECPv6.15.20//NONSGML v1.0//EN
CALSCALE:GREGORIAN
METHOD:PUBLISH
X-ORIGINAL-URL:https://www.nlcww.org
X-WR-CALDESC:Events for Nativity Lutheran Church
REFRESH-INTERVAL;VALUE=DURATION:PT1H
X-Robots-Tag:noindex
X-PUBLISHED-TTL:PT1H
BEGIN:VTIMEZONE
TZID:America/Los_Angeles
BEGIN:DAYLIGHT
TZOFFSETFROM:-0800
TZOFFSETTO:-0700
TZNAME:PDT
DTSTART:20160313T100000
END:DAYLIGHT
BEGIN:STANDARD
TZOFFSETFROM:-0700
TZOFFSETTO:-0800
TZNAME:PST
DTSTART:20161106T090000
END:STANDARD
BEGIN:DAYLIGHT
TZOFFSETFROM:-0800
TZOFFSETTO:-0700
TZNAME:PDT
DTSTART:20170312T100000
END:DAYLIGHT
BEGIN:STANDARD
TZOFFSETFROM:-0700
TZOFFSETTO:-0800
TZNAME:PST
DTSTART:20171105T090000
END:STANDARD
BEGIN:DAYLIGHT
TZOFFSETFROM:-0800
TZOFFSETTO:-0700
TZNAME:PDT
DTSTART:20180311T100000
END:DAYLIGHT
BEGIN:STANDARD
TZOFFSETFROM:-0700
TZOFFSETTO:-0800
TZNAME:PST
DTSTART:20181104T090000
END:STANDARD
END:VTIMEZONE
BEGIN:VEVENT
DTSTART;TZID=America/Los_Angeles:20170625T094500
DTEND;TZID=America/Los_Angeles:20170625T104500
DTSTAMP:20260421T181316
CREATED:20170618T161917Z
LAST-MODIFIED:20170619T175030Z
UID:4703-1498383900-1498387500@www.nlcww.org
SUMMARY:Paster Wee Reception
DESCRIPTION:Farewell for Pastor Kris Wee.  Please join us as we wish her well on her move to Minneapolis.
URL:https://www.nlcww.org/event/paster-wee-reception/
LOCATION:Winemiller Hall\, 6363 Commercial Way\, Weeki Wachee\, FL\, 34613
END:VEVENT
BEGIN:VEVENT
DTSTART;TZID=America/Los_Angeles:20170625T100000
DTEND;TZID=America/Los_Angeles:20170625T110000
DTSTAMP:20260421T181316
CREATED:20170618T162026Z
LAST-MODIFIED:20170618T163002Z
UID:4705-1498384800-1498388400@www.nlcww.org
SUMMARY:Adult Forum
DESCRIPTION: \n \nLuther’s Hymnody in Classical Music
URL:https://www.nlcww.org/event/adult-forum/
END:VEVENT
END:VCALENDAR